BEGIN:VCALENDAR
VERSION:2.0
PRODID:-//AFLabs urnik izvoz - fs//aflabs.si//SI
NAME:UL FS Urnik
X-WR-CALNAME:UL FS Urnik
DTSTAMP:20260425T184409Z
REFRESH-INTERVAL:PT1H
SOURCE:https://urnik.fs.uni-lj.si/en/teacher/1003/?day=2024-12-16&export=1
URL:https://urnik.fs.uni-lj.si/en/teacher/1003/?day=2024-12-16&export=1
X-PUBLISHED-TTL:PT1H
X-WR-TIMEZONE:Europe/Ljubljana
BEGIN:VTIMEZONE
TZID:Europe/Ljubljana
BEGIN:DAYLIGHT
DTSTART:20260329T020000
RDATE:20260329T020000
RDATE:20270328T020000
TZNAME:CEST
TZOFFSETFROM:+0100
TZOFFSETTO:+0200
END:DAYLIGHT
BEGIN:STANDARD
DTSTART:20261025T030000
RDATE:20261025T030000
RDATE:20271031T030000
TZNAME:CET
TZOFFSETFROM:+0200
TZOFFSETTO:+0100
END:STANDARD
END:VTIMEZONE
BEGIN:VEVENT
SUMMARY:sestanek LICeM in Viharjenje
DTSTART;TZID=Europe/Ljubljana:20241007T140000
DTEND;TZID=Europe/Ljubljana:20241007T150000
DTSTAMP:20260425T184409Z
UID:fs-AFLABS-URNIK:rezervacija:8085
CATEGORIES:Reservation
COLOR:royalblue
DESCRIPTION:Predmeti: \nLetniki: \nIzvajalci: Tomaž Katrašnik\, Jacinta 
 Podbršček\nProstori: Lecture hall II/3A
LOCATION:Lecture hall II/3A
ORGANIZER:Tomaž Katrašnik, Jacinta Podbršček
X-WR-TIMEZONE:Europe/Ljubljana
END:VEVENT
BEGIN:VEVENT
SUMMARY:sestanek LICeM in Viharjenje
DTSTART;TZID=Europe/Ljubljana:20241021T140000
DTEND;TZID=Europe/Ljubljana:20241021T150000
DTSTAMP:20260425T184409Z
UID:fs-AFLABS-URNIK:rezervacija:8086
CATEGORIES:Reservation
COLOR:royalblue
DESCRIPTION:Predmeti: \nLetniki: \nIzvajalci: Tomaž Katrašnik\, Jacinta 
 Podbršček\nProstori: Lecture hall II/3A
LOCATION:Lecture hall II/3A
ORGANIZER:Tomaž Katrašnik, Jacinta Podbršček
X-WR-TIMEZONE:Europe/Ljubljana
END:VEVENT
BEGIN:VEVENT
SUMMARY:sestanek LICeM in Viharjenje
DTSTART;TZID=Europe/Ljubljana:20241028T140000
DTEND;TZID=Europe/Ljubljana:20241028T150000
DTSTAMP:20260425T184409Z
UID:fs-AFLABS-URNIK:rezervacija:8087
CATEGORIES:Reservation
COLOR:royalblue
DESCRIPTION:Predmeti: \nLetniki: \nIzvajalci: Tomaž Katrašnik\, Jacinta 
 Podbršček\nProstori: Lecture hall II/3A
LOCATION:Lecture hall II/3A
ORGANIZER:Tomaž Katrašnik, Jacinta Podbršček
X-WR-TIMEZONE:Europe/Ljubljana
END:VEVENT
BEGIN:VEVENT
SUMMARY:sestanek LICeM in Viharjenje
DTSTART;TZID=Europe/Ljubljana:20241104T140000
DTEND;TZID=Europe/Ljubljana:20241104T150000
DTSTAMP:20260425T184409Z
UID:fs-AFLABS-URNIK:rezervacija:8088
CATEGORIES:Reservation
COLOR:royalblue
DESCRIPTION:Predmeti: \nLetniki: \nIzvajalci: Tomaž Katrašnik\, Jacinta 
 Podbršček\nProstori: Lecture hall II/3A
LOCATION:Lecture hall II/3A
ORGANIZER:Tomaž Katrašnik, Jacinta Podbršček
X-WR-TIMEZONE:Europe/Ljubljana
END:VEVENT
BEGIN:VEVENT
SUMMARY:sestanek LICeM in Viharjenje
DTSTART;TZID=Europe/Ljubljana:20241111T140000
DTEND;TZID=Europe/Ljubljana:20241111T150000
DTSTAMP:20260425T184409Z
UID:fs-AFLABS-URNIK:rezervacija:8089
CATEGORIES:Reservation
COLOR:royalblue
DESCRIPTION:Predmeti: \nLetniki: \nIzvajalci: Tomaž Katrašnik\, Jacinta 
 Podbršček\nProstori: Lecture hall II/3A
LOCATION:Lecture hall II/3A
ORGANIZER:Tomaž Katrašnik, Jacinta Podbršček
X-WR-TIMEZONE:Europe/Ljubljana
END:VEVENT
BEGIN:VEVENT
SUMMARY:sestanek LICeM in Viharjenje
DTSTART;TZID=Europe/Ljubljana:20241118T140000
DTEND;TZID=Europe/Ljubljana:20241118T150000
DTSTAMP:20260425T184409Z
UID:fs-AFLABS-URNIK:rezervacija:8090
CATEGORIES:Reservation
COLOR:royalblue
DESCRIPTION:Predmeti: \nLetniki: \nIzvajalci: Tomaž Katrašnik\, Jacinta 
 Podbršček\nProstori: Lecture hall II/3A
LOCATION:Lecture hall II/3A
ORGANIZER:Tomaž Katrašnik, Jacinta Podbršček
X-WR-TIMEZONE:Europe/Ljubljana
END:VEVENT
BEGIN:VEVENT
SUMMARY:sestanek LICeM in Viharjenje
DTSTART;TZID=Europe/Ljubljana:20241125T140000
DTEND;TZID=Europe/Ljubljana:20241125T150000
DTSTAMP:20260425T184409Z
UID:fs-AFLABS-URNIK:rezervacija:8091
CATEGORIES:Reservation
COLOR:royalblue
DESCRIPTION:Predmeti: \nLetniki: \nIzvajalci: Tomaž Katrašnik\, Jacinta 
 Podbršček\nProstori: Lecture hall II/3A
LOCATION:Lecture hall II/3A
ORGANIZER:Tomaž Katrašnik, Jacinta Podbršček
X-WR-TIMEZONE:Europe/Ljubljana
END:VEVENT
BEGIN:VEVENT
SUMMARY:sestanek LICeM in Viharjenje
DTSTART;TZID=Europe/Ljubljana:20241202T140000
DTEND;TZID=Europe/Ljubljana:20241202T150000
DTSTAMP:20260425T184409Z
UID:fs-AFLABS-URNIK:rezervacija:8092
CATEGORIES:Reservation
COLOR:royalblue
DESCRIPTION:Predmeti: \nLetniki: \nIzvajalci: Tomaž Katrašnik\, Jacinta 
 Podbršček\nProstori: Lecture hall II/3A
LOCATION:Lecture hall II/3A
ORGANIZER:Tomaž Katrašnik, Jacinta Podbršček
X-WR-TIMEZONE:Europe/Ljubljana
END:VEVENT
BEGIN:VEVENT
SUMMARY:sestanek LICeM in Viharjenje
DTSTART;TZID=Europe/Ljubljana:20241209T140000
DTEND;TZID=Europe/Ljubljana:20241209T150000
DTSTAMP:20260425T184409Z
UID:fs-AFLABS-URNIK:rezervacija:8093
CATEGORIES:Reservation
COLOR:royalblue
DESCRIPTION:Predmeti: \nLetniki: \nIzvajalci: Tomaž Katrašnik\, Jacinta 
 Podbršček\nProstori: Lecture hall II/3A
LOCATION:Lecture hall II/3A
ORGANIZER:Tomaž Katrašnik, Jacinta Podbršček
X-WR-TIMEZONE:Europe/Ljubljana
END:VEVENT
BEGIN:VEVENT
SUMMARY:sestanek LICeM in Viharjenje
DTSTART;TZID=Europe/Ljubljana:20241216T140000
DTEND;TZID=Europe/Ljubljana:20241216T150000
DTSTAMP:20260425T184409Z
UID:fs-AFLABS-URNIK:rezervacija:8094
CATEGORIES:Reservation
COLOR:royalblue
DESCRIPTION:Predmeti: \nLetniki: \nIzvajalci: Tomaž Katrašnik\, Jacinta 
 Podbršček\nProstori: Lecture hall II/3A
LOCATION:Lecture hall II/3A
ORGANIZER:Tomaž Katrašnik, Jacinta Podbršček
X-WR-TIMEZONE:Europe/Ljubljana
END:VEVENT
BEGIN:VEVENT
SUMMARY:sestanek LICeM in Viharjenje
DTSTART;TZID=Europe/Ljubljana:20241223T140000
DTEND;TZID=Europe/Ljubljana:20241223T150000
DTSTAMP:20260425T184409Z
UID:fs-AFLABS-URNIK:rezervacija:8095
CATEGORIES:Reservation
COLOR:royalblue
DESCRIPTION:Predmeti: \nLetniki: \nIzvajalci: Tomaž Katrašnik\, Jacinta 
 Podbršček\nProstori: Lecture hall II/3A
LOCATION:Lecture hall II/3A
ORGANIZER:Tomaž Katrašnik, Jacinta Podbršček
X-WR-TIMEZONE:Europe/Ljubljana
END:VEVENT
BEGIN:VEVENT
SUMMARY:sestanek LICeM in Viharjenje
DTSTART;TZID=Europe/Ljubljana:20241230T140000
DTEND;TZID=Europe/Ljubljana:20241230T150000
DTSTAMP:20260425T184409Z
UID:fs-AFLABS-URNIK:rezervacija:8096
CATEGORIES:Reservation
COLOR:royalblue
DESCRIPTION:Predmeti: \nLetniki: \nIzvajalci: Tomaž Katrašnik\, Jacinta 
 Podbršček\nProstori: Lecture hall II/3A
LOCATION:Lecture hall II/3A
ORGANIZER:Tomaž Katrašnik, Jacinta Podbršček
X-WR-TIMEZONE:Europe/Ljubljana
END:VEVENT
BEGIN:VEVENT
SUMMARY:sestanek LICeM in Viharjenje
DTSTART;TZID=Europe/Ljubljana:20250106T140000
DTEND;TZID=Europe/Ljubljana:20250106T150000
DTSTAMP:20260425T184409Z
UID:fs-AFLABS-URNIK:rezervacija:8097
CATEGORIES:Reservation
COLOR:royalblue
DESCRIPTION:Predmeti: \nLetniki: \nIzvajalci: Tomaž Katrašnik\, Jacinta 
 Podbršček\nProstori: Lecture hall II/3A
LOCATION:Lecture hall II/3A
ORGANIZER:Tomaž Katrašnik, Jacinta Podbršček
X-WR-TIMEZONE:Europe/Ljubljana
END:VEVENT
BEGIN:VEVENT
SUMMARY:sestanek LICeM in Viharjenje
DTSTART;TZID=Europe/Ljubljana:20250113T140000
DTEND;TZID=Europe/Ljubljana:20250113T150000
DTSTAMP:20260425T184409Z
UID:fs-AFLABS-URNIK:rezervacija:8098
CATEGORIES:Reservation
COLOR:royalblue
DESCRIPTION:Predmeti: \nLetniki: \nIzvajalci: Tomaž Katrašnik\, Jacinta 
 Podbršček\nProstori: Lecture hall II/3A
LOCATION:Lecture hall II/3A
ORGANIZER:Tomaž Katrašnik, Jacinta Podbršček
X-WR-TIMEZONE:Europe/Ljubljana
END:VEVENT
BEGIN:VEVENT
SUMMARY:sestanek LICeM in Viharjenje
DTSTART;TZID=Europe/Ljubljana:20250120T140000
DTEND;TZID=Europe/Ljubljana:20250120T150000
DTSTAMP:20260425T184409Z
UID:fs-AFLABS-URNIK:rezervacija:8099
CATEGORIES:Reservation
COLOR:royalblue
DESCRIPTION:Predmeti: \nLetniki: \nIzvajalci: Tomaž Katrašnik\, Jacinta 
 Podbršček\nProstori: Lecture hall II/3A
LOCATION:Lecture hall II/3A
ORGANIZER:Tomaž Katrašnik, Jacinta Podbršček
X-WR-TIMEZONE:Europe/Ljubljana
END:VEVENT
BEGIN:VEVENT
SUMMARY:sestanek LICeM
DTSTART;TZID=Europe/Ljubljana:20241015T103000
DTEND;TZID=Europe/Ljubljana:20241015T113000
DTSTAMP:20260425T184409Z
UID:fs-AFLABS-URNIK:rezervacija:8100
CATEGORIES:Reservation
COLOR:royalblue
DESCRIPTION:Predmeti: \nLetniki: \nIzvajalci: Tomaž Katrašnik\, Jacinta 
 Podbršček\nProstori: Lecture hall II/5
LOCATION:Lecture hall II/5
ORGANIZER:Tomaž Katrašnik, Jacinta Podbršček
X-WR-TIMEZONE:Europe/Ljubljana
END:VEVENT
BEGIN:VEVENT
SUMMARY:LICeM Viharjenje
DTSTART;TZID=Europe/Ljubljana:20241014T140000
DTEND;TZID=Europe/Ljubljana:20241014T150000
DTSTAMP:20260425T184409Z
UID:fs-AFLABS-URNIK:rezervacija:8104
CATEGORIES:Reservation
COLOR:royalblue
DESCRIPTION:Predmeti: \nLetniki: \nIzvajalci: Jacinta Podbršček\nProstor
 i: Lecture hall II/3A
LOCATION:Lecture hall II/3A
ORGANIZER:Jacinta Podbršček
X-WR-TIMEZONE:Europe/Ljubljana
END:VEVENT
BEGIN:VEVENT
SUMMARY:sestanek Licem
DTSTART;TZID=Europe/Ljubljana:20241118T133000
DTEND;TZID=Europe/Ljubljana:20241118T140000
DTSTAMP:20260425T184409Z
UID:fs-AFLABS-URNIK:rezervacija:8607
CATEGORIES:Reservation
COLOR:royalblue
DESCRIPTION:Predmeti: \nLetniki: \nIzvajalci: Tomaž Katrašnik\, Jacinta 
 Podbršček\nProstori: Lecture hall III/3A
LOCATION:Lecture hall III/3A
ORGANIZER:Tomaž Katrašnik, Jacinta Podbršček
X-WR-TIMEZONE:Europe/Ljubljana
END:VEVENT
END:VCALENDAR
