BEGIN:VCALENDAR
VERSION:2.0
PRODID:-//AFLabs urnik izvoz - fs//aflabs.si//SI
NAME:UL FS Urnik
X-WR-CALNAME:UL FS Urnik
DTSTAMP:20260425T164421Z
REFRESH-INTERVAL:PT1H
SOURCE:https://urnik.fs.uni-lj.si/en/teacher/1004/?day=2024-10-14&export=1
URL:https://urnik.fs.uni-lj.si/en/teacher/1004/?day=2024-10-14&export=1
X-PUBLISHED-TTL:PT1H
X-WR-TIMEZONE:Europe/Ljubljana
BEGIN:VTIMEZONE
TZID:Europe/Ljubljana
BEGIN:DAYLIGHT
DTSTART:20260329T020000
RDATE:20260329T020000
RDATE:20270328T020000
TZNAME:CEST
TZOFFSETFROM:+0100
TZOFFSETTO:+0200
END:DAYLIGHT
BEGIN:STANDARD
DTSTART:20261025T030000
RDATE:20261025T030000
RDATE:20271031T030000
TZNAME:CET
TZOFFSETFROM:+0200
TZOFFSETTO:+0100
END:STANDARD
END:VTIMEZONE
BEGIN:VEVENT
SUMMARY:Drives (PGNR)\, Laboratory excercises (VL)\, [S6]
DTSTART;TZID=Europe/Ljubljana:20241007T080000
DTEND;TZID=Europe/Ljubljana:20241007T100000
DTSTAMP:20260425T164421Z
UID:fs-AFLABS-URNIK:srecanje:12581-2024-10-07 08:00:00+02:00
DESCRIPTION:Predmet: Drives (PGNR)\, Laboratory excercises (VL)\, [S6]\nLe
 tniki: RRP-3 (RRP-3)\nIzvajalci: Andraž Kravos\, Igor Mele\, Matej Prijat
 elj\, Valentina Šimić Škraba\, Klemen Zelič\, Anton Žnidarčič\nPros
 tor: Laboratory LICEM SK-15
END:VEVENT
BEGIN:VEVENT
SUMMARY:Drives (PGNR)\, Laboratory excercises (VL)\, [S6]
DTSTART;TZID=Europe/Ljubljana:20241014T080000
DTEND;TZID=Europe/Ljubljana:20241014T100000
DTSTAMP:20260425T164421Z
UID:fs-AFLABS-URNIK:srecanje:12581-2024-10-14 08:00:00+02:00
DESCRIPTION:Predmet: Drives (PGNR)\, Laboratory excercises (VL)\, [S6]\nLe
 tniki: RRP-3 (RRP-3)\nIzvajalci: Andraž Kravos\, Igor Mele\, Matej Prijat
 elj\, Valentina Šimić Škraba\, Klemen Zelič\, Anton Žnidarčič\nPros
 tor: Laboratory LICEM SK-15
END:VEVENT
BEGIN:VEVENT
SUMMARY:Drives (PGNR)\, Laboratory excercises (VL)\, [S6]
DTSTART;TZID=Europe/Ljubljana:20241021T080000
DTEND;TZID=Europe/Ljubljana:20241021T100000
DTSTAMP:20260425T164421Z
UID:fs-AFLABS-URNIK:srecanje:12581-2024-10-21 08:00:00+02:00
DESCRIPTION:Predmet: Drives (PGNR)\, Laboratory excercises (VL)\, [S6]\nLe
 tniki: RRP-3 (RRP-3)\nIzvajalci: Andraž Kravos\, Igor Mele\, Matej Prijat
 elj\, Valentina Šimić Škraba\, Klemen Zelič\, Anton Žnidarčič\nPros
 tor: Laboratory LICEM SK-15
END:VEVENT
BEGIN:VEVENT
SUMMARY:Drives (PGNR)\, Laboratory excercises (VL)\, [S6]
DTSTART;TZID=Europe/Ljubljana:20241104T080000
DTEND;TZID=Europe/Ljubljana:20241104T100000
DTSTAMP:20260425T164421Z
UID:fs-AFLABS-URNIK:srecanje:12581-2024-11-04 08:00:00+01:00
DESCRIPTION:Predmet: Drives (PGNR)\, Laboratory excercises (VL)\, [S6]\nLe
 tniki: RRP-3 (RRP-3)\nIzvajalci: Andraž Kravos\, Igor Mele\, Matej Prijat
 elj\, Valentina Šimić Škraba\, Klemen Zelič\, Anton Žnidarčič\nPros
 tor: Laboratory LICEM SK-15
END:VEVENT
BEGIN:VEVENT
SUMMARY:Drives (PGNR)\, Laboratory excercises (VL)\, [S6]
DTSTART;TZID=Europe/Ljubljana:20241111T080000
DTEND;TZID=Europe/Ljubljana:20241111T100000
DTSTAMP:20260425T164421Z
UID:fs-AFLABS-URNIK:srecanje:12581-2024-11-11 08:00:00+01:00
DESCRIPTION:Predmet: Drives (PGNR)\, Laboratory excercises (VL)\, [S6]\nLe
 tniki: RRP-3 (RRP-3)\nIzvajalci: Andraž Kravos\, Igor Mele\, Matej Prijat
 elj\, Valentina Šimić Škraba\, Klemen Zelič\, Anton Žnidarčič\nPros
 tor: Laboratory LICEM SK-15
END:VEVENT
BEGIN:VEVENT
SUMMARY:Drives (PGNR)\, Laboratory excercises (VL)\, [S6]
DTSTART;TZID=Europe/Ljubljana:20241118T080000
DTEND;TZID=Europe/Ljubljana:20241118T100000
DTSTAMP:20260425T164421Z
UID:fs-AFLABS-URNIK:srecanje:12581-2024-11-18 08:00:00+01:00
DESCRIPTION:Predmet: Drives (PGNR)\, Laboratory excercises (VL)\, [S6]\nLe
 tniki: RRP-3 (RRP-3)\nIzvajalci: Andraž Kravos\, Igor Mele\, Matej Prijat
 elj\, Valentina Šimić Škraba\, Klemen Zelič\, Anton Žnidarčič\nPros
 tor: Laboratory LICEM SK-15
END:VEVENT
BEGIN:VEVENT
SUMMARY:Drives (PGNR)\, Laboratory excercises (VL)\, [S16]
DTSTART;TZID=Europe/Ljubljana:20241010T160000
DTEND;TZID=Europe/Ljubljana:20241010T180000
DTSTAMP:20260425T164421Z
UID:fs-AFLABS-URNIK:srecanje:12593-2024-10-10 16:00:00+02:00
DESCRIPTION:Predmet: Drives (PGNR)\, Laboratory excercises (VL)\, [S16]\nL
 etniki: RRP-3 (RRP-3)\nIzvajalci: Matej Prijatelj\, Valentina Šimić Škr
 aba\, Jožica Sterle\nProstor: Laboratory LICEM SK-15
END:VEVENT
BEGIN:VEVENT
SUMMARY:Drives (PGNR)\, Laboratory excercises (VL)\, [S16]
DTSTART;TZID=Europe/Ljubljana:20241017T160000
DTEND;TZID=Europe/Ljubljana:20241017T180000
DTSTAMP:20260425T164421Z
UID:fs-AFLABS-URNIK:srecanje:12593-2024-10-17 16:00:00+02:00
DESCRIPTION:Predmet: Drives (PGNR)\, Laboratory excercises (VL)\, [S16]\nL
 etniki: RRP-3 (RRP-3)\nIzvajalci: Matej Prijatelj\, Valentina Šimić Škr
 aba\, Jožica Sterle\nProstor: Laboratory LICEM SK-15
END:VEVENT
BEGIN:VEVENT
SUMMARY:Drives (PGNR)\, Laboratory excercises (VL)\, [S16]
DTSTART;TZID=Europe/Ljubljana:20241024T160000
DTEND;TZID=Europe/Ljubljana:20241024T180000
DTSTAMP:20260425T164421Z
UID:fs-AFLABS-URNIK:srecanje:12593-2024-10-24 16:00:00+02:00
DESCRIPTION:Predmet: Drives (PGNR)\, Laboratory excercises (VL)\, [S16]\nL
 etniki: RRP-3 (RRP-3)\nIzvajalci: Matej Prijatelj\, Valentina Šimić Škr
 aba\, Jožica Sterle\nProstor: Laboratory LICEM SK-15
END:VEVENT
BEGIN:VEVENT
SUMMARY:Drives (PGNR)\, Laboratory excercises (VL)\, [S16]
DTSTART;TZID=Europe/Ljubljana:20241107T160000
DTEND;TZID=Europe/Ljubljana:20241107T180000
DTSTAMP:20260425T164421Z
UID:fs-AFLABS-URNIK:srecanje:12593-2024-11-07 16:00:00+01:00
DESCRIPTION:Predmet: Drives (PGNR)\, Laboratory excercises (VL)\, [S16]\nL
 etniki: RRP-3 (RRP-3)\nIzvajalci: Matej Prijatelj\, Valentina Šimić Škr
 aba\, Jožica Sterle\nProstor: Laboratory LICEM SK-15
END:VEVENT
BEGIN:VEVENT
SUMMARY:Drives (PGNR)\, Laboratory excercises (VL)\, [S16]
DTSTART;TZID=Europe/Ljubljana:20241114T160000
DTEND;TZID=Europe/Ljubljana:20241114T180000
DTSTAMP:20260425T164421Z
UID:fs-AFLABS-URNIK:srecanje:12593-2024-11-14 16:00:00+01:00
DESCRIPTION:Predmet: Drives (PGNR)\, Laboratory excercises (VL)\, [S16]\nL
 etniki: RRP-3 (RRP-3)\nIzvajalci: Matej Prijatelj\, Valentina Šimić Škr
 aba\, Jožica Sterle\nProstor: Laboratory LICEM SK-15
END:VEVENT
BEGIN:VEVENT
SUMMARY:Drives (PGNR)\, Laboratory excercises (VL)\, [S16]
DTSTART;TZID=Europe/Ljubljana:20241121T160000
DTEND;TZID=Europe/Ljubljana:20241121T180000
DTSTAMP:20260425T164421Z
UID:fs-AFLABS-URNIK:srecanje:12593-2024-11-21 16:00:00+01:00
DESCRIPTION:Predmet: Drives (PGNR)\, Laboratory excercises (VL)\, [S16]\nL
 etniki: RRP-3 (RRP-3)\nIzvajalci: Matej Prijatelj\, Valentina Šimić Škr
 aba\, Jožica Sterle\nProstor: Laboratory LICEM SK-15
END:VEVENT
BEGIN:VEVENT
SUMMARY:Drives (PGNR)\, Laboratory excercises (VL)\, [S16]
DTSTART;TZID=Europe/Ljubljana:20241028T160000
DTEND;TZID=Europe/Ljubljana:20241028T180000
DTSTAMP:20260425T164421Z
UID:fs-AFLABS-URNIK:premaknjeno-srecanje:101854
ATTENDEE:RRP-3 (RRP-3)
CATEGORIES:Entry,Special
COLOR:forestgreen
DESCRIPTION:Predmet: Drives (PGNR)\, Laboratory excercises (VL)\, [S16]\nL
 etniki: RRP-3 (RRP-3)\nIzvajalci: Matej Prijatelj\, Valentina Šimić Škr
 aba\, Jožica Sterle\nProstor: Laboratory LICEM SK-15
LOCATION:Laboratory LICEM SK-15
ORGANIZER:Matej Prijatelj, Valentina Šimić Škraba, Jožica Sterle
RELATED-TO:fs-AFLABS-URNIK:srecanje:14067
X-WR-TIMEZONE:Europe/Ljubljana
END:VEVENT
BEGIN:VEVENT
SUMMARY:Drives (PGNR)\, Laboratory excercises (VL)\, [S16]
DTSTART;TZID=Europe/Ljubljana:20241219T160000
DTEND;TZID=Europe/Ljubljana:20241219T180000
DTSTAMP:20260425T164421Z
UID:fs-AFLABS-URNIK:srecanje:12616-2024-12-19 16:00:00+01:00
DESCRIPTION:Predmet: Drives (PGNR)\, Laboratory excercises (VL)\, [S16]\nL
 etniki: RRP-3 (RRP-3)\nIzvajalci: Matej Prijatelj\, Valentina Šimić Škr
 aba\, Jožica Sterle\nProstor: Laboratory TINT TiNT 3
END:VEVENT
BEGIN:VEVENT
SUMMARY:Drives (PGNR)\, Laboratory excercises (VL)\, [S16]
DTSTART;TZID=Europe/Ljubljana:20250109T160000
DTEND;TZID=Europe/Ljubljana:20250109T180000
DTSTAMP:20260425T164421Z
UID:fs-AFLABS-URNIK:srecanje:12616-2025-01-09 16:00:00+01:00
DESCRIPTION:Predmet: Drives (PGNR)\, Laboratory excercises (VL)\, [S16]\nL
 etniki: RRP-3 (RRP-3)\nIzvajalci: Matej Prijatelj\, Valentina Šimić Škr
 aba\, Jožica Sterle\nProstor: Laboratory TINT TiNT 3
END:VEVENT
END:VCALENDAR
