BEGIN:VCALENDAR
VERSION:2.0
PRODID:-//AFLabs urnik izvoz - fs//aflabs.si//SI
NAME:UL FS Urnik
X-WR-CALNAME:UL FS Urnik
DTSTAMP:20260421T214544Z
REFRESH-INTERVAL:PT1H
SOURCE:https://urnik.fs.uni-lj.si/en/teacher/1009/?day=2025-01-06&export=1
URL:https://urnik.fs.uni-lj.si/en/teacher/1009/?day=2025-01-06&export=1
X-PUBLISHED-TTL:PT1H
X-WR-TIMEZONE:Europe/Ljubljana
BEGIN:VTIMEZONE
TZID:Europe/Ljubljana
BEGIN:DAYLIGHT
DTSTART:20260329T020000
RDATE:20260329T020000
RDATE:20270328T020000
TZNAME:CEST
TZOFFSETFROM:+0100
TZOFFSETTO:+0200
END:DAYLIGHT
BEGIN:STANDARD
DTSTART:20261025T030000
RDATE:20261025T030000
RDATE:20271031T030000
TZNAME:CET
TZOFFSETFROM:+0200
TZOFFSETTO:+0100
END:STANDARD
END:VTIMEZONE
BEGIN:VEVENT
SUMMARY:Innovation in Mechanical Engineering - PAP (IVSP)\, Lectures (P)
DTSTART;TZID=Europe/Ljubljana:20241007T153000
DTEND;TZID=Europe/Ljubljana:20241007T183000
DTSTAMP:20260421T214544Z
UID:fs-AFLABS-URNIK:srecanje:6664-2024-10-07 15:30:00+02:00
DESCRIPTION:Predmet: Innovation in Mechanical Engineering - PAP (IVSP)\, L
 ectures (P)\nLetniki: Design of industrial systems (PAP-3)\, Design of mac
 hines and devices (PAP-3)\, Energy engineering (PAP-3)\, Mechatronics (PAP
 -3)\, Process engineering (PAP-3)\, Production engineering (PAP-3)\, Produ
 ction technologies (PAP-3)\nIzvajalci: Andrej Kos\, Mojca Volk\nProstor: L
 ecture hall IV/4
END:VEVENT
BEGIN:VEVENT
SUMMARY:Innovation in Mechanical Engineering - PAP (IVSP)\, Lectures (P)
DTSTART;TZID=Europe/Ljubljana:20241118T153000
DTEND;TZID=Europe/Ljubljana:20241118T183000
DTSTAMP:20260421T214544Z
UID:fs-AFLABS-URNIK:srecanje:6664-2024-11-18 15:30:00+01:00
DESCRIPTION:Predmet: Innovation in Mechanical Engineering - PAP (IVSP)\, L
 ectures (P)\nLetniki: Design of industrial systems (PAP-3)\, Design of mac
 hines and devices (PAP-3)\, Energy engineering (PAP-3)\, Mechatronics (PAP
 -3)\, Process engineering (PAP-3)\, Production engineering (PAP-3)\, Produ
 ction technologies (PAP-3)\nIzvajalci: Andrej Kos\, Mojca Volk\nProstor: L
 ecture hall IV/4
END:VEVENT
BEGIN:VEVENT
SUMMARY:Innovation in Mechanical Engineering - PAP (IVSP)\, Lectures (P)
DTSTART;TZID=Europe/Ljubljana:20241209T153000
DTEND;TZID=Europe/Ljubljana:20241209T183000
DTSTAMP:20260421T214544Z
UID:fs-AFLABS-URNIK:srecanje:6664-2024-12-09 15:30:00+01:00
DESCRIPTION:Predmet: Innovation in Mechanical Engineering - PAP (IVSP)\, L
 ectures (P)\nLetniki: Design of industrial systems (PAP-3)\, Design of mac
 hines and devices (PAP-3)\, Energy engineering (PAP-3)\, Mechatronics (PAP
 -3)\, Process engineering (PAP-3)\, Production engineering (PAP-3)\, Produ
 ction technologies (PAP-3)\nIzvajalci: Andrej Kos\, Mojca Volk\nProstor: L
 ecture hall IV/4
END:VEVENT
BEGIN:VEVENT
SUMMARY:Innovation in Mechanical Engineering - PAP (IVSP)\, Lectures (P)
DTSTART;TZID=Europe/Ljubljana:20241230T153000
DTEND;TZID=Europe/Ljubljana:20241230T183000
DTSTAMP:20260421T214544Z
UID:fs-AFLABS-URNIK:srecanje:6664-2024-12-30 15:30:00+01:00
DESCRIPTION:Predmet: Innovation in Mechanical Engineering - PAP (IVSP)\, L
 ectures (P)\nLetniki: Design of industrial systems (PAP-3)\, Design of mac
 hines and devices (PAP-3)\, Energy engineering (PAP-3)\, Mechatronics (PAP
 -3)\, Process engineering (PAP-3)\, Production engineering (PAP-3)\, Produ
 ction technologies (PAP-3)\nIzvajalci: Andrej Kos\, Mojca Volk\nProstor: L
 ecture hall IV/4
END:VEVENT
BEGIN:VEVENT
SUMMARY:Innovation in Mechanical Engineering - PAP (IVSP)\, Lectures (P)
DTSTART;TZID=Europe/Ljubljana:20250120T153000
DTEND;TZID=Europe/Ljubljana:20250120T183000
DTSTAMP:20260421T214544Z
UID:fs-AFLABS-URNIK:srecanje:6664-2025-01-20 15:30:00+01:00
DESCRIPTION:Predmet: Innovation in Mechanical Engineering - PAP (IVSP)\, L
 ectures (P)\nLetniki: Design of industrial systems (PAP-3)\, Design of mac
 hines and devices (PAP-3)\, Energy engineering (PAP-3)\, Mechatronics (PAP
 -3)\, Process engineering (PAP-3)\, Production engineering (PAP-3)\, Produ
 ction technologies (PAP-3)\nIzvajalci: Andrej Kos\, Mojca Volk\nProstor: L
 ecture hall IV/4
END:VEVENT
BEGIN:VEVENT
SUMMARY:Innovation in Mechanical Engineering - PAP (IVSP)\, Lecture exerci
 ses (VP)\, [S1]
DTSTART;TZID=Europe/Ljubljana:20241014T153000
DTEND;TZID=Europe/Ljubljana:20241014T183000
DTSTAMP:20260421T214544Z
UID:fs-AFLABS-URNIK:srecanje:6665-2024-10-14 15:30:00+02:00
DESCRIPTION:Predmet: Innovation in Mechanical Engineering - PAP (IVSP)\, L
 ecture exercises (VP)\, [S1]\nLetniki: Design of industrial systems (PAP-3
 )\, Design of machines and devices (PAP-3)\, Energy engineering (PAP-3)\, 
 Mechatronics (PAP-3)\, Process engineering (PAP-3)\, Production engineerin
 g (PAP-3)\, Production technologies (PAP-3)\nIzvajalci: Andrej Kos\, Mojca
  Volk\nProstor: Lecture hall IV/4
END:VEVENT
BEGIN:VEVENT
SUMMARY:Innovation in Mechanical Engineering - PAP (IVSP)\, Lecture exerci
 ses (VP)\, [S1]
DTSTART;TZID=Europe/Ljubljana:20241104T153000
DTEND;TZID=Europe/Ljubljana:20241104T183000
DTSTAMP:20260421T214544Z
UID:fs-AFLABS-URNIK:srecanje:6665-2024-11-04 15:30:00+01:00
DESCRIPTION:Predmet: Innovation in Mechanical Engineering - PAP (IVSP)\, L
 ecture exercises (VP)\, [S1]\nLetniki: Design of industrial systems (PAP-3
 )\, Design of machines and devices (PAP-3)\, Energy engineering (PAP-3)\, 
 Mechatronics (PAP-3)\, Process engineering (PAP-3)\, Production engineerin
 g (PAP-3)\, Production technologies (PAP-3)\nIzvajalci: Andrej Kos\, Mojca
  Volk\nProstor: Lecture hall IV/4
END:VEVENT
BEGIN:VEVENT
SUMMARY:Innovation in Mechanical Engineering - PAP (IVSP)\, Lecture exerci
 ses (VP)\, [S1]
DTSTART;TZID=Europe/Ljubljana:20241125T153000
DTEND;TZID=Europe/Ljubljana:20241125T183000
DTSTAMP:20260421T214544Z
UID:fs-AFLABS-URNIK:srecanje:6665-2024-11-25 15:30:00+01:00
DESCRIPTION:Predmet: Innovation in Mechanical Engineering - PAP (IVSP)\, L
 ecture exercises (VP)\, [S1]\nLetniki: Design of industrial systems (PAP-3
 )\, Design of machines and devices (PAP-3)\, Energy engineering (PAP-3)\, 
 Mechatronics (PAP-3)\, Process engineering (PAP-3)\, Production engineerin
 g (PAP-3)\, Production technologies (PAP-3)\nIzvajalci: Andrej Kos\, Mojca
  Volk\nProstor: Lecture hall IV/4
END:VEVENT
BEGIN:VEVENT
SUMMARY:Innovation in Mechanical Engineering - PAP (IVSP)\, Lecture exerci
 ses (VP)\, [S1]
DTSTART;TZID=Europe/Ljubljana:20241216T153000
DTEND;TZID=Europe/Ljubljana:20241216T183000
DTSTAMP:20260421T214544Z
UID:fs-AFLABS-URNIK:srecanje:6665-2024-12-16 15:30:00+01:00
DESCRIPTION:Predmet: Innovation in Mechanical Engineering - PAP (IVSP)\, L
 ecture exercises (VP)\, [S1]\nLetniki: Design of industrial systems (PAP-3
 )\, Design of machines and devices (PAP-3)\, Energy engineering (PAP-3)\, 
 Mechatronics (PAP-3)\, Process engineering (PAP-3)\, Production engineerin
 g (PAP-3)\, Production technologies (PAP-3)\nIzvajalci: Andrej Kos\, Mojca
  Volk\nProstor: Lecture hall IV/4
END:VEVENT
BEGIN:VEVENT
SUMMARY:Innovation in Mechanical Engineering - PAP (IVSP)\, Lecture exerci
 ses (VP)\, [S1]
DTSTART;TZID=Europe/Ljubljana:20250106T153000
DTEND;TZID=Europe/Ljubljana:20250106T183000
DTSTAMP:20260421T214544Z
UID:fs-AFLABS-URNIK:srecanje:6665-2025-01-06 15:30:00+01:00
DESCRIPTION:Predmet: Innovation in Mechanical Engineering - PAP (IVSP)\, L
 ecture exercises (VP)\, [S1]\nLetniki: Design of industrial systems (PAP-3
 )\, Design of machines and devices (PAP-3)\, Energy engineering (PAP-3)\, 
 Mechatronics (PAP-3)\, Process engineering (PAP-3)\, Production engineerin
 g (PAP-3)\, Production technologies (PAP-3)\nIzvajalci: Andrej Kos\, Mojca
  Volk\nProstor: Lecture hall IV/4
END:VEVENT
BEGIN:VEVENT
SUMMARY:Innovation in Mechanical Engineering - PAP (IVSP)\, Lecture exerci
 ses (VP)\, [S2]
DTSTART;TZID=Europe/Ljubljana:20241021T153000
DTEND;TZID=Europe/Ljubljana:20241021T183000
DTSTAMP:20260421T214544Z
UID:fs-AFLABS-URNIK:srecanje:6666-2024-10-21 15:30:00+02:00
DESCRIPTION:Predmet: Innovation in Mechanical Engineering - PAP (IVSP)\, L
 ecture exercises (VP)\, [S2]\nLetniki: Design of industrial systems (PAP-3
 )\, Design of machines and devices (PAP-3)\, Energy engineering (PAP-3)\, 
 Mechatronics (PAP-3)\, Process engineering (PAP-3)\, Production engineerin
 g (PAP-3)\, Production technologies (PAP-3)\nIzvajalci: Andrej Kos\, Mojca
  Volk\nProstor: Lecture hall IV/4
END:VEVENT
BEGIN:VEVENT
SUMMARY:Innovation in Mechanical Engineering - PAP (IVSP)\, Lecture exerci
 ses (VP)\, [S2]
DTSTART;TZID=Europe/Ljubljana:20241111T153000
DTEND;TZID=Europe/Ljubljana:20241111T183000
DTSTAMP:20260421T214544Z
UID:fs-AFLABS-URNIK:srecanje:6666-2024-11-11 15:30:00+01:00
DESCRIPTION:Predmet: Innovation in Mechanical Engineering - PAP (IVSP)\, L
 ecture exercises (VP)\, [S2]\nLetniki: Design of industrial systems (PAP-3
 )\, Design of machines and devices (PAP-3)\, Energy engineering (PAP-3)\, 
 Mechatronics (PAP-3)\, Process engineering (PAP-3)\, Production engineerin
 g (PAP-3)\, Production technologies (PAP-3)\nIzvajalci: Andrej Kos\, Mojca
  Volk\nProstor: Lecture hall IV/4
END:VEVENT
BEGIN:VEVENT
SUMMARY:Innovation in Mechanical Engineering - PAP (IVSP)\, Lecture exerci
 ses (VP)\, [S2]
DTSTART;TZID=Europe/Ljubljana:20241202T153000
DTEND;TZID=Europe/Ljubljana:20241202T183000
DTSTAMP:20260421T214544Z
UID:fs-AFLABS-URNIK:srecanje:6666-2024-12-02 15:30:00+01:00
DESCRIPTION:Predmet: Innovation in Mechanical Engineering - PAP (IVSP)\, L
 ecture exercises (VP)\, [S2]\nLetniki: Design of industrial systems (PAP-3
 )\, Design of machines and devices (PAP-3)\, Energy engineering (PAP-3)\, 
 Mechatronics (PAP-3)\, Process engineering (PAP-3)\, Production engineerin
 g (PAP-3)\, Production technologies (PAP-3)\nIzvajalci: Andrej Kos\, Mojca
  Volk\nProstor: Lecture hall IV/4
END:VEVENT
BEGIN:VEVENT
SUMMARY:Innovation in Mechanical Engineering - PAP (IVSP)\, Lecture exerci
 ses (VP)\, [S2]
DTSTART;TZID=Europe/Ljubljana:20241223T153000
DTEND;TZID=Europe/Ljubljana:20241223T183000
DTSTAMP:20260421T214544Z
UID:fs-AFLABS-URNIK:srecanje:6666-2024-12-23 15:30:00+01:00
DESCRIPTION:Predmet: Innovation in Mechanical Engineering - PAP (IVSP)\, L
 ecture exercises (VP)\, [S2]\nLetniki: Design of industrial systems (PAP-3
 )\, Design of machines and devices (PAP-3)\, Energy engineering (PAP-3)\, 
 Mechatronics (PAP-3)\, Process engineering (PAP-3)\, Production engineerin
 g (PAP-3)\, Production technologies (PAP-3)\nIzvajalci: Andrej Kos\, Mojca
  Volk\nProstor: Lecture hall IV/4
END:VEVENT
BEGIN:VEVENT
SUMMARY:Innovation in Mechanical Engineering - PAP (IVSP)\, Lecture exerci
 ses (VP)\, [S2]
DTSTART;TZID=Europe/Ljubljana:20250113T153000
DTEND;TZID=Europe/Ljubljana:20250113T183000
DTSTAMP:20260421T214544Z
UID:fs-AFLABS-URNIK:srecanje:6666-2025-01-13 15:30:00+01:00
DESCRIPTION:Predmet: Innovation in Mechanical Engineering - PAP (IVSP)\, L
 ecture exercises (VP)\, [S2]\nLetniki: Design of industrial systems (PAP-3
 )\, Design of machines and devices (PAP-3)\, Energy engineering (PAP-3)\, 
 Mechatronics (PAP-3)\, Process engineering (PAP-3)\, Production engineerin
 g (PAP-3)\, Production technologies (PAP-3)\nIzvajalci: Andrej Kos\, Mojca
  Volk\nProstor: Lecture hall IV/4
END:VEVENT
END:VCALENDAR
