BEGIN:VCALENDAR
VERSION:2.0
PRODID:-//AFLabs urnik izvoz - fs//aflabs.si//SI
NAME:UL FS Urnik
X-WR-CALNAME:UL FS Urnik
DTSTAMP:20260422T033109Z
REFRESH-INTERVAL:PT1H
SOURCE:https://urnik.fs.uni-lj.si/en/teacher/1012/?day=2025-10-06&export=1
URL:https://urnik.fs.uni-lj.si/en/teacher/1012/?day=2025-10-06&export=1
X-PUBLISHED-TTL:PT1H
X-WR-TIMEZONE:Europe/Ljubljana
BEGIN:VTIMEZONE
TZID:Europe/Ljubljana
BEGIN:DAYLIGHT
DTSTART:20260329T020000
RDATE:20260329T020000
RDATE:20270328T020000
TZNAME:CEST
TZOFFSETFROM:+0100
TZOFFSETTO:+0200
END:DAYLIGHT
BEGIN:STANDARD
DTSTART:20261025T030000
RDATE:20261025T030000
RDATE:20271031T030000
TZNAME:CET
TZOFFSETFROM:+0200
TZOFFSETTO:+0100
END:STANDARD
END:VTIMEZONE
BEGIN:VEVENT
SUMMARY:Advanced combustion processes (NPZM)\, Laboratory excercises (VL)\
 , [S1]
DTSTART;TZID=Europe/Ljubljana:20251023T120000
DTEND;TZID=Europe/Ljubljana:20251023T140000
DTSTAMP:20260422T033109Z
UID:fs-AFLABS-URNIK:srecanje:16662-2025-10-23 12:00:00+02:00
DESCRIPTION:Predmet: Advanced combustion processes (NPZM)\, Laboratory exc
 ercises (VL)\, [S1]\nLetniki: Energy engineering (MAG-1)\nIzvajalci: Bošt
 jan Drobnič\, Peter Sambol\, Emilija Todorovski\, Filip Todorovski\, Anto
 n Žnidarčič\nProstor: Laboratory LTE SI-60A
END:VEVENT
BEGIN:VEVENT
SUMMARY:Advanced combustion processes (NPZM)\, Laboratory excercises (VL)\
 , [S1]
DTSTART;TZID=Europe/Ljubljana:20251030T120000
DTEND;TZID=Europe/Ljubljana:20251030T140000
DTSTAMP:20260422T033109Z
UID:fs-AFLABS-URNIK:srecanje:16662-2025-10-30 12:00:00+01:00
DESCRIPTION:Predmet: Advanced combustion processes (NPZM)\, Laboratory exc
 ercises (VL)\, [S1]\nLetniki: Energy engineering (MAG-1)\nIzvajalci: Bošt
 jan Drobnič\, Peter Sambol\, Emilija Todorovski\, Filip Todorovski\, Anto
 n Žnidarčič\nProstor: Laboratory LTE SI-60A
END:VEVENT
BEGIN:VEVENT
SUMMARY:Advanced combustion processes (NPZM)\, Laboratory excercises (VL)\
 , [S1]
DTSTART;TZID=Europe/Ljubljana:20251106T120000
DTEND;TZID=Europe/Ljubljana:20251106T140000
DTSTAMP:20260422T033109Z
UID:fs-AFLABS-URNIK:srecanje:16662-2025-11-06 12:00:00+01:00
DESCRIPTION:Predmet: Advanced combustion processes (NPZM)\, Laboratory exc
 ercises (VL)\, [S1]\nLetniki: Energy engineering (MAG-1)\nIzvajalci: Bošt
 jan Drobnič\, Peter Sambol\, Emilija Todorovski\, Filip Todorovski\, Anto
 n Žnidarčič\nProstor: Laboratory LTE SI-60A
END:VEVENT
BEGIN:VEVENT
SUMMARY:Advanced combustion processes (NPZM)\, Laboratory excercises (VL)\
 , [S1]
DTSTART;TZID=Europe/Ljubljana:20251113T120000
DTEND;TZID=Europe/Ljubljana:20251113T140000
DTSTAMP:20260422T033109Z
UID:fs-AFLABS-URNIK:srecanje:16662-2025-11-13 12:00:00+01:00
DESCRIPTION:Predmet: Advanced combustion processes (NPZM)\, Laboratory exc
 ercises (VL)\, [S1]\nLetniki: Energy engineering (MAG-1)\nIzvajalci: Bošt
 jan Drobnič\, Peter Sambol\, Emilija Todorovski\, Filip Todorovski\, Anto
 n Žnidarčič\nProstor: Laboratory LTE SI-60A
END:VEVENT
BEGIN:VEVENT
SUMMARY:Advanced combustion processes (NPZM)\, Laboratory excercises (VL)\
 , [S2]
DTSTART;TZID=Europe/Ljubljana:20251023T140000
DTEND;TZID=Europe/Ljubljana:20251023T160000
DTSTAMP:20260422T033109Z
UID:fs-AFLABS-URNIK:srecanje:16664-2025-10-23 14:00:00+02:00
DESCRIPTION:Predmet: Advanced combustion processes (NPZM)\, Laboratory exc
 ercises (VL)\, [S2]\nLetniki: Energy engineering (MAG-1)\nIzvajalci: Bošt
 jan Drobnič\, Emilija Todorovski\, Filip Todorovski\nProstor: Laboratory 
 LTE SI-60A
END:VEVENT
BEGIN:VEVENT
SUMMARY:Advanced combustion processes (NPZM)\, Laboratory excercises (VL)\
 , [S2]
DTSTART;TZID=Europe/Ljubljana:20251030T140000
DTEND;TZID=Europe/Ljubljana:20251030T160000
DTSTAMP:20260422T033109Z
UID:fs-AFLABS-URNIK:srecanje:16664-2025-10-30 14:00:00+01:00
DESCRIPTION:Predmet: Advanced combustion processes (NPZM)\, Laboratory exc
 ercises (VL)\, [S2]\nLetniki: Energy engineering (MAG-1)\nIzvajalci: Bošt
 jan Drobnič\, Emilija Todorovski\, Filip Todorovski\nProstor: Laboratory 
 LTE SI-60A
END:VEVENT
BEGIN:VEVENT
SUMMARY:Advanced combustion processes (NPZM)\, Laboratory excercises (VL)\
 , [S2]
DTSTART;TZID=Europe/Ljubljana:20251106T140000
DTEND;TZID=Europe/Ljubljana:20251106T160000
DTSTAMP:20260422T033109Z
UID:fs-AFLABS-URNIK:srecanje:16664-2025-11-06 14:00:00+01:00
DESCRIPTION:Predmet: Advanced combustion processes (NPZM)\, Laboratory exc
 ercises (VL)\, [S2]\nLetniki: Energy engineering (MAG-1)\nIzvajalci: Bošt
 jan Drobnič\, Emilija Todorovski\, Filip Todorovski\nProstor: Laboratory 
 LTE SI-60A
END:VEVENT
BEGIN:VEVENT
SUMMARY:Advanced combustion processes (NPZM)\, Laboratory excercises (VL)\
 , [S2]
DTSTART;TZID=Europe/Ljubljana:20251113T140000
DTEND;TZID=Europe/Ljubljana:20251113T160000
DTSTAMP:20260422T033109Z
UID:fs-AFLABS-URNIK:srecanje:16664-2025-11-13 14:00:00+01:00
DESCRIPTION:Predmet: Advanced combustion processes (NPZM)\, Laboratory exc
 ercises (VL)\, [S2]\nLetniki: Energy engineering (MAG-1)\nIzvajalci: Bošt
 jan Drobnič\, Emilija Todorovski\, Filip Todorovski\nProstor: Laboratory 
 LTE SI-60A
END:VEVENT
BEGIN:VEVENT
SUMMARY:Advanced combustion processes (NPZM)\, Laboratory excercises (VL)\
 , [S3]
DTSTART;TZID=Europe/Ljubljana:20251023T160000
DTEND;TZID=Europe/Ljubljana:20251023T180000
DTSTAMP:20260422T033109Z
UID:fs-AFLABS-URNIK:srecanje:16666-2025-10-23 16:00:00+02:00
DESCRIPTION:Predmet: Advanced combustion processes (NPZM)\, Laboratory exc
 ercises (VL)\, [S3]\nLetniki: Energy engineering (MAG-1)\nIzvajalci: Bošt
 jan Drobnič\, Emilija Todorovski\, Filip Todorovski\nProstor: Laboratory 
 LTE SI-60A
END:VEVENT
BEGIN:VEVENT
SUMMARY:Advanced combustion processes (NPZM)\, Laboratory excercises (VL)\
 , [S3]
DTSTART;TZID=Europe/Ljubljana:20251030T160000
DTEND;TZID=Europe/Ljubljana:20251030T180000
DTSTAMP:20260422T033109Z
UID:fs-AFLABS-URNIK:srecanje:16666-2025-10-30 16:00:00+01:00
DESCRIPTION:Predmet: Advanced combustion processes (NPZM)\, Laboratory exc
 ercises (VL)\, [S3]\nLetniki: Energy engineering (MAG-1)\nIzvajalci: Bošt
 jan Drobnič\, Emilija Todorovski\, Filip Todorovski\nProstor: Laboratory 
 LTE SI-60A
END:VEVENT
BEGIN:VEVENT
SUMMARY:Advanced combustion processes (NPZM)\, Laboratory excercises (VL)\
 , [S3]
DTSTART;TZID=Europe/Ljubljana:20251106T160000
DTEND;TZID=Europe/Ljubljana:20251106T180000
DTSTAMP:20260422T033109Z
UID:fs-AFLABS-URNIK:srecanje:16666-2025-11-06 16:00:00+01:00
DESCRIPTION:Predmet: Advanced combustion processes (NPZM)\, Laboratory exc
 ercises (VL)\, [S3]\nLetniki: Energy engineering (MAG-1)\nIzvajalci: Bošt
 jan Drobnič\, Emilija Todorovski\, Filip Todorovski\nProstor: Laboratory 
 LTE SI-60A
END:VEVENT
BEGIN:VEVENT
SUMMARY:Advanced combustion processes (NPZM)\, Laboratory excercises (VL)\
 , [S3]
DTSTART;TZID=Europe/Ljubljana:20251113T160000
DTEND;TZID=Europe/Ljubljana:20251113T180000
DTSTAMP:20260422T033109Z
UID:fs-AFLABS-URNIK:srecanje:16666-2025-11-13 16:00:00+01:00
DESCRIPTION:Predmet: Advanced combustion processes (NPZM)\, Laboratory exc
 ercises (VL)\, [S3]\nLetniki: Energy engineering (MAG-1)\nIzvajalci: Bošt
 jan Drobnič\, Emilija Todorovski\, Filip Todorovski\nProstor: Laboratory 
 LTE SI-60A
END:VEVENT
BEGIN:VEVENT
SUMMARY:Advanced combustion processes (NPZM)\, Laboratory excercises (VL)\
 , [S4]
DTSTART;TZID=Europe/Ljubljana:20251024T100000
DTEND;TZID=Europe/Ljubljana:20251024T120000
DTSTAMP:20260422T033109Z
UID:fs-AFLABS-URNIK:srecanje:16669-2025-10-24 10:00:00+02:00
DESCRIPTION:Predmet: Advanced combustion processes (NPZM)\, Laboratory exc
 ercises (VL)\, [S4]\nLetniki: Energy engineering (MAG-1)\nIzvajalci: Bošt
 jan Drobnič\, Emilija Todorovski\, Filip Todorovski\nProstor: Laboratory 
 LTE SI-60A
END:VEVENT
BEGIN:VEVENT
SUMMARY:Advanced combustion processes (NPZM)\, Laboratory excercises (VL)\
 , [S4]
DTSTART;TZID=Europe/Ljubljana:20251107T100000
DTEND;TZID=Europe/Ljubljana:20251107T120000
DTSTAMP:20260422T033109Z
UID:fs-AFLABS-URNIK:srecanje:16669-2025-11-07 10:00:00+01:00
DESCRIPTION:Predmet: Advanced combustion processes (NPZM)\, Laboratory exc
 ercises (VL)\, [S4]\nLetniki: Energy engineering (MAG-1)\nIzvajalci: Bošt
 jan Drobnič\, Emilija Todorovski\, Filip Todorovski\nProstor: Laboratory 
 LTE SI-60A
END:VEVENT
BEGIN:VEVENT
SUMMARY:Advanced combustion processes (NPZM)\, Laboratory excercises (VL)\
 , [S4]
DTSTART;TZID=Europe/Ljubljana:20251114T100000
DTEND;TZID=Europe/Ljubljana:20251114T120000
DTSTAMP:20260422T033109Z
UID:fs-AFLABS-URNIK:srecanje:16669-2025-11-14 10:00:00+01:00
DESCRIPTION:Predmet: Advanced combustion processes (NPZM)\, Laboratory exc
 ercises (VL)\, [S4]\nLetniki: Energy engineering (MAG-1)\nIzvajalci: Bošt
 jan Drobnič\, Emilija Todorovski\, Filip Todorovski\nProstor: Laboratory 
 LTE SI-60A
END:VEVENT
BEGIN:VEVENT
SUMMARY:Advanced combustion processes (NPZM)\, Laboratory excercises (VL)\
 , [S5]
DTSTART;TZID=Europe/Ljubljana:20251024T120000
DTEND;TZID=Europe/Ljubljana:20251024T140000
DTSTAMP:20260422T033109Z
UID:fs-AFLABS-URNIK:srecanje:16672-2025-10-24 12:00:00+02:00
DESCRIPTION:Predmet: Advanced combustion processes (NPZM)\, Laboratory exc
 ercises (VL)\, [S5]\nLetniki: Energy engineering (MAG-1)\nIzvajalci: Bošt
 jan Drobnič\, Emilija Todorovski\, Filip Todorovski\nProstor: Laboratory 
 LTE SI-60A
END:VEVENT
BEGIN:VEVENT
SUMMARY:Advanced combustion processes (NPZM)\, Laboratory excercises (VL)\
 , [S5]
DTSTART;TZID=Europe/Ljubljana:20251107T120000
DTEND;TZID=Europe/Ljubljana:20251107T140000
DTSTAMP:20260422T033109Z
UID:fs-AFLABS-URNIK:srecanje:16672-2025-11-07 12:00:00+01:00
DESCRIPTION:Predmet: Advanced combustion processes (NPZM)\, Laboratory exc
 ercises (VL)\, [S5]\nLetniki: Energy engineering (MAG-1)\nIzvajalci: Bošt
 jan Drobnič\, Emilija Todorovski\, Filip Todorovski\nProstor: Laboratory 
 LTE SI-60A
END:VEVENT
BEGIN:VEVENT
SUMMARY:Advanced combustion processes (NPZM)\, Laboratory excercises (VL)\
 , [S5]
DTSTART;TZID=Europe/Ljubljana:20251114T120000
DTEND;TZID=Europe/Ljubljana:20251114T140000
DTSTAMP:20260422T033109Z
UID:fs-AFLABS-URNIK:srecanje:16672-2025-11-14 12:00:00+01:00
DESCRIPTION:Predmet: Advanced combustion processes (NPZM)\, Laboratory exc
 ercises (VL)\, [S5]\nLetniki: Energy engineering (MAG-1)\nIzvajalci: Bošt
 jan Drobnič\, Emilija Todorovski\, Filip Todorovski\nProstor: Laboratory 
 LTE SI-60A
END:VEVENT
BEGIN:VEVENT
SUMMARY:Advanced combustion processes (NPZM)\, Laboratory excercises (VL)\
 , [S6]
DTSTART;TZID=Europe/Ljubljana:20251024T140000
DTEND;TZID=Europe/Ljubljana:20251024T160000
DTSTAMP:20260422T033109Z
UID:fs-AFLABS-URNIK:srecanje:16675-2025-10-24 14:00:00+02:00
DESCRIPTION:Predmet: Advanced combustion processes (NPZM)\, Laboratory exc
 ercises (VL)\, [S6]\nLetniki: Energy engineering (MAG-1)\nIzvajalci: Andra
 ž Kravos\, Emilija Todorovski\, Filip Todorovski\nProstor: Laboratory LTE
  SI-60A
END:VEVENT
BEGIN:VEVENT
SUMMARY:Advanced combustion processes (NPZM)\, Laboratory excercises (VL)\
 , [S6]
DTSTART;TZID=Europe/Ljubljana:20251107T140000
DTEND;TZID=Europe/Ljubljana:20251107T160000
DTSTAMP:20260422T033109Z
UID:fs-AFLABS-URNIK:srecanje:16675-2025-11-07 14:00:00+01:00
DESCRIPTION:Predmet: Advanced combustion processes (NPZM)\, Laboratory exc
 ercises (VL)\, [S6]\nLetniki: Energy engineering (MAG-1)\nIzvajalci: Andra
 ž Kravos\, Emilija Todorovski\, Filip Todorovski\nProstor: Laboratory LTE
  SI-60A
END:VEVENT
BEGIN:VEVENT
SUMMARY:Advanced combustion processes (NPZM)\, Laboratory excercises (VL)\
 , [S6]
DTSTART;TZID=Europe/Ljubljana:20251114T140000
DTEND;TZID=Europe/Ljubljana:20251114T160000
DTSTAMP:20260422T033109Z
UID:fs-AFLABS-URNIK:srecanje:16675-2025-11-14 14:00:00+01:00
DESCRIPTION:Predmet: Advanced combustion processes (NPZM)\, Laboratory exc
 ercises (VL)\, [S6]\nLetniki: Energy engineering (MAG-1)\nIzvajalci: Andra
 ž Kravos\, Emilija Todorovski\, Filip Todorovski\nProstor: Laboratory LTE
  SI-60A
END:VEVENT
BEGIN:VEVENT
SUMMARY:Energy supply in circular economy (EKGM)\, Laboratory excercises (
 VL)\, [S2]
DTSTART;TZID=Europe/Ljubljana:20251127T140000
DTEND;TZID=Europe/Ljubljana:20251127T160000
DTSTAMP:20260422T033109Z
UID:fs-AFLABS-URNIK:srecanje:16830-2025-11-27 14:00:00+01:00
DESCRIPTION:Predmet: Energy supply in circular economy (EKGM)\, Laboratory
  excercises (VL)\, [S2]\nLetniki: Energy engineering (MAG-2)\nIzvajalci: J
 ure Gramc\, Mitja Mori\, Emilija Todorovski\, Filip Todorovski\nProstor: L
 aboratory LTE SI-60A
END:VEVENT
BEGIN:VEVENT
SUMMARY:Energy supply in circular economy (EKGM)\, Laboratory excercises (
 VL)\, [S2]
DTSTART;TZID=Europe/Ljubljana:20251204T140000
DTEND;TZID=Europe/Ljubljana:20251204T160000
DTSTAMP:20260422T033109Z
UID:fs-AFLABS-URNIK:srecanje:16830-2025-12-04 14:00:00+01:00
DESCRIPTION:Predmet: Energy supply in circular economy (EKGM)\, Laboratory
  excercises (VL)\, [S2]\nLetniki: Energy engineering (MAG-2)\nIzvajalci: J
 ure Gramc\, Mitja Mori\, Emilija Todorovski\, Filip Todorovski\nProstor: L
 aboratory LTE SI-60A
END:VEVENT
BEGIN:VEVENT
SUMMARY:Energy supply in circular economy (EKGM)\, Laboratory excercises (
 VL)\, [S2]
DTSTART;TZID=Europe/Ljubljana:20251211T140000
DTEND;TZID=Europe/Ljubljana:20251211T160000
DTSTAMP:20260422T033109Z
UID:fs-AFLABS-URNIK:srecanje:16830-2025-12-11 14:00:00+01:00
DESCRIPTION:Predmet: Energy supply in circular economy (EKGM)\, Laboratory
  excercises (VL)\, [S2]\nLetniki: Energy engineering (MAG-2)\nIzvajalci: J
 ure Gramc\, Mitja Mori\, Emilija Todorovski\, Filip Todorovski\nProstor: L
 aboratory LTE SI-60A
END:VEVENT
BEGIN:VEVENT
SUMMARY:Energy supply in circular economy (EKGM)\, Laboratory excercises (
 VL)\, [S2]
DTSTART;TZID=Europe/Ljubljana:20251218T140000
DTEND;TZID=Europe/Ljubljana:20251218T160000
DTSTAMP:20260422T033109Z
UID:fs-AFLABS-URNIK:srecanje:16830-2025-12-18 14:00:00+01:00
DESCRIPTION:Predmet: Energy supply in circular economy (EKGM)\, Laboratory
  excercises (VL)\, [S2]\nLetniki: Energy engineering (MAG-2)\nIzvajalci: J
 ure Gramc\, Mitja Mori\, Emilija Todorovski\, Filip Todorovski\nProstor: L
 aboratory LTE SI-60A
END:VEVENT
BEGIN:VEVENT
SUMMARY:Energy supply in circular economy (EKGM)\, Laboratory excercises (
 VL)\, [S2]
DTSTART;TZID=Europe/Ljubljana:20251225T140000
DTEND;TZID=Europe/Ljubljana:20251225T160000
DTSTAMP:20260422T033109Z
UID:fs-AFLABS-URNIK:srecanje:16830-2025-12-25 14:00:00+01:00
DESCRIPTION:Predmet: Energy supply in circular economy (EKGM)\, Laboratory
  excercises (VL)\, [S2]\nLetniki: Energy engineering (MAG-2)\nIzvajalci: J
 ure Gramc\, Mitja Mori\, Emilija Todorovski\, Filip Todorovski\nProstor: L
 aboratory LTE SI-60A
END:VEVENT
BEGIN:VEVENT
SUMMARY:Energy supply in circular economy (EKGM)\, Laboratory excercises (
 VL)\, [S2]
DTSTART;TZID=Europe/Ljubljana:20260108T140000
DTEND;TZID=Europe/Ljubljana:20260108T160000
DTSTAMP:20260422T033109Z
UID:fs-AFLABS-URNIK:srecanje:16830-2026-01-08 14:00:00+01:00
DESCRIPTION:Predmet: Energy supply in circular economy (EKGM)\, Laboratory
  excercises (VL)\, [S2]\nLetniki: Energy engineering (MAG-2)\nIzvajalci: J
 ure Gramc\, Mitja Mori\, Emilija Todorovski\, Filip Todorovski\nProstor: L
 aboratory LTE SI-60A
END:VEVENT
BEGIN:VEVENT
SUMMARY:Energy supply in circular economy (EKGM)\, Laboratory excercises (
 VL)\, [S3]
DTSTART;TZID=Europe/Ljubljana:20251128T100000
DTEND;TZID=Europe/Ljubljana:20251128T120000
DTSTAMP:20260422T033109Z
UID:fs-AFLABS-URNIK:srecanje:16834-2025-11-28 10:00:00+01:00
DESCRIPTION:Predmet: Energy supply in circular economy (EKGM)\, Laboratory
  excercises (VL)\, [S3]\nLetniki: Energy engineering (MAG-2)\nIzvajalci: B
 oštjan Drobnič\, Jure Gramc\, Mitja Mori\, Emilija Todorovski\, Filip To
 dorovski\nProstor: Laboratory LTE SI-60A
END:VEVENT
BEGIN:VEVENT
SUMMARY:Energy supply in circular economy (EKGM)\, Laboratory excercises (
 VL)\, [S3]
DTSTART;TZID=Europe/Ljubljana:20251205T100000
DTEND;TZID=Europe/Ljubljana:20251205T120000
DTSTAMP:20260422T033109Z
UID:fs-AFLABS-URNIK:srecanje:16834-2025-12-05 10:00:00+01:00
DESCRIPTION:Predmet: Energy supply in circular economy (EKGM)\, Laboratory
  excercises (VL)\, [S3]\nLetniki: Energy engineering (MAG-2)\nIzvajalci: B
 oštjan Drobnič\, Jure Gramc\, Mitja Mori\, Emilija Todorovski\, Filip To
 dorovski\nProstor: Laboratory LTE SI-60A
END:VEVENT
BEGIN:VEVENT
SUMMARY:Energy supply in circular economy (EKGM)\, Laboratory excercises (
 VL)\, [S3]
DTSTART;TZID=Europe/Ljubljana:20251212T100000
DTEND;TZID=Europe/Ljubljana:20251212T120000
DTSTAMP:20260422T033109Z
UID:fs-AFLABS-URNIK:srecanje:16834-2025-12-12 10:00:00+01:00
DESCRIPTION:Predmet: Energy supply in circular economy (EKGM)\, Laboratory
  excercises (VL)\, [S3]\nLetniki: Energy engineering (MAG-2)\nIzvajalci: B
 oštjan Drobnič\, Jure Gramc\, Mitja Mori\, Emilija Todorovski\, Filip To
 dorovski\nProstor: Laboratory LTE SI-60A
END:VEVENT
BEGIN:VEVENT
SUMMARY:Energy supply in circular economy (EKGM)\, Laboratory excercises (
 VL)\, [S3]
DTSTART;TZID=Europe/Ljubljana:20251219T100000
DTEND;TZID=Europe/Ljubljana:20251219T120000
DTSTAMP:20260422T033109Z
UID:fs-AFLABS-URNIK:srecanje:16834-2025-12-19 10:00:00+01:00
DESCRIPTION:Predmet: Energy supply in circular economy (EKGM)\, Laboratory
  excercises (VL)\, [S3]\nLetniki: Energy engineering (MAG-2)\nIzvajalci: B
 oštjan Drobnič\, Jure Gramc\, Mitja Mori\, Emilija Todorovski\, Filip To
 dorovski\nProstor: Laboratory LTE SI-60A
END:VEVENT
BEGIN:VEVENT
SUMMARY:Energy supply in circular economy (EKGM)\, Laboratory excercises (
 VL)\, [S3]
DTSTART;TZID=Europe/Ljubljana:20251226T100000
DTEND;TZID=Europe/Ljubljana:20251226T120000
DTSTAMP:20260422T033109Z
UID:fs-AFLABS-URNIK:srecanje:16834-2025-12-26 10:00:00+01:00
DESCRIPTION:Predmet: Energy supply in circular economy (EKGM)\, Laboratory
  excercises (VL)\, [S3]\nLetniki: Energy engineering (MAG-2)\nIzvajalci: B
 oštjan Drobnič\, Jure Gramc\, Mitja Mori\, Emilija Todorovski\, Filip To
 dorovski\nProstor: Laboratory LTE SI-60A
END:VEVENT
BEGIN:VEVENT
SUMMARY:Energy supply in circular economy (EKGM)\, Laboratory excercises (
 VL)\, [S3]
DTSTART;TZID=Europe/Ljubljana:20260109T100000
DTEND;TZID=Europe/Ljubljana:20260109T120000
DTSTAMP:20260422T033109Z
UID:fs-AFLABS-URNIK:srecanje:16834-2026-01-09 10:00:00+01:00
DESCRIPTION:Predmet: Energy supply in circular economy (EKGM)\, Laboratory
  excercises (VL)\, [S3]\nLetniki: Energy engineering (MAG-2)\nIzvajalci: B
 oštjan Drobnič\, Jure Gramc\, Mitja Mori\, Emilija Todorovski\, Filip To
 dorovski\nProstor: Laboratory LTE SI-60A
END:VEVENT
BEGIN:VEVENT
SUMMARY:Energy supply in circular economy (EKGM)\, Laboratory excercises (
 VL)\, [S4]
DTSTART;TZID=Europe/Ljubljana:20251128T140000
DTEND;TZID=Europe/Ljubljana:20251128T160000
DTSTAMP:20260422T033109Z
UID:fs-AFLABS-URNIK:srecanje:16838-2025-11-28 14:00:00+01:00
DESCRIPTION:Predmet: Energy supply in circular economy (EKGM)\, Laboratory
  excercises (VL)\, [S4]\nLetniki: Energy engineering (MAG-2)\nIzvajalci: B
 oštjan Drobnič\, Jure Gramc\, Mitja Mori\, Emilija Todorovski\, Filip To
 dorovski\nProstor: Laboratory LTE SI-60A
END:VEVENT
BEGIN:VEVENT
SUMMARY:Energy supply in circular economy (EKGM)\, Laboratory excercises (
 VL)\, [S4]
DTSTART;TZID=Europe/Ljubljana:20251205T140000
DTEND;TZID=Europe/Ljubljana:20251205T160000
DTSTAMP:20260422T033109Z
UID:fs-AFLABS-URNIK:srecanje:16838-2025-12-05 14:00:00+01:00
DESCRIPTION:Predmet: Energy supply in circular economy (EKGM)\, Laboratory
  excercises (VL)\, [S4]\nLetniki: Energy engineering (MAG-2)\nIzvajalci: B
 oštjan Drobnič\, Jure Gramc\, Mitja Mori\, Emilija Todorovski\, Filip To
 dorovski\nProstor: Laboratory LTE SI-60A
END:VEVENT
BEGIN:VEVENT
SUMMARY:Energy supply in circular economy (EKGM)\, Laboratory excercises (
 VL)\, [S4]
DTSTART;TZID=Europe/Ljubljana:20251212T140000
DTEND;TZID=Europe/Ljubljana:20251212T160000
DTSTAMP:20260422T033109Z
UID:fs-AFLABS-URNIK:srecanje:16838-2025-12-12 14:00:00+01:00
DESCRIPTION:Predmet: Energy supply in circular economy (EKGM)\, Laboratory
  excercises (VL)\, [S4]\nLetniki: Energy engineering (MAG-2)\nIzvajalci: B
 oštjan Drobnič\, Jure Gramc\, Mitja Mori\, Emilija Todorovski\, Filip To
 dorovski\nProstor: Laboratory LTE SI-60A
END:VEVENT
BEGIN:VEVENT
SUMMARY:Energy supply in circular economy (EKGM)\, Laboratory excercises (
 VL)\, [S4]
DTSTART;TZID=Europe/Ljubljana:20251219T140000
DTEND;TZID=Europe/Ljubljana:20251219T160000
DTSTAMP:20260422T033109Z
UID:fs-AFLABS-URNIK:srecanje:16838-2025-12-19 14:00:00+01:00
DESCRIPTION:Predmet: Energy supply in circular economy (EKGM)\, Laboratory
  excercises (VL)\, [S4]\nLetniki: Energy engineering (MAG-2)\nIzvajalci: B
 oštjan Drobnič\, Jure Gramc\, Mitja Mori\, Emilija Todorovski\, Filip To
 dorovski\nProstor: Laboratory LTE SI-60A
END:VEVENT
BEGIN:VEVENT
SUMMARY:Energy supply in circular economy (EKGM)\, Laboratory excercises (
 VL)\, [S4]
DTSTART;TZID=Europe/Ljubljana:20251226T140000
DTEND;TZID=Europe/Ljubljana:20251226T160000
DTSTAMP:20260422T033109Z
UID:fs-AFLABS-URNIK:srecanje:16838-2025-12-26 14:00:00+01:00
DESCRIPTION:Predmet: Energy supply in circular economy (EKGM)\, Laboratory
  excercises (VL)\, [S4]\nLetniki: Energy engineering (MAG-2)\nIzvajalci: B
 oštjan Drobnič\, Jure Gramc\, Mitja Mori\, Emilija Todorovski\, Filip To
 dorovski\nProstor: Laboratory LTE SI-60A
END:VEVENT
BEGIN:VEVENT
SUMMARY:Energy supply in circular economy (EKGM)\, Laboratory excercises (
 VL)\, [S4]
DTSTART;TZID=Europe/Ljubljana:20260109T140000
DTEND;TZID=Europe/Ljubljana:20260109T160000
DTSTAMP:20260422T033109Z
UID:fs-AFLABS-URNIK:srecanje:16838-2026-01-09 14:00:00+01:00
DESCRIPTION:Predmet: Energy supply in circular economy (EKGM)\, Laboratory
  excercises (VL)\, [S4]\nLetniki: Energy engineering (MAG-2)\nIzvajalci: B
 oštjan Drobnič\, Jure Gramc\, Mitja Mori\, Emilija Todorovski\, Filip To
 dorovski\nProstor: Laboratory LTE SI-60A
END:VEVENT
END:VCALENDAR
