BEGIN:VCALENDAR
VERSION:2.0
PRODID:-//AFLabs urnik izvoz - fs//aflabs.si//SI
NAME:UL FS Urnik
X-WR-CALNAME:UL FS Urnik
DTSTAMP:20260423T183449Z
REFRESH-INTERVAL:PT1H
SOURCE:https://urnik.fs.uni-lj.si/en/teacher/1017/?day=2025-04-07&export=1
URL:https://urnik.fs.uni-lj.si/en/teacher/1017/?day=2025-04-07&export=1
X-PUBLISHED-TTL:PT1H
X-WR-TIMEZONE:Europe/Ljubljana
BEGIN:VTIMEZONE
TZID:Europe/Ljubljana
BEGIN:DAYLIGHT
DTSTART:20260329T020000
RDATE:20260329T020000
RDATE:20270328T020000
TZNAME:CEST
TZOFFSETFROM:+0100
TZOFFSETTO:+0200
END:DAYLIGHT
BEGIN:STANDARD
DTSTART:20261025T030000
RDATE:20261025T030000
RDATE:20271031T030000
TZNAME:CET
TZOFFSETFROM:+0200
TZOFFSETTO:+0100
END:STANDARD
END:VTIMEZONE
BEGIN:VEVENT
SUMMARY:Mikrodokazila: Osnovno upravljanje dronov
DTSTART;TZID=Europe/Ljubljana:20250312T160000
DTEND;TZID=Europe/Ljubljana:20250312T200000
DTSTAMP:20260423T183449Z
UID:fs-AFLABS-URNIK:rezervacija:9285
CATEGORIES:Reservation
COLOR:royalblue
DESCRIPTION:Predmeti: \nLetniki: \nIzvajalci: Branimir Filovski\, Igor Pet
 rović\nProstori: Lecture hall IV/3A
LOCATION:Lecture hall IV/3A
ORGANIZER:Branimir Filovski, Igor Petrović
X-WR-TIMEZONE:Europe/Ljubljana
END:VEVENT
BEGIN:VEVENT
SUMMARY:Mikrodokazila: Osnovno upravljanje dronov
DTSTART;TZID=Europe/Ljubljana:20250319T160000
DTEND;TZID=Europe/Ljubljana:20250319T200000
DTSTAMP:20260423T183449Z
UID:fs-AFLABS-URNIK:rezervacija:9286
CATEGORIES:Reservation
COLOR:royalblue
DESCRIPTION:Predmeti: \nLetniki: \nIzvajalci: Branimir Filovski\, Igor Pet
 rović\nProstori: Lecture hall IV/3A
LOCATION:Lecture hall IV/3A
ORGANIZER:Branimir Filovski, Igor Petrović
X-WR-TIMEZONE:Europe/Ljubljana
END:VEVENT
BEGIN:VEVENT
SUMMARY:Mikrodokazila: Osnovno upravljanje dronov
DTSTART;TZID=Europe/Ljubljana:20250313T160000
DTEND;TZID=Europe/Ljubljana:20250313T200000
DTSTAMP:20260423T183449Z
UID:fs-AFLABS-URNIK:rezervacija:9287
CATEGORIES:Reservation
COLOR:royalblue
DESCRIPTION:Predmeti: \nLetniki: \nIzvajalci: Branimir Filovski\, Igor Pet
 rović\nProstori: Lecture hall IV/3A
LOCATION:Lecture hall IV/3A
ORGANIZER:Branimir Filovski, Igor Petrović
X-WR-TIMEZONE:Europe/Ljubljana
END:VEVENT
BEGIN:VEVENT
SUMMARY:Mikrodokazila: Osnovno upravljanje dronov
DTSTART;TZID=Europe/Ljubljana:20250320T160000
DTEND;TZID=Europe/Ljubljana:20250320T200000
DTSTAMP:20260423T183449Z
UID:fs-AFLABS-URNIK:rezervacija:9288
CATEGORIES:Reservation
COLOR:royalblue
DESCRIPTION:Predmeti: \nLetniki: \nIzvajalci: Branimir Filovski\, Igor Pet
 rović\nProstori: Lecture hall IV/3A
LOCATION:Lecture hall IV/3A
ORGANIZER:Branimir Filovski, Igor Petrović
X-WR-TIMEZONE:Europe/Ljubljana
END:VEVENT
BEGIN:VEVENT
SUMMARY:Mikrodokazila: Osnovno upravljanje dronov
DTSTART;TZID=Europe/Ljubljana:20250314T160000
DTEND;TZID=Europe/Ljubljana:20250314T200000
DTSTAMP:20260423T183449Z
UID:fs-AFLABS-URNIK:rezervacija:9289
CATEGORIES:Reservation
COLOR:royalblue
DESCRIPTION:Predmeti: \nLetniki: \nIzvajalci: Branimir Filovski\, Igor Pet
 rović\nProstori: Lecture hall IV/3A
LOCATION:Lecture hall IV/3A
ORGANIZER:Branimir Filovski, Igor Petrović
X-WR-TIMEZONE:Europe/Ljubljana
END:VEVENT
BEGIN:VEVENT
SUMMARY:Mikrodokazila: Osnovno upravljanje dronov
DTSTART;TZID=Europe/Ljubljana:20250321T160000
DTEND;TZID=Europe/Ljubljana:20250321T200000
DTSTAMP:20260423T183449Z
UID:fs-AFLABS-URNIK:rezervacija:9290
CATEGORIES:Reservation
COLOR:royalblue
DESCRIPTION:Predmeti: \nLetniki: \nIzvajalci: Branimir Filovski\, Igor Pet
 rović\nProstori: Lecture hall IV/3A
LOCATION:Lecture hall IV/3A
ORGANIZER:Branimir Filovski, Igor Petrović
X-WR-TIMEZONE:Europe/Ljubljana
END:VEVENT
END:VCALENDAR
