BEGIN:VCALENDAR
VERSION:2.0
PRODID:-//AFLabs urnik izvoz - fs//aflabs.si//SI
NAME:UL FS Urnik
X-WR-CALNAME:UL FS Urnik
DTSTAMP:20260424T164854Z
REFRESH-INTERVAL:PT1H
SOURCE:https://urnik.fs.uni-lj.si/en/teacher/1024/?day=2025-06-30&export=1
URL:https://urnik.fs.uni-lj.si/en/teacher/1024/?day=2025-06-30&export=1
X-PUBLISHED-TTL:PT1H
X-WR-TIMEZONE:Europe/Ljubljana
BEGIN:VTIMEZONE
TZID:Europe/Ljubljana
BEGIN:DAYLIGHT
DTSTART:20260329T020000
RDATE:20260329T020000
RDATE:20270328T020000
TZNAME:CEST
TZOFFSETFROM:+0100
TZOFFSETTO:+0200
END:DAYLIGHT
BEGIN:STANDARD
DTSTART:20261025T030000
RDATE:20261025T030000
RDATE:20271031T030000
TZNAME:CET
TZOFFSETFROM:+0200
TZOFFSETTO:+0100
END:STANDARD
END:VTIMEZONE
BEGIN:VEVENT
SUMMARY:Control technology (KRTR)\, Lecture exercises (VP)\, [S1]
DTSTART;TZID=Europe/Ljubljana:20250528T160000
DTEND;TZID=Europe/Ljubljana:20250528T180000
DTSTAMP:20260424T164854Z
UID:fs-AFLABS-URNIK:premaknjeno-srecanje:72448
ATTENDEE:RRP-2 (RRP-2)
CATEGORIES:Entry,Special
COLOR:forestgreen
DESCRIPTION:Predmet: Control technology (KRTR)\, Lecture exercises (VP)\, 
 [S1]\nLetniki: RRP-2 (RRP-2)\nIzvajalci: Jure Dvoršak\, Andreja Malus\nPr
 ostor: Lecture hall IV/3B
LOCATION:Lecture hall IV/3B
ORGANIZER:Jure Dvoršak, Andreja Malus
RELATED-TO:fs-AFLABS-URNIK:srecanje:9623
X-WR-TIMEZONE:Europe/Ljubljana
END:VEVENT
BEGIN:VEVENT
SUMMARY:Advanced Sensory Systems and Networks (ASSE)\, Laboratory excercis
 es (VL)
DTSTART;TZID=Europe/Ljubljana:20250528T140000
DTEND;TZID=Europe/Ljubljana:20250528T160000
DTSTAMP:20260424T164854Z
UID:fs-AFLABS-URNIK:srecanje:15397-2025-05-28 14:00:00+02:00
DESCRIPTION:Predmet: Advanced Sensory Systems and Networks (ASSE)\, Labora
 tory excercises (VL)\nLetniki: Erasmus (Erasmus)\nIzvajalci: Jure Dvoršak
 \, Luka Selak\nProstor: Laboratory LAMPA SP-45A
END:VEVENT
BEGIN:VEVENT
SUMMARY:Control technology (KRTR)\, Lecture exercises (VP)\, [S2]
DTSTART;TZID=Europe/Ljubljana:20250529T120000
DTEND;TZID=Europe/Ljubljana:20250529T133000
DTSTAMP:20260424T164854Z
UID:fs-AFLABS-URNIK:premaknjeno-srecanje:72467
ATTENDEE:RRP-2 (RRP-2)
CATEGORIES:Entry,Special
COLOR:forestgreen
DESCRIPTION:Predmet: Control technology (KRTR)\, Lecture exercises (VP)\, 
 [S2]\nLetniki: RRP-2 (RRP-2)\nIzvajalci: Jure Dvoršak\, Andreja Malus\nPr
 ostor: Lecture hall II/3B
LOCATION:Lecture hall II/3B
ORGANIZER:Jure Dvoršak, Andreja Malus
RELATED-TO:fs-AFLABS-URNIK:srecanje:9625
X-WR-TIMEZONE:Europe/Ljubljana
END:VEVENT
BEGIN:VEVENT
SUMMARY:Control technology (KRTR)\, Lecture exercises (VP)\, [S3]
DTSTART;TZID=Europe/Ljubljana:20250530T140000
DTEND;TZID=Europe/Ljubljana:20250530T160000
DTSTAMP:20260424T164854Z
UID:fs-AFLABS-URNIK:premaknjeno-srecanje:72468
ATTENDEE:RRP-2 (RRP-2)
CATEGORIES:Entry,Special
COLOR:forestgreen
DESCRIPTION:Predmet: Control technology (KRTR)\, Lecture exercises (VP)\, 
 [S3]\nLetniki: RRP-2 (RRP-2)\nIzvajalci: Jure Dvoršak\, Andreja Malus\nPr
 ostor: Lecture hall II/3B
LOCATION:Lecture hall II/3B
ORGANIZER:Jure Dvoršak, Andreja Malus
RELATED-TO:fs-AFLABS-URNIK:srecanje:9626
X-WR-TIMEZONE:Europe/Ljubljana
END:VEVENT
BEGIN:VEVENT
SUMMARY:Control technology (KRTR)\, Lecture exercises (VP)\, [S4]
DTSTART;TZID=Europe/Ljubljana:20250530T120000
DTEND;TZID=Europe/Ljubljana:20250530T140000
DTSTAMP:20260424T164854Z
UID:fs-AFLABS-URNIK:srecanje:9628-2025-05-30 12:00:00+02:00
DESCRIPTION:Predmet: Control technology (KRTR)\, Lecture exercises (VP)\, 
 [S4]\nLetniki: RRP-2 (RRP-2)\nIzvajalci: Jure Dvoršak\, Andreja Malus\nPr
 ostor: Lecture hall II/3B
END:VEVENT
END:VCALENDAR
