BEGIN:VCALENDAR
VERSION:2.0
PRODID:-//AFLabs urnik izvoz - fs//aflabs.si//SI
NAME:UL FS Urnik
X-WR-CALNAME:UL FS Urnik
DTSTAMP:20260420T220650Z
REFRESH-INTERVAL:PT1H
SOURCE:https://urnik.fs.uni-lj.si/en/teacher/1027/?day=2025-12-08&export=1
URL:https://urnik.fs.uni-lj.si/en/teacher/1027/?day=2025-12-08&export=1
X-PUBLISHED-TTL:PT1H
X-WR-TIMEZONE:Europe/Ljubljana
BEGIN:VTIMEZONE
TZID:Europe/Ljubljana
BEGIN:DAYLIGHT
DTSTART:20260329T020000
RDATE:20260329T020000
RDATE:20270328T020000
TZNAME:CEST
TZOFFSETFROM:+0100
TZOFFSETTO:+0200
END:DAYLIGHT
BEGIN:STANDARD
DTSTART:20261025T030000
RDATE:20261025T030000
RDATE:20271031T030000
TZNAME:CET
TZOFFSETFROM:+0200
TZOFFSETTO:+0100
END:STANDARD
END:VTIMEZONE
BEGIN:VEVENT
SUMMARY:Heat exchangers (PRTM)\, Lecture exercises (VP)\, [S1]
DTSTART;TZID=Europe/Ljubljana:20251001T160000
DTEND;TZID=Europe/Ljubljana:20251001T180000
DTSTAMP:20260420T220650Z
UID:fs-AFLABS-URNIK:srecanje:16005-2025-10-01 16:00:00+02:00
DESCRIPTION:Predmet: Heat exchangers (PRTM)\, Lecture exercises (VP)\, [S1
 ]\nLetniki: Process engineering (MAG-2)\nIzvajalci: Jure Berce\, Gregor Bo
 bovnik\nProstor: Lecture hall II/5
END:VEVENT
BEGIN:VEVENT
SUMMARY:Heat exchangers (PRTM)\, Lecture exercises (VP)\, [S1]
DTSTART;TZID=Europe/Ljubljana:20251105T160000
DTEND;TZID=Europe/Ljubljana:20251105T180000
DTSTAMP:20260420T220650Z
UID:fs-AFLABS-URNIK:srecanje:16005-2025-11-05 16:00:00+01:00
DESCRIPTION:Predmet: Heat exchangers (PRTM)\, Lecture exercises (VP)\, [S1
 ]\nLetniki: Process engineering (MAG-2)\nIzvajalci: Jure Berce\, Gregor Bo
 bovnik\nProstor: Lecture hall II/5
END:VEVENT
BEGIN:VEVENT
SUMMARY:Heat exchangers (PRTM)\, Lecture exercises (VP)\, [S1]
DTSTART;TZID=Europe/Ljubljana:20251210T160000
DTEND;TZID=Europe/Ljubljana:20251210T180000
DTSTAMP:20260420T220650Z
UID:fs-AFLABS-URNIK:srecanje:16005-2025-12-10 16:00:00+01:00
DESCRIPTION:Predmet: Heat exchangers (PRTM)\, Lecture exercises (VP)\, [S1
 ]\nLetniki: Process engineering (MAG-2)\nIzvajalci: Jure Berce\, Gregor Bo
 bovnik\nProstor: Lecture hall II/5
END:VEVENT
BEGIN:VEVENT
SUMMARY:Heat Exchangers (HTEE)\, Lecture exercises (VP)\, [S1]
DTSTART;TZID=Europe/Ljubljana:20251002T160000
DTEND;TZID=Europe/Ljubljana:20251002T180000
DTSTAMP:20260420T220650Z
UID:fs-AFLABS-URNIK:srecanje:17599-2025-10-02 16:00:00+02:00
DESCRIPTION:Predmet: Heat Exchangers (HTEE)\, Lecture exercises (VP)\, [S1
 ]\nLetniki: Erasmus (Erasmus)\nIzvajalci: Jure Berce\, Gregor Bobovnik\, K
 atja Klinar\nProstor: Lecture hall I/4A
END:VEVENT
BEGIN:VEVENT
SUMMARY:Heat Exchangers (HTEE)\, Lecture exercises (VP)\, [S1]
DTSTART;TZID=Europe/Ljubljana:20251106T160000
DTEND;TZID=Europe/Ljubljana:20251106T180000
DTSTAMP:20260420T220650Z
UID:fs-AFLABS-URNIK:srecanje:17599-2025-11-06 16:00:00+01:00
DESCRIPTION:Predmet: Heat Exchangers (HTEE)\, Lecture exercises (VP)\, [S1
 ]\nLetniki: Erasmus (Erasmus)\nIzvajalci: Jure Berce\, Gregor Bobovnik\, K
 atja Klinar\nProstor: Lecture hall I/4A
END:VEVENT
BEGIN:VEVENT
SUMMARY:Heat Exchangers (HTEE)\, Lecture exercises (VP)\, [S1]
DTSTART;TZID=Europe/Ljubljana:20251211T160000
DTEND;TZID=Europe/Ljubljana:20251211T180000
DTSTAMP:20260420T220650Z
UID:fs-AFLABS-URNIK:srecanje:17599-2025-12-11 16:00:00+01:00
DESCRIPTION:Predmet: Heat Exchangers (HTEE)\, Lecture exercises (VP)\, [S1
 ]\nLetniki: Erasmus (Erasmus)\nIzvajalci: Jure Berce\, Gregor Bobovnik\, K
 atja Klinar\nProstor: Lecture hall I/4A
END:VEVENT
BEGIN:VEVENT
SUMMARY:Heat Exchangers (HTEE)\, Laboratory excercises (VL)\, [S1]
DTSTART;TZID=Europe/Ljubljana:20251113T160000
DTEND;TZID=Europe/Ljubljana:20251113T180000
DTSTAMP:20260420T220650Z
UID:fs-AFLABS-URNIK:srecanje:17601-2025-11-13 16:00:00+01:00
DESCRIPTION:Predmet: Heat Exchangers (HTEE)\, Laboratory excercises (VL)\,
  [S1]\nLetniki: Erasmus (Erasmus)\nIzvajalci: Jure Berce\nProstor: Laborat
 ory LTT SK-18
END:VEVENT
BEGIN:VEVENT
SUMMARY:Heat Exchangers (HTEE)\, Laboratory excercises (VL)\, [S1]
DTSTART;TZID=Europe/Ljubljana:20251120T160000
DTEND;TZID=Europe/Ljubljana:20251120T180000
DTSTAMP:20260420T220650Z
UID:fs-AFLABS-URNIK:srecanje:17601-2025-11-20 16:00:00+01:00
DESCRIPTION:Predmet: Heat Exchangers (HTEE)\, Laboratory excercises (VL)\,
  [S1]\nLetniki: Erasmus (Erasmus)\nIzvajalci: Jure Berce\nProstor: Laborat
 ory LTT SK-18
END:VEVENT
BEGIN:VEVENT
SUMMARY:Heat Exchangers (HTEE)\, Laboratory excercises (VL)\, [S1]
DTSTART;TZID=Europe/Ljubljana:20251127T160000
DTEND;TZID=Europe/Ljubljana:20251127T180000
DTSTAMP:20260420T220650Z
UID:fs-AFLABS-URNIK:srecanje:17601-2025-11-27 16:00:00+01:00
DESCRIPTION:Predmet: Heat Exchangers (HTEE)\, Laboratory excercises (VL)\,
  [S1]\nLetniki: Erasmus (Erasmus)\nIzvajalci: Jure Berce\nProstor: Laborat
 ory LTT SK-18
END:VEVENT
BEGIN:VEVENT
SUMMARY:Heat Exchangers (HTEE)\, Laboratory excercises (VL)\, [S1]
DTSTART;TZID=Europe/Ljubljana:20251204T160000
DTEND;TZID=Europe/Ljubljana:20251204T180000
DTSTAMP:20260420T220650Z
UID:fs-AFLABS-URNIK:srecanje:17601-2025-12-04 16:00:00+01:00
DESCRIPTION:Predmet: Heat Exchangers (HTEE)\, Laboratory excercises (VL)\,
  [S1]\nLetniki: Erasmus (Erasmus)\nIzvajalci: Jure Berce\nProstor: Laborat
 ory LTT SK-18
END:VEVENT
END:VCALENDAR
