BEGIN:VCALENDAR
VERSION:2.0
PRODID:-//AFLabs urnik izvoz - fs//aflabs.si//SI
NAME:UL FS Urnik
X-WR-CALNAME:UL FS Urnik
DTSTAMP:20260425T232837Z
REFRESH-INTERVAL:PT1H
SOURCE:https://urnik.fs.uni-lj.si/en/teacher/1029/?day=2026-06-01&export=1
URL:https://urnik.fs.uni-lj.si/en/teacher/1029/?day=2026-06-01&export=1
X-PUBLISHED-TTL:PT1H
X-WR-TIMEZONE:Europe/Ljubljana
BEGIN:VTIMEZONE
TZID:Europe/Ljubljana
BEGIN:DAYLIGHT
DTSTART:20260329T020000
RDATE:20260329T020000
RDATE:20270328T020000
TZNAME:CEST
TZOFFSETFROM:+0100
TZOFFSETTO:+0200
END:DAYLIGHT
BEGIN:STANDARD
DTSTART:20261025T030000
RDATE:20261025T030000
RDATE:20271031T030000
TZNAME:CET
TZOFFSETFROM:+0200
TZOFFSETTO:+0100
END:STANDARD
END:VTIMEZONE
BEGIN:VEVENT
SUMMARY:Computational Fluid Dynamics (CFDE)\, Laboratory excercises (VL)\,
  [S1]
DTSTART;TZID=Europe/Ljubljana:20260427T120000
DTEND;TZID=Europe/Ljubljana:20260427T140000
DTSTAMP:20260425T232837Z
UID:fs-AFLABS-URNIK:srecanje:17637-2026-04-27 12:00:00+02:00
DESCRIPTION:Predmet: Computational Fluid Dynamics (CFDE)\, Laboratory exce
 rcises (VL)\, [S1]\nLetniki: Erasmus (Erasmus)\nIzvajalci: Rizwan Zahoor\n
 Prostor: Computer lecture room LECAD / LASOK III/1
END:VEVENT
BEGIN:VEVENT
SUMMARY:Computational Fluid Dynamics (CFDE)\, Laboratory excercises (VL)\,
  [S1]
DTSTART;TZID=Europe/Ljubljana:20260504T120000
DTEND;TZID=Europe/Ljubljana:20260504T140000
DTSTAMP:20260425T232837Z
UID:fs-AFLABS-URNIK:srecanje:17637-2026-05-04 12:00:00+02:00
DESCRIPTION:Predmet: Computational Fluid Dynamics (CFDE)\, Laboratory exce
 rcises (VL)\, [S1]\nLetniki: Erasmus (Erasmus)\nIzvajalci: Rizwan Zahoor\n
 Prostor: Computer lecture room LECAD / LASOK III/1
END:VEVENT
BEGIN:VEVENT
SUMMARY:Computational Fluid Dynamics (CFDE)\, Laboratory excercises (VL)\,
  [S1]
DTSTART;TZID=Europe/Ljubljana:20260511T120000
DTEND;TZID=Europe/Ljubljana:20260511T140000
DTSTAMP:20260425T232837Z
UID:fs-AFLABS-URNIK:srecanje:17637-2026-05-11 12:00:00+02:00
DESCRIPTION:Predmet: Computational Fluid Dynamics (CFDE)\, Laboratory exce
 rcises (VL)\, [S1]\nLetniki: Erasmus (Erasmus)\nIzvajalci: Rizwan Zahoor\n
 Prostor: Computer lecture room LECAD / LASOK III/1
END:VEVENT
BEGIN:VEVENT
SUMMARY:Computational Fluid Dynamics (CFDE)\, Laboratory excercises (VL)\,
  [S1]
DTSTART;TZID=Europe/Ljubljana:20260518T120000
DTEND;TZID=Europe/Ljubljana:20260518T140000
DTSTAMP:20260425T232837Z
UID:fs-AFLABS-URNIK:srecanje:17637-2026-05-18 12:00:00+02:00
DESCRIPTION:Predmet: Computational Fluid Dynamics (CFDE)\, Laboratory exce
 rcises (VL)\, [S1]\nLetniki: Erasmus (Erasmus)\nIzvajalci: Rizwan Zahoor\n
 Prostor: Computer lecture room LECAD / LASOK III/1
END:VEVENT
BEGIN:VEVENT
SUMMARY:Computational Fluid Dynamics (CFDE)\, Laboratory excercises (VL)\,
  [S1]
DTSTART;TZID=Europe/Ljubljana:20260525T120000
DTEND;TZID=Europe/Ljubljana:20260525T140000
DTSTAMP:20260425T232837Z
UID:fs-AFLABS-URNIK:srecanje:17637-2026-05-25 12:00:00+02:00
DESCRIPTION:Predmet: Computational Fluid Dynamics (CFDE)\, Laboratory exce
 rcises (VL)\, [S1]\nLetniki: Erasmus (Erasmus)\nIzvajalci: Rizwan Zahoor\n
 Prostor: Computer lecture room LECAD / LASOK III/1
END:VEVENT
BEGIN:VEVENT
SUMMARY:Computational Fluid Dynamics (CFDE)\, Laboratory excercises (VL)\,
  [S1]
DTSTART;TZID=Europe/Ljubljana:20260601T120000
DTEND;TZID=Europe/Ljubljana:20260601T140000
DTSTAMP:20260425T232837Z
UID:fs-AFLABS-URNIK:srecanje:17637-2026-06-01 12:00:00+02:00
DESCRIPTION:Predmet: Computational Fluid Dynamics (CFDE)\, Laboratory exce
 rcises (VL)\, [S1]\nLetniki: Erasmus (Erasmus)\nIzvajalci: Rizwan Zahoor\n
 Prostor: Computer lecture room LECAD / LASOK III/1
END:VEVENT
END:VCALENDAR
