BEGIN:VCALENDAR
VERSION:2.0
PRODID:-//AFLabs urnik izvoz - fs//aflabs.si//SI
NAME:UL FS Urnik
X-WR-CALNAME:UL FS Urnik
DTSTAMP:20260425T015401Z
REFRESH-INTERVAL:PT1H
SOURCE:https://urnik.fs.uni-lj.si/en/teacher/1048/?day=2025-08-04&export=1
URL:https://urnik.fs.uni-lj.si/en/teacher/1048/?day=2025-08-04&export=1
X-PUBLISHED-TTL:PT1H
X-WR-TIMEZONE:Europe/Ljubljana
BEGIN:VTIMEZONE
TZID:Europe/Ljubljana
BEGIN:DAYLIGHT
DTSTART:20260329T020000
RDATE:20260329T020000
RDATE:20270328T020000
TZNAME:CEST
TZOFFSETFROM:+0100
TZOFFSETTO:+0200
END:DAYLIGHT
BEGIN:STANDARD
DTSTART:20261025T030000
RDATE:20261025T030000
RDATE:20271031T030000
TZNAME:CET
TZOFFSETFROM:+0200
TZOFFSETTO:+0100
END:STANDARD
END:VTIMEZONE
BEGIN:VEVENT
SUMMARY:Rezervacija: Vpogled izpita ANDR
DTSTART;TZID=Europe/Ljubljana:20250820T083000
DTEND;TZID=Europe/Ljubljana:20250820T093000
DTSTAMP:20260425T015401Z
UID:fs-AFLABS-URNIK:rezervacija:10531
ATTENDEE:RRP-1 (RRP-1)
CATEGORIES:Reservation
COLOR:royalblue
DESCRIPTION:Predmeti: Calculus and ordinary differential equations (ANDR)\
 nLetniki: RRP-1 (RRP-1)\nIzvajalci: Bor Bregant\nProstori: Lecture hall II
 /5
LOCATION:Lecture hall II/5
ORGANIZER:Bor Bregant
X-WR-TIMEZONE:Europe/Ljubljana
END:VEVENT
BEGIN:VEVENT
SUMMARY:Vpogled izpita LAVR
DTSTART;TZID=Europe/Ljubljana:20250828T083000
DTEND;TZID=Europe/Ljubljana:20250828T093000
DTSTAMP:20260425T015401Z
UID:fs-AFLABS-URNIK:rezervacija:10588
ATTENDEE:RRP-1 (RRP-1)
CATEGORIES:Reservation
COLOR:royalblue
DESCRIPTION:Predmeti: Linear algebra and vector analysis (LAVR)\nLetniki: 
 RRP-1 (RRP-1)\nIzvajalci: Bor Bregant\nProstori: Lecture hall II/3B
LOCATION:Lecture hall II/3B
ORGANIZER:Bor Bregant
X-WR-TIMEZONE:Europe/Ljubljana
END:VEVENT
END:VCALENDAR
