BEGIN:VCALENDAR
VERSION:2.0
PRODID:-//AFLabs urnik izvoz - fs//aflabs.si//SI
NAME:UL FS Urnik
X-WR-CALNAME:UL FS Urnik
DTSTAMP:20260425T203213Z
REFRESH-INTERVAL:PT1H
SOURCE:https://urnik.fs.uni-lj.si/en/teacher/1064/?day=2025-04-07&export=1
URL:https://urnik.fs.uni-lj.si/en/teacher/1064/?day=2025-04-07&export=1
X-PUBLISHED-TTL:PT1H
X-WR-TIMEZONE:Europe/Ljubljana
BEGIN:VTIMEZONE
TZID:Europe/Ljubljana
BEGIN:DAYLIGHT
DTSTART:20260329T020000
RDATE:20260329T020000
RDATE:20270328T020000
TZNAME:CEST
TZOFFSETFROM:+0100
TZOFFSETTO:+0200
END:DAYLIGHT
BEGIN:STANDARD
DTSTART:20261025T030000
RDATE:20261025T030000
RDATE:20271031T030000
TZNAME:CET
TZOFFSETFROM:+0200
TZOFFSETTO:+0100
END:STANDARD
END:VTIMEZONE
BEGIN:VEVENT
SUMMARY:Quality Engineering (QLEE)\, Lecture exercises (VP)
DTSTART;TZID=Europe/Ljubljana:20250217T180000
DTEND;TZID=Europe/Ljubljana:20250217T200000
DTSTAMP:20260425T203213Z
UID:fs-AFLABS-URNIK:srecanje:10021-2025-02-17 18:00:00+01:00
DESCRIPTION:Predmet: Quality Engineering (QLEE)\, Lecture exercises (VP)\n
 Letniki: Erasmus (Erasmus)\nIzvajalci: Damir Grguraš\, Deepa Kareepadath 
 Santhosh\, Luka Sterle\nProstor: Lecture hall II/3A
END:VEVENT
BEGIN:VEVENT
SUMMARY:Quality Engineering (QLEE)\, Lecture exercises (VP)
DTSTART;TZID=Europe/Ljubljana:20250224T180000
DTEND;TZID=Europe/Ljubljana:20250224T200000
DTSTAMP:20260425T203213Z
UID:fs-AFLABS-URNIK:srecanje:10021-2025-02-24 18:00:00+01:00
DESCRIPTION:Predmet: Quality Engineering (QLEE)\, Lecture exercises (VP)\n
 Letniki: Erasmus (Erasmus)\nIzvajalci: Damir Grguraš\, Deepa Kareepadath 
 Santhosh\, Luka Sterle\nProstor: Lecture hall II/3A
END:VEVENT
BEGIN:VEVENT
SUMMARY:Quality Engineering (QLEE)\, Lecture exercises (VP)
DTSTART;TZID=Europe/Ljubljana:20250303T180000
DTEND;TZID=Europe/Ljubljana:20250303T200000
DTSTAMP:20260425T203213Z
UID:fs-AFLABS-URNIK:srecanje:10021-2025-03-03 18:00:00+01:00
DESCRIPTION:Predmet: Quality Engineering (QLEE)\, Lecture exercises (VP)\n
 Letniki: Erasmus (Erasmus)\nIzvajalci: Damir Grguraš\, Deepa Kareepadath 
 Santhosh\, Luka Sterle\nProstor: Lecture hall II/3A
END:VEVENT
BEGIN:VEVENT
SUMMARY:Quality Engineering (QLEE)\, Lecture exercises (VP)
DTSTART;TZID=Europe/Ljubljana:20250310T180000
DTEND;TZID=Europe/Ljubljana:20250310T200000
DTSTAMP:20260425T203213Z
UID:fs-AFLABS-URNIK:srecanje:10021-2025-03-10 18:00:00+01:00
DESCRIPTION:Predmet: Quality Engineering (QLEE)\, Lecture exercises (VP)\n
 Letniki: Erasmus (Erasmus)\nIzvajalci: Damir Grguraš\, Deepa Kareepadath 
 Santhosh\, Luka Sterle\nProstor: Lecture hall II/3A
END:VEVENT
BEGIN:VEVENT
SUMMARY:Quality Engineering (QLEE)\, Lecture exercises (VP)
DTSTART;TZID=Europe/Ljubljana:20250317T180000
DTEND;TZID=Europe/Ljubljana:20250317T200000
DTSTAMP:20260425T203213Z
UID:fs-AFLABS-URNIK:srecanje:10021-2025-03-17 18:00:00+01:00
DESCRIPTION:Predmet: Quality Engineering (QLEE)\, Lecture exercises (VP)\n
 Letniki: Erasmus (Erasmus)\nIzvajalci: Damir Grguraš\, Deepa Kareepadath 
 Santhosh\, Luka Sterle\nProstor: Lecture hall II/3A
END:VEVENT
BEGIN:VEVENT
SUMMARY:Quality Engineering (QLEE)\, Lecture exercises (VP)
DTSTART;TZID=Europe/Ljubljana:20250324T180000
DTEND;TZID=Europe/Ljubljana:20250324T200000
DTSTAMP:20260425T203213Z
UID:fs-AFLABS-URNIK:srecanje:10021-2025-03-24 18:00:00+01:00
DESCRIPTION:Predmet: Quality Engineering (QLEE)\, Lecture exercises (VP)\n
 Letniki: Erasmus (Erasmus)\nIzvajalci: Damir Grguraš\, Deepa Kareepadath 
 Santhosh\, Luka Sterle\nProstor: Lecture hall II/3A
END:VEVENT
BEGIN:VEVENT
SUMMARY:Quality Engineering (QLEE)\, Lecture exercises (VP)
DTSTART;TZID=Europe/Ljubljana:20250331T180000
DTEND;TZID=Europe/Ljubljana:20250331T200000
DTSTAMP:20260425T203213Z
UID:fs-AFLABS-URNIK:srecanje:10021-2025-03-31 18:00:00+02:00
DESCRIPTION:Predmet: Quality Engineering (QLEE)\, Lecture exercises (VP)\n
 Letniki: Erasmus (Erasmus)\nIzvajalci: Damir Grguraš\, Deepa Kareepadath 
 Santhosh\, Luka Sterle\nProstor: Lecture hall II/3A
END:VEVENT
BEGIN:VEVENT
SUMMARY:Quality Engineering (QLEE)\, Lecture exercises (VP)
DTSTART;TZID=Europe/Ljubljana:20250407T180000
DTEND;TZID=Europe/Ljubljana:20250407T200000
DTSTAMP:20260425T203213Z
UID:fs-AFLABS-URNIK:srecanje:10021-2025-04-07 18:00:00+02:00
DESCRIPTION:Predmet: Quality Engineering (QLEE)\, Lecture exercises (VP)\n
 Letniki: Erasmus (Erasmus)\nIzvajalci: Damir Grguraš\, Deepa Kareepadath 
 Santhosh\, Luka Sterle\nProstor: Lecture hall II/3A
END:VEVENT
BEGIN:VEVENT
SUMMARY:Quality Engineering (QLEE)\, Lecture exercises (VP)
DTSTART;TZID=Europe/Ljubljana:20250414T180000
DTEND;TZID=Europe/Ljubljana:20250414T200000
DTSTAMP:20260425T203213Z
UID:fs-AFLABS-URNIK:srecanje:10021-2025-04-14 18:00:00+02:00
DESCRIPTION:Predmet: Quality Engineering (QLEE)\, Lecture exercises (VP)\n
 Letniki: Erasmus (Erasmus)\nIzvajalci: Damir Grguraš\, Deepa Kareepadath 
 Santhosh\, Luka Sterle\nProstor: Lecture hall II/3A
END:VEVENT
BEGIN:VEVENT
SUMMARY:Quality Engineering (QLEE)\, Laboratory excercises (VL)
DTSTART;TZID=Europe/Ljubljana:20250428T180000
DTEND;TZID=Europe/Ljubljana:20250428T200000
DTSTAMP:20260425T203213Z
UID:fs-AFLABS-URNIK:srecanje:10020-2025-04-28 18:00:00+02:00
DESCRIPTION:Predmet: Quality Engineering (QLEE)\, Laboratory excercises (V
 L)\nLetniki: Erasmus (Erasmus)\nIzvajalci: Damir Grguraš\, Deepa Kareepad
 ath Santhosh\, Luka Sterle\nProstor: Laboratory LABOD SP-DL-1
END:VEVENT
BEGIN:VEVENT
SUMMARY:Quality Engineering (QLEE)\, Laboratory excercises (VL)
DTSTART;TZID=Europe/Ljubljana:20250505T180000
DTEND;TZID=Europe/Ljubljana:20250505T200000
DTSTAMP:20260425T203213Z
UID:fs-AFLABS-URNIK:srecanje:10020-2025-05-05 18:00:00+02:00
DESCRIPTION:Predmet: Quality Engineering (QLEE)\, Laboratory excercises (V
 L)\nLetniki: Erasmus (Erasmus)\nIzvajalci: Damir Grguraš\, Deepa Kareepad
 ath Santhosh\, Luka Sterle\nProstor: Laboratory LABOD SP-DL-1
END:VEVENT
BEGIN:VEVENT
SUMMARY:Quality Engineering (QLEE)\, Laboratory excercises (VL)
DTSTART;TZID=Europe/Ljubljana:20250512T180000
DTEND;TZID=Europe/Ljubljana:20250512T200000
DTSTAMP:20260425T203213Z
UID:fs-AFLABS-URNIK:srecanje:10020-2025-05-12 18:00:00+02:00
DESCRIPTION:Predmet: Quality Engineering (QLEE)\, Laboratory excercises (V
 L)\nLetniki: Erasmus (Erasmus)\nIzvajalci: Damir Grguraš\, Deepa Kareepad
 ath Santhosh\, Luka Sterle\nProstor: Laboratory LABOD SP-DL-1
END:VEVENT
BEGIN:VEVENT
SUMMARY:Quality Engineering (QLEE)\, Laboratory excercises (VL)
DTSTART;TZID=Europe/Ljubljana:20250519T180000
DTEND;TZID=Europe/Ljubljana:20250519T200000
DTSTAMP:20260425T203213Z
UID:fs-AFLABS-URNIK:srecanje:10020-2025-05-19 18:00:00+02:00
DESCRIPTION:Predmet: Quality Engineering (QLEE)\, Laboratory excercises (V
 L)\nLetniki: Erasmus (Erasmus)\nIzvajalci: Damir Grguraš\, Deepa Kareepad
 ath Santhosh\, Luka Sterle\nProstor: Laboratory LABOD SP-DL-1
END:VEVENT
BEGIN:VEVENT
SUMMARY:Quality Engineering (QLEE)\, Laboratory excercises (VL)
DTSTART;TZID=Europe/Ljubljana:20250526T180000
DTEND;TZID=Europe/Ljubljana:20250526T200000
DTSTAMP:20260425T203213Z
UID:fs-AFLABS-URNIK:srecanje:10020-2025-05-26 18:00:00+02:00
DESCRIPTION:Predmet: Quality Engineering (QLEE)\, Laboratory excercises (V
 L)\nLetniki: Erasmus (Erasmus)\nIzvajalci: Damir Grguraš\, Deepa Kareepad
 ath Santhosh\, Luka Sterle\nProstor: Laboratory LABOD SP-DL-1
END:VEVENT
END:VCALENDAR
