BEGIN:VCALENDAR
VERSION:2.0
PRODID:-//AFLabs urnik izvoz - fs//aflabs.si//SI
NAME:UL FS Urnik
X-WR-CALNAME:UL FS Urnik
DTSTAMP:20260425T170626Z
REFRESH-INTERVAL:PT1H
SOURCE:https://urnik.fs.uni-lj.si/en/teacher/626/?day=2025-04-07&export=1
URL:https://urnik.fs.uni-lj.si/en/teacher/626/?day=2025-04-07&export=1
X-PUBLISHED-TTL:PT1H
X-WR-TIMEZONE:Europe/Ljubljana
BEGIN:VTIMEZONE
TZID:Europe/Ljubljana
BEGIN:DAYLIGHT
DTSTART:20260329T020000
RDATE:20260329T020000
RDATE:20270328T020000
TZNAME:CEST
TZOFFSETFROM:+0100
TZOFFSETTO:+0200
END:DAYLIGHT
BEGIN:STANDARD
DTSTART:20261025T030000
RDATE:20261025T030000
RDATE:20271031T030000
TZNAME:CET
TZOFFSETFROM:+0200
TZOFFSETTO:+0100
END:STANDARD
END:VTIMEZONE
BEGIN:VEVENT
SUMMARY:Environmental engineering (OKIR)\, Lectures (P)
DTSTART;TZID=Europe/Ljubljana:20250219T140000
DTEND;TZID=Europe/Ljubljana:20250219T160000
DTSTAMP:20260425T170626Z
UID:fs-AFLABS-URNIK:srecanje:9869-2025-02-19 14:00:00+01:00
DESCRIPTION:Predmet: Environmental engineering (OKIR)\, Lectures (P)\nLetn
 iki: RRP-3 (RRP-3)\nIzvajalci: Ciril Arkar\, Iztok Golobič\, Primož Pore
 doš\nProstor: Lecture hall III/4
END:VEVENT
BEGIN:VEVENT
SUMMARY:Environmental engineering (OKIR)\, Lectures (P)
DTSTART;TZID=Europe/Ljubljana:20250226T140000
DTEND;TZID=Europe/Ljubljana:20250226T160000
DTSTAMP:20260425T170626Z
UID:fs-AFLABS-URNIK:srecanje:9869-2025-02-26 14:00:00+01:00
DESCRIPTION:Predmet: Environmental engineering (OKIR)\, Lectures (P)\nLetn
 iki: RRP-3 (RRP-3)\nIzvajalci: Ciril Arkar\, Iztok Golobič\, Primož Pore
 doš\nProstor: Lecture hall III/4
END:VEVENT
BEGIN:VEVENT
SUMMARY:Environmental engineering (OKIR)\, Lectures (P)
DTSTART;TZID=Europe/Ljubljana:20250305T140000
DTEND;TZID=Europe/Ljubljana:20250305T160000
DTSTAMP:20260425T170626Z
UID:fs-AFLABS-URNIK:srecanje:9869-2025-03-05 14:00:00+01:00
DESCRIPTION:Predmet: Environmental engineering (OKIR)\, Lectures (P)\nLetn
 iki: RRP-3 (RRP-3)\nIzvajalci: Ciril Arkar\, Iztok Golobič\, Primož Pore
 doš\nProstor: Lecture hall III/4
END:VEVENT
BEGIN:VEVENT
SUMMARY:Environmental engineering (OKIR)\, Lectures (P)
DTSTART;TZID=Europe/Ljubljana:20250312T140000
DTEND;TZID=Europe/Ljubljana:20250312T160000
DTSTAMP:20260425T170626Z
UID:fs-AFLABS-URNIK:srecanje:9869-2025-03-12 14:00:00+01:00
DESCRIPTION:Predmet: Environmental engineering (OKIR)\, Lectures (P)\nLetn
 iki: RRP-3 (RRP-3)\nIzvajalci: Ciril Arkar\, Iztok Golobič\, Primož Pore
 doš\nProstor: Lecture hall III/4
END:VEVENT
BEGIN:VEVENT
SUMMARY:Environmental engineering (OKIR)\, Lectures (P)
DTSTART;TZID=Europe/Ljubljana:20250319T140000
DTEND;TZID=Europe/Ljubljana:20250319T160000
DTSTAMP:20260425T170626Z
UID:fs-AFLABS-URNIK:srecanje:9869-2025-03-19 14:00:00+01:00
DESCRIPTION:Predmet: Environmental engineering (OKIR)\, Lectures (P)\nLetn
 iki: RRP-3 (RRP-3)\nIzvajalci: Ciril Arkar\, Iztok Golobič\, Primož Pore
 doš\nProstor: Lecture hall III/4
END:VEVENT
BEGIN:VEVENT
SUMMARY:Environmental engineering (OKIR)\, Lectures (P)
DTSTART;TZID=Europe/Ljubljana:20250326T140000
DTEND;TZID=Europe/Ljubljana:20250326T160000
DTSTAMP:20260425T170626Z
UID:fs-AFLABS-URNIK:srecanje:9869-2025-03-26 14:00:00+01:00
DESCRIPTION:Predmet: Environmental engineering (OKIR)\, Lectures (P)\nLetn
 iki: RRP-3 (RRP-3)\nIzvajalci: Ciril Arkar\, Iztok Golobič\, Primož Pore
 doš\nProstor: Lecture hall III/4
END:VEVENT
BEGIN:VEVENT
SUMMARY:Environmental engineering (OKIR)\, Lectures (P)
DTSTART;TZID=Europe/Ljubljana:20250402T140000
DTEND;TZID=Europe/Ljubljana:20250402T160000
DTSTAMP:20260425T170626Z
UID:fs-AFLABS-URNIK:srecanje:9869-2025-04-02 14:00:00+02:00
DESCRIPTION:Predmet: Environmental engineering (OKIR)\, Lectures (P)\nLetn
 iki: RRP-3 (RRP-3)\nIzvajalci: Ciril Arkar\, Iztok Golobič\, Primož Pore
 doš\nProstor: Lecture hall III/4
END:VEVENT
BEGIN:VEVENT
SUMMARY:Environmental engineering (OKIR)\, Lectures (P)
DTSTART;TZID=Europe/Ljubljana:20250409T140000
DTEND;TZID=Europe/Ljubljana:20250409T160000
DTSTAMP:20260425T170626Z
UID:fs-AFLABS-URNIK:srecanje:9869-2025-04-09 14:00:00+02:00
DESCRIPTION:Predmet: Environmental engineering (OKIR)\, Lectures (P)\nLetn
 iki: RRP-3 (RRP-3)\nIzvajalci: Ciril Arkar\, Iztok Golobič\, Primož Pore
 doš\nProstor: Lecture hall III/4
END:VEVENT
BEGIN:VEVENT
SUMMARY:Environmental engineering (OKIR)\, Lectures (P)
DTSTART;TZID=Europe/Ljubljana:20250416T140000
DTEND;TZID=Europe/Ljubljana:20250416T160000
DTSTAMP:20260425T170626Z
UID:fs-AFLABS-URNIK:srecanje:9869-2025-04-16 14:00:00+02:00
DESCRIPTION:Predmet: Environmental engineering (OKIR)\, Lectures (P)\nLetn
 iki: RRP-3 (RRP-3)\nIzvajalci: Ciril Arkar\, Iztok Golobič\, Primož Pore
 doš\nProstor: Lecture hall III/4
END:VEVENT
BEGIN:VEVENT
SUMMARY:Environmental engineering (OKIR)\, Lectures (P)
DTSTART;TZID=Europe/Ljubljana:20250423T140000
DTEND;TZID=Europe/Ljubljana:20250423T160000
DTSTAMP:20260425T170626Z
UID:fs-AFLABS-URNIK:srecanje:9869-2025-04-23 14:00:00+02:00
DESCRIPTION:Predmet: Environmental engineering (OKIR)\, Lectures (P)\nLetn
 iki: RRP-3 (RRP-3)\nIzvajalci: Ciril Arkar\, Iztok Golobič\, Primož Pore
 doš\nProstor: Lecture hall III/4
END:VEVENT
BEGIN:VEVENT
SUMMARY:Environmental engineering (OKIR)\, Lectures (P)
DTSTART;TZID=Europe/Ljubljana:20250430T140000
DTEND;TZID=Europe/Ljubljana:20250430T160000
DTSTAMP:20260425T170626Z
UID:fs-AFLABS-URNIK:srecanje:9869-2025-04-30 14:00:00+02:00
DESCRIPTION:Predmet: Environmental engineering (OKIR)\, Lectures (P)\nLetn
 iki: RRP-3 (RRP-3)\nIzvajalci: Ciril Arkar\, Iztok Golobič\, Primož Pore
 doš\nProstor: Lecture hall III/4
END:VEVENT
BEGIN:VEVENT
SUMMARY:Environmental engineering (OKIR)\, Lectures (P)
DTSTART;TZID=Europe/Ljubljana:20250507T140000
DTEND;TZID=Europe/Ljubljana:20250507T160000
DTSTAMP:20260425T170626Z
UID:fs-AFLABS-URNIK:srecanje:9869-2025-05-07 14:00:00+02:00
DESCRIPTION:Predmet: Environmental engineering (OKIR)\, Lectures (P)\nLetn
 iki: RRP-3 (RRP-3)\nIzvajalci: Ciril Arkar\, Iztok Golobič\, Primož Pore
 doš\nProstor: Lecture hall III/4
END:VEVENT
BEGIN:VEVENT
SUMMARY:Environmental engineering (OKIR)\, Lectures (P)
DTSTART;TZID=Europe/Ljubljana:20250514T140000
DTEND;TZID=Europe/Ljubljana:20250514T160000
DTSTAMP:20260425T170626Z
UID:fs-AFLABS-URNIK:srecanje:9869-2025-05-14 14:00:00+02:00
DESCRIPTION:Predmet: Environmental engineering (OKIR)\, Lectures (P)\nLetn
 iki: RRP-3 (RRP-3)\nIzvajalci: Ciril Arkar\, Iztok Golobič\, Primož Pore
 doš\nProstor: Lecture hall III/4
END:VEVENT
BEGIN:VEVENT
SUMMARY:Environmental engineering (OKIR)\, Lectures (P)
DTSTART;TZID=Europe/Ljubljana:20250521T140000
DTEND;TZID=Europe/Ljubljana:20250521T160000
DTSTAMP:20260425T170626Z
UID:fs-AFLABS-URNIK:srecanje:9869-2025-05-21 14:00:00+02:00
DESCRIPTION:Predmet: Environmental engineering (OKIR)\, Lectures (P)\nLetn
 iki: RRP-3 (RRP-3)\nIzvajalci: Ciril Arkar\, Iztok Golobič\, Primož Pore
 doš\nProstor: Lecture hall III/4
END:VEVENT
BEGIN:VEVENT
SUMMARY:Environmental engineering (OKIR)\, Lectures (P)
DTSTART;TZID=Europe/Ljubljana:20250528T140000
DTEND;TZID=Europe/Ljubljana:20250528T160000
DTSTAMP:20260425T170626Z
UID:fs-AFLABS-URNIK:srecanje:9869-2025-05-28 14:00:00+02:00
DESCRIPTION:Predmet: Environmental engineering (OKIR)\, Lectures (P)\nLetn
 iki: RRP-3 (RRP-3)\nIzvajalci: Ciril Arkar\, Iztok Golobič\, Primož Pore
 doš\nProstor: Lecture hall III/4
END:VEVENT
BEGIN:VEVENT
SUMMARY:Building physics and indoor environment quality (SFNP)\, Lectures 
 (P)
DTSTART;TZID=Europe/Ljubljana:20250220T153000
DTEND;TZID=Europe/Ljubljana:20250220T173000
DTSTAMP:20260425T170626Z
UID:fs-AFLABS-URNIK:srecanje:10051-2025-02-20 15:30:00+01:00
DESCRIPTION:Predmet: Building physics and indoor environment quality (SFNP
 )\, Lectures (P)\nLetniki: Process engineering (PAP-2)\nIzvajalci: Ciril A
 rkar\, Uroš Stritih\nProstor: Lecture hall III/3B
END:VEVENT
BEGIN:VEVENT
SUMMARY:Building physics and indoor environment quality (SFNP)\, Lectures 
 (P)
DTSTART;TZID=Europe/Ljubljana:20250227T153000
DTEND;TZID=Europe/Ljubljana:20250227T173000
DTSTAMP:20260425T170626Z
UID:fs-AFLABS-URNIK:srecanje:10051-2025-02-27 15:30:00+01:00
DESCRIPTION:Predmet: Building physics and indoor environment quality (SFNP
 )\, Lectures (P)\nLetniki: Process engineering (PAP-2)\nIzvajalci: Ciril A
 rkar\, Uroš Stritih\nProstor: Lecture hall III/3B
END:VEVENT
BEGIN:VEVENT
SUMMARY:Building physics and indoor environment quality (SFNP)\, Lectures 
 (P)
DTSTART;TZID=Europe/Ljubljana:20250306T153000
DTEND;TZID=Europe/Ljubljana:20250306T173000
DTSTAMP:20260425T170626Z
UID:fs-AFLABS-URNIK:srecanje:10051-2025-03-06 15:30:00+01:00
DESCRIPTION:Predmet: Building physics and indoor environment quality (SFNP
 )\, Lectures (P)\nLetniki: Process engineering (PAP-2)\nIzvajalci: Ciril A
 rkar\, Uroš Stritih\nProstor: Lecture hall III/3B
END:VEVENT
BEGIN:VEVENT
SUMMARY:Building physics and indoor environment quality (SFNP)\, Lectures 
 (P)
DTSTART;TZID=Europe/Ljubljana:20250313T153000
DTEND;TZID=Europe/Ljubljana:20250313T173000
DTSTAMP:20260425T170626Z
UID:fs-AFLABS-URNIK:srecanje:10051-2025-03-13 15:30:00+01:00
DESCRIPTION:Predmet: Building physics and indoor environment quality (SFNP
 )\, Lectures (P)\nLetniki: Process engineering (PAP-2)\nIzvajalci: Ciril A
 rkar\, Uroš Stritih\nProstor: Lecture hall III/3B
END:VEVENT
BEGIN:VEVENT
SUMMARY:Building physics and indoor environment quality (SFNP)\, Lectures 
 (P)
DTSTART;TZID=Europe/Ljubljana:20250320T153000
DTEND;TZID=Europe/Ljubljana:20250320T173000
DTSTAMP:20260425T170626Z
UID:fs-AFLABS-URNIK:srecanje:10051-2025-03-20 15:30:00+01:00
DESCRIPTION:Predmet: Building physics and indoor environment quality (SFNP
 )\, Lectures (P)\nLetniki: Process engineering (PAP-2)\nIzvajalci: Ciril A
 rkar\, Uroš Stritih\nProstor: Lecture hall III/3B
END:VEVENT
BEGIN:VEVENT
SUMMARY:Building physics and indoor environment quality (SFNP)\, Lectures 
 (P)
DTSTART;TZID=Europe/Ljubljana:20250327T153000
DTEND;TZID=Europe/Ljubljana:20250327T173000
DTSTAMP:20260425T170626Z
UID:fs-AFLABS-URNIK:srecanje:10051-2025-03-27 15:30:00+01:00
DESCRIPTION:Predmet: Building physics and indoor environment quality (SFNP
 )\, Lectures (P)\nLetniki: Process engineering (PAP-2)\nIzvajalci: Ciril A
 rkar\, Uroš Stritih\nProstor: Lecture hall III/3B
END:VEVENT
BEGIN:VEVENT
SUMMARY:Building physics and indoor environment quality (SFNP)\, Lectures 
 (P)
DTSTART;TZID=Europe/Ljubljana:20250403T153000
DTEND;TZID=Europe/Ljubljana:20250403T173000
DTSTAMP:20260425T170626Z
UID:fs-AFLABS-URNIK:srecanje:10051-2025-04-03 15:30:00+02:00
DESCRIPTION:Predmet: Building physics and indoor environment quality (SFNP
 )\, Lectures (P)\nLetniki: Process engineering (PAP-2)\nIzvajalci: Ciril A
 rkar\, Uroš Stritih\nProstor: Lecture hall III/3B
END:VEVENT
BEGIN:VEVENT
SUMMARY:Building physics and indoor environment quality (SFNP)\, Lectures 
 (P)
DTSTART;TZID=Europe/Ljubljana:20250410T153000
DTEND;TZID=Europe/Ljubljana:20250410T173000
DTSTAMP:20260425T170626Z
UID:fs-AFLABS-URNIK:srecanje:10051-2025-04-10 15:30:00+02:00
DESCRIPTION:Predmet: Building physics and indoor environment quality (SFNP
 )\, Lectures (P)\nLetniki: Process engineering (PAP-2)\nIzvajalci: Ciril A
 rkar\, Uroš Stritih\nProstor: Lecture hall III/3B
END:VEVENT
BEGIN:VEVENT
SUMMARY:Building physics and indoor environment quality (SFNP)\, Lectures 
 (P)
DTSTART;TZID=Europe/Ljubljana:20250417T153000
DTEND;TZID=Europe/Ljubljana:20250417T173000
DTSTAMP:20260425T170626Z
UID:fs-AFLABS-URNIK:srecanje:10051-2025-04-17 15:30:00+02:00
DESCRIPTION:Predmet: Building physics and indoor environment quality (SFNP
 )\, Lectures (P)\nLetniki: Process engineering (PAP-2)\nIzvajalci: Ciril A
 rkar\, Uroš Stritih\nProstor: Lecture hall III/3B
END:VEVENT
BEGIN:VEVENT
SUMMARY:Building physics and indoor environment quality (SFNP)\, Lectures 
 (P)
DTSTART;TZID=Europe/Ljubljana:20250424T153000
DTEND;TZID=Europe/Ljubljana:20250424T173000
DTSTAMP:20260425T170626Z
UID:fs-AFLABS-URNIK:srecanje:10051-2025-04-24 15:30:00+02:00
DESCRIPTION:Predmet: Building physics and indoor environment quality (SFNP
 )\, Lectures (P)\nLetniki: Process engineering (PAP-2)\nIzvajalci: Ciril A
 rkar\, Uroš Stritih\nProstor: Lecture hall III/3B
END:VEVENT
BEGIN:VEVENT
SUMMARY:Building physics and indoor environment quality (SFNP)\, Lectures 
 (P)
DTSTART;TZID=Europe/Ljubljana:20250501T153000
DTEND;TZID=Europe/Ljubljana:20250501T173000
DTSTAMP:20260425T170626Z
UID:fs-AFLABS-URNIK:srecanje:10051-2025-05-01 15:30:00+02:00
DESCRIPTION:Predmet: Building physics and indoor environment quality (SFNP
 )\, Lectures (P)\nLetniki: Process engineering (PAP-2)\nIzvajalci: Ciril A
 rkar\, Uroš Stritih\nProstor: Lecture hall III/3B
END:VEVENT
BEGIN:VEVENT
SUMMARY:Building physics and indoor environment quality (SFNP)\, Lectures 
 (P)
DTSTART;TZID=Europe/Ljubljana:20250508T153000
DTEND;TZID=Europe/Ljubljana:20250508T173000
DTSTAMP:20260425T170626Z
UID:fs-AFLABS-URNIK:srecanje:10051-2025-05-08 15:30:00+02:00
DESCRIPTION:Predmet: Building physics and indoor environment quality (SFNP
 )\, Lectures (P)\nLetniki: Process engineering (PAP-2)\nIzvajalci: Ciril A
 rkar\, Uroš Stritih\nProstor: Lecture hall III/3B
END:VEVENT
BEGIN:VEVENT
SUMMARY:Building physics and indoor environment quality (SFNP)\, Lectures 
 (P)
DTSTART;TZID=Europe/Ljubljana:20250515T153000
DTEND;TZID=Europe/Ljubljana:20250515T173000
DTSTAMP:20260425T170626Z
UID:fs-AFLABS-URNIK:srecanje:10051-2025-05-15 15:30:00+02:00
DESCRIPTION:Predmet: Building physics and indoor environment quality (SFNP
 )\, Lectures (P)\nLetniki: Process engineering (PAP-2)\nIzvajalci: Ciril A
 rkar\, Uroš Stritih\nProstor: Lecture hall III/3B
END:VEVENT
BEGIN:VEVENT
SUMMARY:Building physics and indoor environment quality (SFNP)\, Lectures 
 (P)
DTSTART;TZID=Europe/Ljubljana:20250522T153000
DTEND;TZID=Europe/Ljubljana:20250522T173000
DTSTAMP:20260425T170626Z
UID:fs-AFLABS-URNIK:srecanje:10051-2025-05-22 15:30:00+02:00
DESCRIPTION:Predmet: Building physics and indoor environment quality (SFNP
 )\, Lectures (P)\nLetniki: Process engineering (PAP-2)\nIzvajalci: Ciril A
 rkar\, Uroš Stritih\nProstor: Lecture hall III/3B
END:VEVENT
BEGIN:VEVENT
SUMMARY:Building physics and indoor environment quality (SFNP)\, Lectures 
 (P)
DTSTART;TZID=Europe/Ljubljana:20250529T153000
DTEND;TZID=Europe/Ljubljana:20250529T173000
DTSTAMP:20260425T170626Z
UID:fs-AFLABS-URNIK:srecanje:10051-2025-05-29 15:30:00+02:00
DESCRIPTION:Predmet: Building physics and indoor environment quality (SFNP
 )\, Lectures (P)\nLetniki: Process engineering (PAP-2)\nIzvajalci: Ciril A
 rkar\, Uroš Stritih\nProstor: Lecture hall III/3B
END:VEVENT
BEGIN:VEVENT
SUMMARY:kolokvij Okoljsko inženirstvo
DTSTART;TZID=Europe/Ljubljana:20250411T120000
DTEND;TZID=Europe/Ljubljana:20250411T140000
DTSTAMP:20260425T170626Z
UID:fs-AFLABS-URNIK:rezervacija:9531
ATTENDEE:RRP-3 (RRP-3)
CATEGORIES:Reservation
COLOR:royalblue
DESCRIPTION:Predmeti: Environmental engineering (OKIR)\nLetniki: RRP-3 (RR
 P-3)\nIzvajalci: Ciril Arkar\nProstori: Lecture hall III/2\, Lecture hall 
 III/4
LOCATION:Lecture hall III/2\, Lecture hall III/4
ORGANIZER:Ciril Arkar
X-WR-TIMEZONE:Europe/Ljubljana
END:VEVENT
BEGIN:VEVENT
SUMMARY:termin SNFO
DTSTART;TZID=Europe/Ljubljana:20250306T133000
DTEND;TZID=Europe/Ljubljana:20250306T150000
DTSTAMP:20260425T170626Z
UID:fs-AFLABS-URNIK:rezervacija:9558
ATTENDEE:Process engineering (PAP-2)
CATEGORIES:Reservation
COLOR:royalblue
DESCRIPTION:Predmeti: Building physics and indoor environment quality (SFN
 P)\nLetniki: Process engineering (PAP-2)\nIzvajalci: Ciril Arkar\nProstori
 : Lecture hall III/3A
LOCATION:Lecture hall III/3A
ORGANIZER:Ciril Arkar
X-WR-TIMEZONE:Europe/Ljubljana
END:VEVENT
BEGIN:VEVENT
SUMMARY:OKIR ponavljalni 1. kolokvij
DTSTART;TZID=Europe/Ljubljana:20250516T080000
DTEND;TZID=Europe/Ljubljana:20250516T100000
DTSTAMP:20260425T170626Z
UID:fs-AFLABS-URNIK:rezervacija:10021
ATTENDEE:RRP-3 (RRP-3)
CATEGORIES:Reservation
COLOR:royalblue
DESCRIPTION:Predmeti: Environmental engineering (OKIR)\nLetniki: RRP-3 (RR
 P-3)\nIzvajalci: Ciril Arkar\nProstori: Lecture hall III/4
LOCATION:Lecture hall III/4
ORGANIZER:Ciril Arkar
X-WR-TIMEZONE:Europe/Ljubljana
END:VEVENT
END:VCALENDAR
