BEGIN:VCALENDAR
VERSION:2.0
PRODID:-//AFLabs urnik izvoz - fs//aflabs.si//SI
NAME:UL FS Urnik
X-WR-CALNAME:UL FS Urnik
DTSTAMP:20260424T150316Z
REFRESH-INTERVAL:PT1H
SOURCE:https://urnik.fs.uni-lj.si/en/teacher/628/?day=2023-09-18&export=1
URL:https://urnik.fs.uni-lj.si/en/teacher/628/?day=2023-09-18&export=1
X-PUBLISHED-TTL:PT1H
X-WR-TIMEZONE:Europe/Ljubljana
BEGIN:VTIMEZONE
TZID:Europe/Ljubljana
BEGIN:DAYLIGHT
DTSTART:20260329T020000
RDATE:20260329T020000
RDATE:20270328T020000
TZNAME:CEST
TZOFFSETFROM:+0100
TZOFFSETTO:+0200
END:DAYLIGHT
BEGIN:STANDARD
DTSTART:20261025T030000
RDATE:20261025T030000
RDATE:20271031T030000
TZNAME:CET
TZOFFSETFROM:+0200
TZOFFSETTO:+0100
END:STANDARD
END:VTIMEZONE
BEGIN:VEVENT
SUMMARY:Laser measurement systems (LMSM)\, Laboratory excercises (VL)\, [S
 2]
DTSTART;TZID=Europe/Ljubljana:20231002T100000
DTEND;TZID=Europe/Ljubljana:20231002T120000
DTSTAMP:20260424T150316Z
UID:fs-AFLABS-URNIK:srecanje:4920-2023-10-02 10:00:00+02:00
DESCRIPTION:Predmet: Laser measurement systems (LMSM)\, Laboratory excerci
 ses (VL)\, [S2]\nLetniki: Mechatronics and laser technology (MAG-2)\nIzvaj
 alci: Aleš Babnik\nProstor: Laboratory LASTEH I/6
END:VEVENT
BEGIN:VEVENT
SUMMARY:Laser measurement systems (LMSM)\, Laboratory excercises (VL)\, [S
 2]
DTSTART;TZID=Europe/Ljubljana:20231009T100000
DTEND;TZID=Europe/Ljubljana:20231009T120000
DTSTAMP:20260424T150316Z
UID:fs-AFLABS-URNIK:srecanje:4920-2023-10-09 10:00:00+02:00
DESCRIPTION:Predmet: Laser measurement systems (LMSM)\, Laboratory excerci
 ses (VL)\, [S2]\nLetniki: Mechatronics and laser technology (MAG-2)\nIzvaj
 alci: Aleš Babnik\nProstor: Laboratory LASTEH I/6
END:VEVENT
BEGIN:VEVENT
SUMMARY:Laser measurement systems (LMSM)\, Laboratory excercises (VL)\, [S
 2]
DTSTART;TZID=Europe/Ljubljana:20231023T100000
DTEND;TZID=Europe/Ljubljana:20231023T120000
DTSTAMP:20260424T150316Z
UID:fs-AFLABS-URNIK:srecanje:4920-2023-10-23 10:00:00+02:00
DESCRIPTION:Predmet: Laser measurement systems (LMSM)\, Laboratory excerci
 ses (VL)\, [S2]\nLetniki: Mechatronics and laser technology (MAG-2)\nIzvaj
 alci: Aleš Babnik\nProstor: Laboratory LASTEH I/6
END:VEVENT
BEGIN:VEVENT
SUMMARY:Laser measurement systems (LMSM)\, Laboratory excercises (VL)\, [S
 3]
DTSTART;TZID=Europe/Ljubljana:20231002T120000
DTEND;TZID=Europe/Ljubljana:20231002T140000
DTSTAMP:20260424T150316Z
UID:fs-AFLABS-URNIK:srecanje:4921-2023-10-02 12:00:00+02:00
DESCRIPTION:Predmet: Laser measurement systems (LMSM)\, Laboratory excerci
 ses (VL)\, [S3]\nLetniki: Mechatronics and laser technology (MAG-2)\nIzvaj
 alci: Aleš Babnik\nProstor: Laboratory LASTEH I/6
END:VEVENT
BEGIN:VEVENT
SUMMARY:Laser measurement systems (LMSM)\, Laboratory excercises (VL)\, [S
 3]
DTSTART;TZID=Europe/Ljubljana:20231009T120000
DTEND;TZID=Europe/Ljubljana:20231009T140000
DTSTAMP:20260424T150316Z
UID:fs-AFLABS-URNIK:srecanje:4921-2023-10-09 12:00:00+02:00
DESCRIPTION:Predmet: Laser measurement systems (LMSM)\, Laboratory excerci
 ses (VL)\, [S3]\nLetniki: Mechatronics and laser technology (MAG-2)\nIzvaj
 alci: Aleš Babnik\nProstor: Laboratory LASTEH I/6
END:VEVENT
BEGIN:VEVENT
SUMMARY:Laser measurement systems (LMSM)\, Laboratory excercises (VL)\, [S
 3]
DTSTART;TZID=Europe/Ljubljana:20231023T120000
DTEND;TZID=Europe/Ljubljana:20231023T140000
DTSTAMP:20260424T150316Z
UID:fs-AFLABS-URNIK:srecanje:4921-2023-10-23 12:00:00+02:00
DESCRIPTION:Predmet: Laser measurement systems (LMSM)\, Laboratory excerci
 ses (VL)\, [S3]\nLetniki: Mechatronics and laser technology (MAG-2)\nIzvaj
 alci: Aleš Babnik\nProstor: Laboratory LASTEH I/6
END:VEVENT
BEGIN:VEVENT
SUMMARY:Laser measurement systems (LMSM)\, Laboratory excercises (VL)\, [S
 5]
DTSTART;TZID=Europe/Ljubljana:20231002T160000
DTEND;TZID=Europe/Ljubljana:20231002T180000
DTSTAMP:20260424T150316Z
UID:fs-AFLABS-URNIK:srecanje:4925-2023-10-02 16:00:00+02:00
DESCRIPTION:Predmet: Laser measurement systems (LMSM)\, Laboratory excerci
 ses (VL)\, [S5]\nLetniki: Mechatronics and laser technology (MAG-2)\nIzvaj
 alci: Aleš Babnik\nProstor: Laboratory LASTEH I/6
END:VEVENT
BEGIN:VEVENT
SUMMARY:Laser measurement systems (LMSM)\, Laboratory excercises (VL)\, [S
 5]
DTSTART;TZID=Europe/Ljubljana:20231009T160000
DTEND;TZID=Europe/Ljubljana:20231009T180000
DTSTAMP:20260424T150316Z
UID:fs-AFLABS-URNIK:srecanje:4925-2023-10-09 16:00:00+02:00
DESCRIPTION:Predmet: Laser measurement systems (LMSM)\, Laboratory excerci
 ses (VL)\, [S5]\nLetniki: Mechatronics and laser technology (MAG-2)\nIzvaj
 alci: Aleš Babnik\nProstor: Laboratory LASTEH I/6
END:VEVENT
BEGIN:VEVENT
SUMMARY:Laser measurement systems (LMSM)\, Laboratory excercises (VL)\, [S
 5]
DTSTART;TZID=Europe/Ljubljana:20231023T160000
DTEND;TZID=Europe/Ljubljana:20231023T180000
DTSTAMP:20260424T150316Z
UID:fs-AFLABS-URNIK:srecanje:4925-2023-10-23 16:00:00+02:00
DESCRIPTION:Predmet: Laser measurement systems (LMSM)\, Laboratory excerci
 ses (VL)\, [S5]\nLetniki: Mechatronics and laser technology (MAG-2)\nIzvaj
 alci: Aleš Babnik\nProstor: Laboratory LASTEH I/6
END:VEVENT
BEGIN:VEVENT
SUMMARY:Laser processing technology (LOTM)\, Laboratory excercises (VL)\, 
 [S5]
DTSTART;TZID=Europe/Ljubljana:20231003T080000
DTEND;TZID=Europe/Ljubljana:20231003T100000
DTSTAMP:20260424T150316Z
UID:fs-AFLABS-URNIK:srecanje:4971-2023-10-03 08:00:00+02:00
DESCRIPTION:Predmet: Laser processing technology (LOTM)\, Laboratory excer
 cises (VL)\, [S5]\nLetniki: Mechatronics and laser technology (MAG-2)\nIzv
 ajalci: Aleš Babnik\nProstor: Laboratory LASTEH I/6
END:VEVENT
BEGIN:VEVENT
SUMMARY:Laser processing technology (LOTM)\, Laboratory excercises (VL)\, 
 [S5]
DTSTART;TZID=Europe/Ljubljana:20231010T080000
DTEND;TZID=Europe/Ljubljana:20231010T100000
DTSTAMP:20260424T150316Z
UID:fs-AFLABS-URNIK:srecanje:4971-2023-10-10 08:00:00+02:00
DESCRIPTION:Predmet: Laser processing technology (LOTM)\, Laboratory excer
 cises (VL)\, [S5]\nLetniki: Mechatronics and laser technology (MAG-2)\nIzv
 ajalci: Aleš Babnik\nProstor: Laboratory LASTEH I/6
END:VEVENT
BEGIN:VEVENT
SUMMARY:Laser processing technology (LOTM)\, Laboratory excercises (VL)\, 
 [S6]
DTSTART;TZID=Europe/Ljubljana:20231003T120000
DTEND;TZID=Europe/Ljubljana:20231003T140000
DTSTAMP:20260424T150316Z
UID:fs-AFLABS-URNIK:srecanje:4972-2023-10-03 12:00:00+02:00
DESCRIPTION:Predmet: Laser processing technology (LOTM)\, Laboratory excer
 cises (VL)\, [S6]\nLetniki: Mechatronics and laser technology (MAG-2)\nIzv
 ajalci: Aleš Babnik\nProstor: Laboratory LASTEH I/6
END:VEVENT
BEGIN:VEVENT
SUMMARY:Laser processing technology (LOTM)\, Laboratory excercises (VL)\, 
 [S6]
DTSTART;TZID=Europe/Ljubljana:20231010T120000
DTEND;TZID=Europe/Ljubljana:20231010T140000
DTSTAMP:20260424T150316Z
UID:fs-AFLABS-URNIK:srecanje:4972-2023-10-10 12:00:00+02:00
DESCRIPTION:Predmet: Laser processing technology (LOTM)\, Laboratory excer
 cises (VL)\, [S6]\nLetniki: Mechatronics and laser technology (MAG-2)\nIzv
 ajalci: Aleš Babnik\nProstor: Laboratory LASTEH I/6
END:VEVENT
BEGIN:VEVENT
SUMMARY:Laser processing technology (LOTM)\, Laboratory excercises (VL)\, 
 [S2]
DTSTART;TZID=Europe/Ljubljana:20231004T140000
DTEND;TZID=Europe/Ljubljana:20231004T160000
DTSTAMP:20260424T150316Z
UID:fs-AFLABS-URNIK:srecanje:4973-2023-10-04 14:00:00+02:00
DESCRIPTION:Predmet: Laser processing technology (LOTM)\, Laboratory excer
 cises (VL)\, [S2]\nLetniki: Mechatronics and laser technology (MAG-2)\nIzv
 ajalci: Aleš Babnik\nProstor: Laboratory LASTEH I/6
END:VEVENT
BEGIN:VEVENT
SUMMARY:Laser processing technology (LOTM)\, Laboratory excercises (VL)\, 
 [S2]
DTSTART;TZID=Europe/Ljubljana:20231011T140000
DTEND;TZID=Europe/Ljubljana:20231011T160000
DTSTAMP:20260424T150316Z
UID:fs-AFLABS-URNIK:srecanje:4973-2023-10-11 14:00:00+02:00
DESCRIPTION:Predmet: Laser processing technology (LOTM)\, Laboratory excer
 cises (VL)\, [S2]\nLetniki: Mechatronics and laser technology (MAG-2)\nIzv
 ajalci: Aleš Babnik\nProstor: Laboratory LASTEH I/6
END:VEVENT
BEGIN:VEVENT
SUMMARY:Laser processing technology (LOTM)\, Laboratory excercises (VL)\, 
 [S3]
DTSTART;TZID=Europe/Ljubljana:20231004T160000
DTEND;TZID=Europe/Ljubljana:20231004T180000
DTSTAMP:20260424T150316Z
UID:fs-AFLABS-URNIK:srecanje:4974-2023-10-04 16:00:00+02:00
DESCRIPTION:Predmet: Laser processing technology (LOTM)\, Laboratory excer
 cises (VL)\, [S3]\nLetniki: Mechatronics and laser technology (MAG-2)\nIzv
 ajalci: Aleš Babnik\nProstor: Laboratory LASTEH I/6
END:VEVENT
BEGIN:VEVENT
SUMMARY:Laser processing technology (LOTM)\, Laboratory excercises (VL)\, 
 [S3]
DTSTART;TZID=Europe/Ljubljana:20231011T160000
DTEND;TZID=Europe/Ljubljana:20231011T180000
DTSTAMP:20260424T150316Z
UID:fs-AFLABS-URNIK:srecanje:4974-2023-10-11 16:00:00+02:00
DESCRIPTION:Predmet: Laser processing technology (LOTM)\, Laboratory excer
 cises (VL)\, [S3]\nLetniki: Mechatronics and laser technology (MAG-2)\nIzv
 ajalci: Aleš Babnik\nProstor: Laboratory LASTEH I/6
END:VEVENT
BEGIN:VEVENT
SUMMARY:Laser processing technology (LOTM)\, Laboratory excercises (VL)\, 
 [S4]
DTSTART;TZID=Europe/Ljubljana:20231004T180000
DTEND;TZID=Europe/Ljubljana:20231004T200000
DTSTAMP:20260424T150316Z
UID:fs-AFLABS-URNIK:srecanje:4975-2023-10-04 18:00:00+02:00
DESCRIPTION:Predmet: Laser processing technology (LOTM)\, Laboratory excer
 cises (VL)\, [S4]\nLetniki: Mechatronics and laser technology (MAG-2)\nIzv
 ajalci: Aleš Babnik\nProstor: Laboratory LASTEH I/6
END:VEVENT
BEGIN:VEVENT
SUMMARY:Laser processing technology (LOTM)\, Laboratory excercises (VL)\, 
 [S4]
DTSTART;TZID=Europe/Ljubljana:20231011T180000
DTEND;TZID=Europe/Ljubljana:20231011T200000
DTSTAMP:20260424T150316Z
UID:fs-AFLABS-URNIK:srecanje:4975-2023-10-11 18:00:00+02:00
DESCRIPTION:Predmet: Laser processing technology (LOTM)\, Laboratory excer
 cises (VL)\, [S4]\nLetniki: Mechatronics and laser technology (MAG-2)\nIzv
 ajalci: Aleš Babnik\nProstor: Laboratory LASTEH I/6
END:VEVENT
BEGIN:VEVENT
SUMMARY:Laser technique (LSTP)\, Laboratory excercises (VL)\, [S2]
DTSTART;TZID=Europe/Ljubljana:20231004T073000
DTEND;TZID=Europe/Ljubljana:20231004T093000
DTSTAMP:20260424T150316Z
UID:fs-AFLABS-URNIK:srecanje:5750-2023-10-04 07:30:00+02:00
DESCRIPTION:Predmet: Laser technique (LSTP)\, Laboratory excercises (VL)\,
  [S2]\nLetniki: Mechatronics (PAP-3)\nIzvajalci: Aleš Babnik\, Luka Hriba
 r\nProstor: Laboratory LASTEH K-15A
END:VEVENT
BEGIN:VEVENT
SUMMARY:Laser technique (LSTP)\, Laboratory excercises (VL)\, [S2]
DTSTART;TZID=Europe/Ljubljana:20231011T073000
DTEND;TZID=Europe/Ljubljana:20231011T093000
DTSTAMP:20260424T150316Z
UID:fs-AFLABS-URNIK:srecanje:5750-2023-10-11 07:30:00+02:00
DESCRIPTION:Predmet: Laser technique (LSTP)\, Laboratory excercises (VL)\,
  [S2]\nLetniki: Mechatronics (PAP-3)\nIzvajalci: Aleš Babnik\, Luka Hriba
 r\nProstor: Laboratory LASTEH K-15A
END:VEVENT
BEGIN:VEVENT
SUMMARY:Laser technique (LSTP)\, Laboratory excercises (VL)\, [S3]
DTSTART;TZID=Europe/Ljubljana:20231004T093000
DTEND;TZID=Europe/Ljubljana:20231004T113000
DTSTAMP:20260424T150316Z
UID:fs-AFLABS-URNIK:srecanje:5751-2023-10-04 09:30:00+02:00
DESCRIPTION:Predmet: Laser technique (LSTP)\, Laboratory excercises (VL)\,
  [S3]\nLetniki: Mechatronics (PAP-3)\nIzvajalci: Aleš Babnik\, Luka Hriba
 r\nProstor: Laboratory LASTEH K-15A
END:VEVENT
BEGIN:VEVENT
SUMMARY:Laser technique (LSTP)\, Laboratory excercises (VL)\, [S3]
DTSTART;TZID=Europe/Ljubljana:20231011T093000
DTEND;TZID=Europe/Ljubljana:20231011T113000
DTSTAMP:20260424T150316Z
UID:fs-AFLABS-URNIK:srecanje:5751-2023-10-11 09:30:00+02:00
DESCRIPTION:Predmet: Laser technique (LSTP)\, Laboratory excercises (VL)\,
  [S3]\nLetniki: Mechatronics (PAP-3)\nIzvajalci: Aleš Babnik\, Luka Hriba
 r\nProstor: Laboratory LASTEH K-15A
END:VEVENT
BEGIN:VEVENT
SUMMARY:Laser technique (LSTP)\, Laboratory excercises (VL)\, [S4]
DTSTART;TZID=Europe/Ljubljana:20231004T113000
DTEND;TZID=Europe/Ljubljana:20231004T133000
DTSTAMP:20260424T150316Z
UID:fs-AFLABS-URNIK:srecanje:5752-2023-10-04 11:30:00+02:00
DESCRIPTION:Predmet: Laser technique (LSTP)\, Laboratory excercises (VL)\,
  [S4]\nLetniki: Mechatronics (PAP-3)\nIzvajalci: Aleš Babnik\, Luka Hriba
 r\nProstor: Laboratory LASTEH K-15A
END:VEVENT
BEGIN:VEVENT
SUMMARY:Laser technique (LSTP)\, Laboratory excercises (VL)\, [S4]
DTSTART;TZID=Europe/Ljubljana:20231011T113000
DTEND;TZID=Europe/Ljubljana:20231011T133000
DTSTAMP:20260424T150316Z
UID:fs-AFLABS-URNIK:srecanje:5752-2023-10-11 11:30:00+02:00
DESCRIPTION:Predmet: Laser technique (LSTP)\, Laboratory excercises (VL)\,
  [S4]\nLetniki: Mechatronics (PAP-3)\nIzvajalci: Aleš Babnik\, Luka Hriba
 r\nProstor: Laboratory LASTEH K-15A
END:VEVENT
BEGIN:VEVENT
SUMMARY:Laser processing technology (LOTM)\, Laboratory excercises (VL)\, 
 [S1]
DTSTART;TZID=Europe/Ljubljana:20231005T120000
DTEND;TZID=Europe/Ljubljana:20231005T140000
DTSTAMP:20260424T150316Z
UID:fs-AFLABS-URNIK:srecanje:4976-2023-10-05 12:00:00+02:00
DESCRIPTION:Predmet: Laser processing technology (LOTM)\, Laboratory excer
 cises (VL)\, [S1]\nLetniki: Mechatronics and laser technology (MAG-2)\nIzv
 ajalci: Aleš Babnik\nProstor: Laboratory LASTEH I/6
END:VEVENT
BEGIN:VEVENT
SUMMARY:Laser processing technology (LOTM)\, Laboratory excercises (VL)\, 
 [S1]
DTSTART;TZID=Europe/Ljubljana:20231012T120000
DTEND;TZID=Europe/Ljubljana:20231012T140000
DTSTAMP:20260424T150316Z
UID:fs-AFLABS-URNIK:srecanje:4976-2023-10-12 12:00:00+02:00
DESCRIPTION:Predmet: Laser processing technology (LOTM)\, Laboratory excer
 cises (VL)\, [S1]\nLetniki: Mechatronics and laser technology (MAG-2)\nIzv
 ajalci: Aleš Babnik\nProstor: Laboratory LASTEH I/6
END:VEVENT
BEGIN:VEVENT
SUMMARY:Laser measurement systems (LMSM)\, Laboratory excercises (VL)\, [S
 4]
DTSTART;TZID=Europe/Ljubljana:20231005T180000
DTEND;TZID=Europe/Ljubljana:20231005T200000
DTSTAMP:20260424T150316Z
UID:fs-AFLABS-URNIK:srecanje:5067-2023-10-05 18:00:00+02:00
DESCRIPTION:Predmet: Laser measurement systems (LMSM)\, Laboratory excerci
 ses (VL)\, [S4]\nLetniki: Mechatronics and laser technology (MAG-2)\nIzvaj
 alci: Aleš Babnik\nProstor: Laboratory LASTEH I/6
END:VEVENT
BEGIN:VEVENT
SUMMARY:Laser measurement systems (LMSM)\, Laboratory excercises (VL)\, [S
 4]
DTSTART;TZID=Europe/Ljubljana:20231012T180000
DTEND;TZID=Europe/Ljubljana:20231012T200000
DTSTAMP:20260424T150316Z
UID:fs-AFLABS-URNIK:srecanje:5067-2023-10-12 18:00:00+02:00
DESCRIPTION:Predmet: Laser measurement systems (LMSM)\, Laboratory excerci
 ses (VL)\, [S4]\nLetniki: Mechatronics and laser technology (MAG-2)\nIzvaj
 alci: Aleš Babnik\nProstor: Laboratory LASTEH I/6
END:VEVENT
BEGIN:VEVENT
SUMMARY:Laser measurement systems (LMSM)\, Laboratory excercises (VL)\, [S
 1]
DTSTART;TZID=Europe/Ljubljana:20231006T080000
DTEND;TZID=Europe/Ljubljana:20231006T100000
DTSTAMP:20260424T150316Z
UID:fs-AFLABS-URNIK:srecanje:4926-2023-10-06 08:00:00+02:00
DESCRIPTION:Predmet: Laser measurement systems (LMSM)\, Laboratory excerci
 ses (VL)\, [S1]\nLetniki: Mechatronics and laser technology (MAG-2)\nIzvaj
 alci: Aleš Babnik\nProstor: Laboratory LASTEH I/6
END:VEVENT
BEGIN:VEVENT
SUMMARY:Laser measurement systems (LMSM)\, Laboratory excercises (VL)\, [S
 1]
DTSTART;TZID=Europe/Ljubljana:20231013T080000
DTEND;TZID=Europe/Ljubljana:20231013T100000
DTSTAMP:20260424T150316Z
UID:fs-AFLABS-URNIK:srecanje:4926-2023-10-13 08:00:00+02:00
DESCRIPTION:Predmet: Laser measurement systems (LMSM)\, Laboratory excerci
 ses (VL)\, [S1]\nLetniki: Mechatronics and laser technology (MAG-2)\nIzvaj
 alci: Aleš Babnik\nProstor: Laboratory LASTEH I/6
END:VEVENT
BEGIN:VEVENT
SUMMARY:Laser measurement systems (LMSM)\, Laboratory excercises (VL)\, [S
 6]
DTSTART;TZID=Europe/Ljubljana:20231006T140000
DTEND;TZID=Europe/Ljubljana:20231006T160000
DTSTAMP:20260424T150316Z
UID:fs-AFLABS-URNIK:srecanje:4928-2023-10-06 14:00:00+02:00
DESCRIPTION:Predmet: Laser measurement systems (LMSM)\, Laboratory excerci
 ses (VL)\, [S6]\nLetniki: Mechatronics and laser technology (MAG-2)\nIzvaj
 alci: Aleš Babnik\nProstor: Laboratory LASTEH I/6
END:VEVENT
BEGIN:VEVENT
SUMMARY:Laser measurement systems (LMSM)\, Laboratory excercises (VL)\, [S
 6]
DTSTART;TZID=Europe/Ljubljana:20231013T140000
DTEND;TZID=Europe/Ljubljana:20231013T160000
DTSTAMP:20260424T150316Z
UID:fs-AFLABS-URNIK:srecanje:4928-2023-10-13 14:00:00+02:00
DESCRIPTION:Predmet: Laser measurement systems (LMSM)\, Laboratory excerci
 ses (VL)\, [S6]\nLetniki: Mechatronics and laser technology (MAG-2)\nIzvaj
 alci: Aleš Babnik\nProstor: Laboratory LASTEH I/6
END:VEVENT
BEGIN:VEVENT
SUMMARY:Laser processing technology (LOTM)\, Lecture exercises (VP)
DTSTART;TZID=Europe/Ljubljana:20231019T120000
DTEND;TZID=Europe/Ljubljana:20231019T140000
DTSTAMP:20260424T150316Z
UID:fs-AFLABS-URNIK:srecanje:2282-2023-10-19 12:00:00+02:00
DESCRIPTION:Predmet: Laser processing technology (LOTM)\, Lecture exercise
 s (VP)\nLetniki: Mechatronics and laser technology (MAG-2)\nIzvajalci: Ale
 š Babnik\nProstor: Lecture hall II/3A
END:VEVENT
BEGIN:VEVENT
SUMMARY:Laser measurement systems (LMSM)\, Lecture exercises (VP)
DTSTART;TZID=Europe/Ljubljana:20231020T080000
DTEND;TZID=Europe/Ljubljana:20231020T100000
DTSTAMP:20260424T150316Z
UID:fs-AFLABS-URNIK:srecanje:2284-2023-10-20 08:00:00+02:00
DESCRIPTION:Predmet: Laser measurement systems (LMSM)\, Lecture exercises 
 (VP)\nLetniki: Mechatronics and laser technology (MAG-2)\nIzvajalci: Aleš
  Babnik\nProstor: Lecture hall II/3B
END:VEVENT
BEGIN:VEVENT
SUMMARY:Laser technique (LSTP)\, Lecture exercises (VP)
DTSTART;TZID=Europe/Ljubljana:20231020T133000
DTEND;TZID=Europe/Ljubljana:20231020T153000
DTSTAMP:20260424T150316Z
UID:fs-AFLABS-URNIK:srecanje:4209-2023-10-20 13:30:00+02:00
DESCRIPTION:Predmet: Laser technique (LSTP)\, Lecture exercises (VP)\nLetn
 iki: Mechatronics (PAP-3)\nIzvajalci: Aleš Babnik\, Luka Hribar\nProstor:
  Lecture hall II/3B
END:VEVENT
END:VCALENDAR
