BEGIN:VCALENDAR
VERSION:2.0
PRODID:-//AFLabs urnik izvoz - fs//aflabs.si//SI
NAME:UL FS Urnik
X-WR-CALNAME:UL FS Urnik
DTSTAMP:20260425T005523Z
REFRESH-INTERVAL:PT1H
SOURCE:https://urnik.fs.uni-lj.si/en/teacher/635/?day=2024-07-01&export=1
URL:https://urnik.fs.uni-lj.si/en/teacher/635/?day=2024-07-01&export=1
X-PUBLISHED-TTL:PT1H
X-WR-TIMEZONE:Europe/Ljubljana
BEGIN:VTIMEZONE
TZID:Europe/Ljubljana
BEGIN:DAYLIGHT
DTSTART:20260329T020000
RDATE:20260329T020000
RDATE:20270328T020000
TZNAME:CEST
TZOFFSETFROM:+0100
TZOFFSETTO:+0200
END:DAYLIGHT
BEGIN:STANDARD
DTSTART:20261025T030000
RDATE:20261025T030000
RDATE:20271031T030000
TZNAME:CET
TZOFFSETFROM:+0200
TZOFFSETTO:+0100
END:STANDARD
END:VTIMEZONE
BEGIN:VEVENT
SUMMARY:Quality Engineering (QLEE)\, Lectures (P)
DTSTART;TZID=Europe/Ljubljana:20240527T160000
DTEND;TZID=Europe/Ljubljana:20240527T180000
DTSTAMP:20260425T005523Z
UID:fs-AFLABS-URNIK:srecanje:6132-2024-05-27 16:00:00+02:00
DESCRIPTION:Predmet: Quality Engineering (QLEE)\, Lectures (P)\nLetniki: E
 rasmus (Erasmus)\nIzvajalci: Tomaž Berlec\, Davorin Kramar\nProstor: Lect
 ure hall I/4A
END:VEVENT
BEGIN:VEVENT
SUMMARY:Production planning and organization (POPM)\, Lectures (P)
DTSTART;TZID=Europe/Ljubljana:20240528T080000
DTEND;TZID=Europe/Ljubljana:20240528T100000
DTSTAMP:20260425T005523Z
UID:fs-AFLABS-URNIK:srecanje:3780-2024-05-28 08:00:00+02:00
DESCRIPTION:Predmet: Production planning and organization (POPM)\, Lecture
 s (P)\nLetniki: Production engineering (MAG-1)\nIzvajalci: Tomaž Berlec\n
 Prostor: Lecture hall III/2
END:VEVENT
BEGIN:VEVENT
SUMMARY:Production planning (PRPP)\, Lectures (P)
DTSTART;TZID=Europe/Ljubljana:20240528T153000
DTEND;TZID=Europe/Ljubljana:20240528T173000
DTSTAMP:20260425T005523Z
UID:fs-AFLABS-URNIK:srecanje:3792-2024-05-28 15:30:00+02:00
DESCRIPTION:Predmet: Production planning (PRPP)\, Lectures (P)\nLetniki: P
 roduction engineering (PAP-2)\nIzvajalci: Tomaž Berlec\nProstor: Lecture 
 hall III/3B
END:VEVENT
BEGIN:VEVENT
SUMMARY:Production engineering (PRIR)\, Lectures (P)
DTSTART;TZID=Europe/Ljubljana:20240529T100000
DTEND;TZID=Europe/Ljubljana:20240529T120000
DTSTAMP:20260425T005523Z
UID:fs-AFLABS-URNIK:srecanje:8380-2024-05-29 10:00:00+02:00
DESCRIPTION:Predmet: Production engineering (PRIR)\, Lectures (P)\nLetniki
 : RRP-3 (RRP-3)\nIzvajalci: Tomaž Berlec\, Niko Herakovič\nProstor: Lect
 ure hall IV/2
END:VEVENT
BEGIN:VEVENT
SUMMARY:Energy and material flows in industry (ESTP)\, Lectures (P)
DTSTART;TZID=Europe/Ljubljana:20240530T113000
DTEND;TZID=Europe/Ljubljana:20240530T133000
DTSTAMP:20260425T005523Z
UID:fs-AFLABS-URNIK:srecanje:3649-2024-05-30 11:30:00+02:00
DESCRIPTION:Predmet: Energy and material flows in industry (ESTP)\, Lectur
 es (P)\nLetniki: Production engineering (PAP-2)\nIzvajalci: Tomaž Berlec\
 , Iztok Golobič\, Lidija Rihar\nProstor: Lecture hall III/3B
END:VEVENT
BEGIN:VEVENT
SUMMARY:Proizvodno inženirstvo - kolokvij
DTSTART;TZID=Europe/Ljubljana:20240529T180000
DTEND;TZID=Europe/Ljubljana:20240529T200000
DTSTAMP:20260425T005523Z
UID:fs-AFLABS-URNIK:rezervacija:4490
ATTENDEE:RRP-3 (RRP-3)
CATEGORIES:Reservation
COLOR:royalblue
DESCRIPTION:Predmeti: Production engineering (PRIR)\nLetniki: RRP-3 (RRP-3
 )\nIzvajalci: Tomaž Berlec\nProstori: Lecture hall III/2\, Lecture hall I
 II/4
LOCATION:Lecture hall III/2\, Lecture hall III/4
ORGANIZER:Tomaž Berlec
X-WR-TIMEZONE:Europe/Ljubljana
END:VEVENT
BEGIN:VEVENT
SUMMARY:Izpit: Načrtovanje in vodenje proizvodnje (3078)
DTSTART;TZID=Europe/Ljubljana:20240603T120000
DTEND;TZID=Europe/Ljubljana:20240603T140000
DTSTAMP:20260425T005523Z
UID:fs-AFLABS-URNIK:rezervacija:4691
CATEGORIES:Reservation
COLOR:royalblue
DESCRIPTION:Predmeti: \nLetniki: \nIzvajalci: Tomaž Berlec\nProstori: Lec
 ture hall III/2
LOCATION:Lecture hall III/2
ORGANIZER:Tomaž Berlec
X-WR-TIMEZONE:Europe/Ljubljana
END:VEVENT
BEGIN:VEVENT
SUMMARY:Izpit: Vodenje proizvodnje
DTSTART;TZID=Europe/Ljubljana:20240603T120000
DTEND;TZID=Europe/Ljubljana:20240603T140000
DTSTAMP:20260425T005523Z
UID:fs-AFLABS-URNIK:rezervacija:4692
ATTENDEE:Production engineering (PAP-3)
CATEGORIES:Reservation
COLOR:royalblue
DESCRIPTION:Predmeti: Production leading (VDPP)\nLetniki: Production engin
 eering (PAP-3)\nIzvajalci: Tomaž Berlec\nProstori: Lecture hall III/2
LOCATION:Lecture hall III/2
ORGANIZER:Tomaž Berlec
X-WR-TIMEZONE:Europe/Ljubljana
END:VEVENT
BEGIN:VEVENT
SUMMARY:Izpit: Investicijski inženiring (6218)
DTSTART;TZID=Europe/Ljubljana:20240604T100000
DTEND;TZID=Europe/Ljubljana:20240604T120000
DTSTAMP:20260425T005523Z
UID:fs-AFLABS-URNIK:rezervacija:4911
CATEGORIES:Reservation
COLOR:royalblue
DESCRIPTION:Predmeti: \nLetniki: \nIzvajalci: Tomaž Berlec\nProstori: Lec
 ture hall III/3A
LOCATION:Lecture hall III/3A
ORGANIZER:Tomaž Berlec
X-WR-TIMEZONE:Europe/Ljubljana
END:VEVENT
BEGIN:VEVENT
SUMMARY:Izpit: Priprava proizvodnje
DTSTART;TZID=Europe/Ljubljana:20240606T100000
DTEND;TZID=Europe/Ljubljana:20240606T120000
DTSTAMP:20260425T005523Z
UID:fs-AFLABS-URNIK:rezervacija:4957
ATTENDEE:Production engineering (PAP-2)
CATEGORIES:Reservation
COLOR:royalblue
DESCRIPTION:Predmeti: Production planning (PRPP)\nLetniki: Production engi
 neering (PAP-2)\nIzvajalci: Tomaž Berlec\nProstori: Lecture hall III/2\, 
 Lecture hall III/4
LOCATION:Lecture hall III/2\, Lecture hall III/4
ORGANIZER:Tomaž Berlec
X-WR-TIMEZONE:Europe/Ljubljana
END:VEVENT
BEGIN:VEVENT
SUMMARY:Izpit: Planiranje in organizacija proizvodnje
DTSTART;TZID=Europe/Ljubljana:20240607T150000
DTEND;TZID=Europe/Ljubljana:20240607T170000
DTSTAMP:20260425T005523Z
UID:fs-AFLABS-URNIK:rezervacija:4982
ATTENDEE:Production engineering (MAG-1)
CATEGORIES:Reservation
COLOR:royalblue
DESCRIPTION:Predmeti: Production planning and organization (POPM)\nLetniki
 : Production engineering (MAG-1)\nIzvajalci: Tomaž Berlec\nProstori: Lect
 ure hall III/4\, Lecture hall IV/2
LOCATION:Lecture hall III/4\, Lecture hall IV/2
ORGANIZER:Tomaž Berlec
X-WR-TIMEZONE:Europe/Ljubljana
END:VEVENT
BEGIN:VEVENT
SUMMARY:Izpit: Proizvodni sistemi (6228)
DTSTART;TZID=Europe/Ljubljana:20240610T090000
DTEND;TZID=Europe/Ljubljana:20240610T110000
DTSTAMP:20260425T005523Z
UID:fs-AFLABS-URNIK:rezervacija:5010
CATEGORIES:Reservation
COLOR:royalblue
DESCRIPTION:Predmeti: \nLetniki: \nIzvajalci: Tomaž Berlec\nProstori: Lec
 ture hall II/5
LOCATION:Lecture hall II/5
ORGANIZER:Tomaž Berlec
X-WR-TIMEZONE:Europe/Ljubljana
END:VEVENT
BEGIN:VEVENT
SUMMARY:Izpit: Projektno vodenje (2029)
DTSTART;TZID=Europe/Ljubljana:20240614T100000
DTEND;TZID=Europe/Ljubljana:20240614T120000
DTSTAMP:20260425T005523Z
UID:fs-AFLABS-URNIK:rezervacija:5111
CATEGORIES:Reservation
COLOR:royalblue
DESCRIPTION:Predmeti: \nLetniki: \nIzvajalci: Tomaž Berlec\nProstori: Lec
 ture hall II/2
LOCATION:Lecture hall II/2
ORGANIZER:Tomaž Berlec
X-WR-TIMEZONE:Europe/Ljubljana
END:VEVENT
BEGIN:VEVENT
SUMMARY:Izpit: Priprava proizvodnje
DTSTART;TZID=Europe/Ljubljana:20240620T080000
DTEND;TZID=Europe/Ljubljana:20240620T100000
DTSTAMP:20260425T005523Z
UID:fs-AFLABS-URNIK:rezervacija:5206
ATTENDEE:Production engineering (PAP-2)
CATEGORIES:Reservation
COLOR:royalblue
DESCRIPTION:Predmeti: Production planning (PRPP)\nLetniki: Production engi
 neering (PAP-2)\nIzvajalci: Tomaž Berlec\nProstori: Lecture hall V/2
LOCATION:Lecture hall V/2
ORGANIZER:Tomaž Berlec
X-WR-TIMEZONE:Europe/Ljubljana
END:VEVENT
BEGIN:VEVENT
SUMMARY:Izpit: Priprava proizvodnje (3070)
DTSTART;TZID=Europe/Ljubljana:20240620T080000
DTEND;TZID=Europe/Ljubljana:20240620T100000
DTSTAMP:20260425T005523Z
UID:fs-AFLABS-URNIK:rezervacija:5207
CATEGORIES:Reservation
COLOR:royalblue
DESCRIPTION:Predmeti: \nLetniki: \nIzvajalci: Tomaž Berlec\nProstori: Lec
 ture hall V/2
LOCATION:Lecture hall V/2
ORGANIZER:Tomaž Berlec
X-WR-TIMEZONE:Europe/Ljubljana
END:VEVENT
BEGIN:VEVENT
SUMMARY:Izpit: Planiranje in krmiljenje proizvodnje (6031)
DTSTART;TZID=Europe/Ljubljana:20240621T080000
DTEND;TZID=Europe/Ljubljana:20240621T100000
DTSTAMP:20260425T005523Z
UID:fs-AFLABS-URNIK:rezervacija:5233
CATEGORIES:Reservation
COLOR:royalblue
DESCRIPTION:Predmeti: \nLetniki: \nIzvajalci: Tomaž Berlec\nProstori: Lec
 ture hall IV/4\, Lecture hall V/2
LOCATION:Lecture hall IV/4\, Lecture hall V/2
ORGANIZER:Tomaž Berlec
X-WR-TIMEZONE:Europe/Ljubljana
END:VEVENT
BEGIN:VEVENT
SUMMARY:Izpit: Planiranje in krmiljenje proizvodnje (6031) - 2. letnik
DTSTART;TZID=Europe/Ljubljana:20240621T080000
DTEND;TZID=Europe/Ljubljana:20240621T100000
DTSTAMP:20260425T005523Z
UID:fs-AFLABS-URNIK:rezervacija:5234
CATEGORIES:Reservation
COLOR:royalblue
DESCRIPTION:Predmeti: \nLetniki: \nIzvajalci: Tomaž Berlec\nProstori: Lec
 ture hall IV/4\, Lecture hall V/2
LOCATION:Lecture hall IV/4\, Lecture hall V/2
ORGANIZER:Tomaž Berlec
X-WR-TIMEZONE:Europe/Ljubljana
END:VEVENT
BEGIN:VEVENT
SUMMARY:Izpit: Planiranje in organizacija proizvodnje
DTSTART;TZID=Europe/Ljubljana:20240621T080000
DTEND;TZID=Europe/Ljubljana:20240621T100000
DTSTAMP:20260425T005523Z
UID:fs-AFLABS-URNIK:rezervacija:5235
ATTENDEE:Production engineering (MAG-1)
CATEGORIES:Reservation
COLOR:royalblue
DESCRIPTION:Predmeti: Production planning and organization (POPM)\nLetniki
 : Production engineering (MAG-1)\nIzvajalci: Tomaž Berlec\nProstori: Lect
 ure hall IV/4\, Lecture hall V/2
LOCATION:Lecture hall IV/4\, Lecture hall V/2
ORGANIZER:Tomaž Berlec
X-WR-TIMEZONE:Europe/Ljubljana
END:VEVENT
BEGIN:VEVENT
SUMMARY:Izpit: Investicijski inženiring
DTSTART;TZID=Europe/Ljubljana:20240628T100000
DTEND;TZID=Europe/Ljubljana:20240628T120000
DTSTAMP:20260425T005523Z
UID:fs-AFLABS-URNIK:rezervacija:5350
ATTENDEE:Production engineering (PAP-3)
CATEGORIES:Reservation
COLOR:royalblue
DESCRIPTION:Predmeti: Investment engineering (INIP)\nLetniki: Production e
 ngineering (PAP-3)\nIzvajalci: Tomaž Berlec\nProstori: Lecture hall IV/2
LOCATION:Lecture hall IV/2
ORGANIZER:Tomaž Berlec
X-WR-TIMEZONE:Europe/Ljubljana
END:VEVENT
BEGIN:VEVENT
SUMMARY:Izpit: Investicijski inženiring in vodenje projektov (3062)
DTSTART;TZID=Europe/Ljubljana:20240628T100000
DTEND;TZID=Europe/Ljubljana:20240628T120000
DTSTAMP:20260425T005523Z
UID:fs-AFLABS-URNIK:rezervacija:5351
CATEGORIES:Reservation
COLOR:royalblue
DESCRIPTION:Predmeti: \nLetniki: \nIzvajalci: Tomaž Berlec\nProstori: Lec
 ture hall IV/2
LOCATION:Lecture hall IV/2
ORGANIZER:Tomaž Berlec
X-WR-TIMEZONE:Europe/Ljubljana
END:VEVENT
END:VCALENDAR
