BEGIN:VCALENDAR
VERSION:2.0
PRODID:-//AFLabs urnik izvoz - fs//aflabs.si//SI
NAME:UL FS Urnik
X-WR-CALNAME:UL FS Urnik
DTSTAMP:20260425T190509Z
REFRESH-INTERVAL:PT1H
SOURCE:https://urnik.fs.uni-lj.si/en/teacher/635/?day=2026-06-01&export=1
URL:https://urnik.fs.uni-lj.si/en/teacher/635/?day=2026-06-01&export=1
X-PUBLISHED-TTL:PT1H
X-WR-TIMEZONE:Europe/Ljubljana
BEGIN:VTIMEZONE
TZID:Europe/Ljubljana
BEGIN:DAYLIGHT
DTSTART:20260329T020000
RDATE:20260329T020000
RDATE:20270328T020000
TZNAME:CEST
TZOFFSETFROM:+0100
TZOFFSETTO:+0200
END:DAYLIGHT
BEGIN:STANDARD
DTSTART:20261025T030000
RDATE:20261025T030000
RDATE:20271031T030000
TZNAME:CET
TZOFFSETFROM:+0200
TZOFFSETTO:+0100
END:STANDARD
END:VTIMEZONE
BEGIN:VEVENT
SUMMARY:Production planning and organization (POPM)\, Lectures (P)
DTSTART;TZID=Europe/Ljubljana:20260428T080000
DTEND;TZID=Europe/Ljubljana:20260428T100000
DTSTAMP:20260425T190509Z
UID:fs-AFLABS-URNIK:srecanje:16410-2026-04-28 08:00:00+02:00
DESCRIPTION:Predmet: Production planning and organization (POPM)\, Lecture
 s (P)\nLetniki: Production engineering (MAG-1)\nIzvajalci: Tomaž Berlec\n
 Prostor: Lecture hall III/3A
END:VEVENT
BEGIN:VEVENT
SUMMARY:Production planning and organization (POPM)\, Lectures (P)
DTSTART;TZID=Europe/Ljubljana:20260505T080000
DTEND;TZID=Europe/Ljubljana:20260505T100000
DTSTAMP:20260425T190509Z
UID:fs-AFLABS-URNIK:srecanje:16410-2026-05-05 08:00:00+02:00
DESCRIPTION:Predmet: Production planning and organization (POPM)\, Lecture
 s (P)\nLetniki: Production engineering (MAG-1)\nIzvajalci: Tomaž Berlec\n
 Prostor: Lecture hall III/3A
END:VEVENT
BEGIN:VEVENT
SUMMARY:Production planning and organization (POPM)\, Lectures (P)
DTSTART;TZID=Europe/Ljubljana:20260512T080000
DTEND;TZID=Europe/Ljubljana:20260512T100000
DTSTAMP:20260425T190509Z
UID:fs-AFLABS-URNIK:srecanje:16410-2026-05-12 08:00:00+02:00
DESCRIPTION:Predmet: Production planning and organization (POPM)\, Lecture
 s (P)\nLetniki: Production engineering (MAG-1)\nIzvajalci: Tomaž Berlec\n
 Prostor: Lecture hall III/3A
END:VEVENT
BEGIN:VEVENT
SUMMARY:Production planning and organization (POPM)\, Lectures (P)
DTSTART;TZID=Europe/Ljubljana:20260519T080000
DTEND;TZID=Europe/Ljubljana:20260519T100000
DTSTAMP:20260425T190509Z
UID:fs-AFLABS-URNIK:srecanje:16410-2026-05-19 08:00:00+02:00
DESCRIPTION:Predmet: Production planning and organization (POPM)\, Lecture
 s (P)\nLetniki: Production engineering (MAG-1)\nIzvajalci: Tomaž Berlec\n
 Prostor: Lecture hall III/3A
END:VEVENT
BEGIN:VEVENT
SUMMARY:Production planning and organization (POPM)\, Lectures (P)
DTSTART;TZID=Europe/Ljubljana:20260526T080000
DTEND;TZID=Europe/Ljubljana:20260526T100000
DTSTAMP:20260425T190509Z
UID:fs-AFLABS-URNIK:srecanje:16410-2026-05-26 08:00:00+02:00
DESCRIPTION:Predmet: Production planning and organization (POPM)\, Lecture
 s (P)\nLetniki: Production engineering (MAG-1)\nIzvajalci: Tomaž Berlec\n
 Prostor: Lecture hall III/3A
END:VEVENT
BEGIN:VEVENT
SUMMARY:Production planning (PRPP)\, Lectures (P)
DTSTART;TZID=Europe/Ljubljana:20260428T153000
DTEND;TZID=Europe/Ljubljana:20260428T173000
DTSTAMP:20260425T190509Z
UID:fs-AFLABS-URNIK:srecanje:16446-2026-04-28 15:30:00+02:00
DESCRIPTION:Predmet: Production planning (PRPP)\, Lectures (P)\nLetniki: P
 roduction engineering (PAP-2)\nIzvajalci: Tomaž Berlec\nProstor: Lecture 
 hall III/2
END:VEVENT
BEGIN:VEVENT
SUMMARY:Production planning (PRPP)\, Lectures (P)
DTSTART;TZID=Europe/Ljubljana:20260505T153000
DTEND;TZID=Europe/Ljubljana:20260505T173000
DTSTAMP:20260425T190509Z
UID:fs-AFLABS-URNIK:srecanje:16446-2026-05-05 15:30:00+02:00
DESCRIPTION:Predmet: Production planning (PRPP)\, Lectures (P)\nLetniki: P
 roduction engineering (PAP-2)\nIzvajalci: Tomaž Berlec\nProstor: Lecture 
 hall III/2
END:VEVENT
BEGIN:VEVENT
SUMMARY:Production planning (PRPP)\, Lectures (P)
DTSTART;TZID=Europe/Ljubljana:20260512T153000
DTEND;TZID=Europe/Ljubljana:20260512T173000
DTSTAMP:20260425T190509Z
UID:fs-AFLABS-URNIK:srecanje:16446-2026-05-12 15:30:00+02:00
DESCRIPTION:Predmet: Production planning (PRPP)\, Lectures (P)\nLetniki: P
 roduction engineering (PAP-2)\nIzvajalci: Tomaž Berlec\nProstor: Lecture 
 hall III/2
END:VEVENT
BEGIN:VEVENT
SUMMARY:Production planning (PRPP)\, Lectures (P)
DTSTART;TZID=Europe/Ljubljana:20260519T153000
DTEND;TZID=Europe/Ljubljana:20260519T173000
DTSTAMP:20260425T190509Z
UID:fs-AFLABS-URNIK:srecanje:16446-2026-05-19 15:30:00+02:00
DESCRIPTION:Predmet: Production planning (PRPP)\, Lectures (P)\nLetniki: P
 roduction engineering (PAP-2)\nIzvajalci: Tomaž Berlec\nProstor: Lecture 
 hall III/2
END:VEVENT
BEGIN:VEVENT
SUMMARY:Production planning (PRPP)\, Lectures (P)
DTSTART;TZID=Europe/Ljubljana:20260526T153000
DTEND;TZID=Europe/Ljubljana:20260526T173000
DTSTAMP:20260425T190509Z
UID:fs-AFLABS-URNIK:srecanje:16446-2026-05-26 15:30:00+02:00
DESCRIPTION:Predmet: Production planning (PRPP)\, Lectures (P)\nLetniki: P
 roduction engineering (PAP-2)\nIzvajalci: Tomaž Berlec\nProstor: Lecture 
 hall III/2
END:VEVENT
BEGIN:VEVENT
SUMMARY:Production engineering (PRIR)\, Lectures (P)
DTSTART;TZID=Europe/Ljubljana:20260429T110000
DTEND;TZID=Europe/Ljubljana:20260429T130000
DTSTAMP:20260425T190509Z
UID:fs-AFLABS-URNIK:srecanje:16320-2026-04-29 11:00:00+02:00
DESCRIPTION:Predmet: Production engineering (PRIR)\, Lectures (P)\nLetniki
 : RRP-3 (RRP-3)\nIzvajalci: Tomaž Berlec\, Niko Herakovič\, Marko Šimic
 \nProstor: Lecture hall III/4
END:VEVENT
BEGIN:VEVENT
SUMMARY:Production engineering (PRIR)\, Lectures (P)
DTSTART;TZID=Europe/Ljubljana:20260506T110000
DTEND;TZID=Europe/Ljubljana:20260506T130000
DTSTAMP:20260425T190509Z
UID:fs-AFLABS-URNIK:srecanje:16320-2026-05-06 11:00:00+02:00
DESCRIPTION:Predmet: Production engineering (PRIR)\, Lectures (P)\nLetniki
 : RRP-3 (RRP-3)\nIzvajalci: Tomaž Berlec\, Niko Herakovič\, Marko Šimic
 \nProstor: Lecture hall III/4
END:VEVENT
BEGIN:VEVENT
SUMMARY:Production engineering (PRIR)\, Lectures (P)
DTSTART;TZID=Europe/Ljubljana:20260513T110000
DTEND;TZID=Europe/Ljubljana:20260513T130000
DTSTAMP:20260425T190509Z
UID:fs-AFLABS-URNIK:srecanje:16320-2026-05-13 11:00:00+02:00
DESCRIPTION:Predmet: Production engineering (PRIR)\, Lectures (P)\nLetniki
 : RRP-3 (RRP-3)\nIzvajalci: Tomaž Berlec\, Niko Herakovič\, Marko Šimic
 \nProstor: Lecture hall III/4
END:VEVENT
BEGIN:VEVENT
SUMMARY:Production engineering (PRIR)\, Lectures (P)
DTSTART;TZID=Europe/Ljubljana:20260520T110000
DTEND;TZID=Europe/Ljubljana:20260520T130000
DTSTAMP:20260425T190509Z
UID:fs-AFLABS-URNIK:srecanje:16320-2026-05-20 11:00:00+02:00
DESCRIPTION:Predmet: Production engineering (PRIR)\, Lectures (P)\nLetniki
 : RRP-3 (RRP-3)\nIzvajalci: Tomaž Berlec\, Niko Herakovič\, Marko Šimic
 \nProstor: Lecture hall III/4
END:VEVENT
BEGIN:VEVENT
SUMMARY:Production engineering (PRIR)\, Lectures (P)
DTSTART;TZID=Europe/Ljubljana:20260527T110000
DTEND;TZID=Europe/Ljubljana:20260527T130000
DTSTAMP:20260425T190509Z
UID:fs-AFLABS-URNIK:srecanje:16320-2026-05-27 11:00:00+02:00
DESCRIPTION:Predmet: Production engineering (PRIR)\, Lectures (P)\nLetniki
 : RRP-3 (RRP-3)\nIzvajalci: Tomaž Berlec\, Niko Herakovič\, Marko Šimic
 \nProstor: Lecture hall III/4
END:VEVENT
BEGIN:VEVENT
SUMMARY:Energy and material flows in industry (ESTP)\, Lectures (P)
DTSTART;TZID=Europe/Ljubljana:20260501T093000
DTEND;TZID=Europe/Ljubljana:20260501T113000
DTSTAMP:20260425T190509Z
UID:fs-AFLABS-URNIK:srecanje:16448-2026-05-01 09:30:00+02:00
DESCRIPTION:Predmet: Energy and material flows in industry (ESTP)\, Lectur
 es (P)\nLetniki: Production engineering (PAP-2)\nIzvajalci: Tomaž Berlec\
 , Iztok Golobič\, Matic Može\, Lidija Rihar\nProstor: Lecture hall IV/3A
END:VEVENT
BEGIN:VEVENT
SUMMARY:Energy and material flows in industry (ESTP)\, Lectures (P)
DTSTART;TZID=Europe/Ljubljana:20260508T093000
DTEND;TZID=Europe/Ljubljana:20260508T113000
DTSTAMP:20260425T190509Z
UID:fs-AFLABS-URNIK:srecanje:16448-2026-05-08 09:30:00+02:00
DESCRIPTION:Predmet: Energy and material flows in industry (ESTP)\, Lectur
 es (P)\nLetniki: Production engineering (PAP-2)\nIzvajalci: Tomaž Berlec\
 , Iztok Golobič\, Matic Može\, Lidija Rihar\nProstor: Lecture hall IV/3A
END:VEVENT
BEGIN:VEVENT
SUMMARY:Energy and material flows in industry (ESTP)\, Lectures (P)
DTSTART;TZID=Europe/Ljubljana:20260515T093000
DTEND;TZID=Europe/Ljubljana:20260515T113000
DTSTAMP:20260425T190509Z
UID:fs-AFLABS-URNIK:srecanje:16448-2026-05-15 09:30:00+02:00
DESCRIPTION:Predmet: Energy and material flows in industry (ESTP)\, Lectur
 es (P)\nLetniki: Production engineering (PAP-2)\nIzvajalci: Tomaž Berlec\
 , Iztok Golobič\, Matic Može\, Lidija Rihar\nProstor: Lecture hall IV/3A
END:VEVENT
BEGIN:VEVENT
SUMMARY:Energy and material flows in industry (ESTP)\, Lectures (P)
DTSTART;TZID=Europe/Ljubljana:20260522T093000
DTEND;TZID=Europe/Ljubljana:20260522T113000
DTSTAMP:20260425T190509Z
UID:fs-AFLABS-URNIK:srecanje:16448-2026-05-22 09:30:00+02:00
DESCRIPTION:Predmet: Energy and material flows in industry (ESTP)\, Lectur
 es (P)\nLetniki: Production engineering (PAP-2)\nIzvajalci: Tomaž Berlec\
 , Iztok Golobič\, Matic Može\, Lidija Rihar\nProstor: Lecture hall IV/3A
END:VEVENT
BEGIN:VEVENT
SUMMARY:Energy and material flows in industry (ESTP)\, Lectures (P)
DTSTART;TZID=Europe/Ljubljana:20260529T093000
DTEND;TZID=Europe/Ljubljana:20260529T113000
DTSTAMP:20260425T190509Z
UID:fs-AFLABS-URNIK:srecanje:16448-2026-05-29 09:30:00+02:00
DESCRIPTION:Predmet: Energy and material flows in industry (ESTP)\, Lectur
 es (P)\nLetniki: Production engineering (PAP-2)\nIzvajalci: Tomaž Berlec\
 , Iztok Golobič\, Matic Može\, Lidija Rihar\nProstor: Lecture hall IV/3A
END:VEVENT
BEGIN:VEVENT
SUMMARY:Izpit: Priprava proizvodnje
DTSTART;TZID=Europe/Ljubljana:20260618T080000
DTEND;TZID=Europe/Ljubljana:20260618T100000
DTSTAMP:20260425T190509Z
UID:fs-AFLABS-URNIK:rezervacija:11826
ATTENDEE:Production engineering (PAP-2)
CATEGORIES:Reservation
COLOR:royalblue
DESCRIPTION:Predmeti: Production planning (PRPP)\nLetniki: Production engi
 neering (PAP-2)\nIzvajalci: Tomaž Berlec\nProstori: Lecture hall V/2
LOCATION:Lecture hall V/2
ORGANIZER:Tomaž Berlec
X-WR-TIMEZONE:Europe/Ljubljana
END:VEVENT
BEGIN:VEVENT
SUMMARY:Izpit: Priprava proizvodnje
DTSTART;TZID=Europe/Ljubljana:20260618T080000
DTEND;TZID=Europe/Ljubljana:20260618T100000
DTSTAMP:20260425T190509Z
UID:fs-AFLABS-URNIK:rezervacija:11827
ATTENDEE:Proizvodno strojništvo - Proizvodne tehnologije (PAP-3)
ATTENDEE:Proizvodno strojništvo - Vodenje proizvodnje (PAP-3)
CATEGORIES:Reservation
COLOR:royalblue
DESCRIPTION:Predmeti: Production planning (3070)\nLetniki: Proizvodno stro
 jništvo - Vodenje proizvodnje (PAP-3)\, Proizvodno strojništvo - Proizvo
 dne tehnologije (PAP-3)\nIzvajalci: Tomaž Berlec\nProstori: Lecture hall 
 V/2
LOCATION:Lecture hall V/2
ORGANIZER:Tomaž Berlec
X-WR-TIMEZONE:Europe/Ljubljana
END:VEVENT
BEGIN:VEVENT
SUMMARY:Izpit: Načrtovanje in vodenje proizvodnje
DTSTART;TZID=Europe/Ljubljana:20260629T120000
DTEND;TZID=Europe/Ljubljana:20260629T140000
DTSTAMP:20260425T190509Z
UID:fs-AFLABS-URNIK:rezervacija:11880
ATTENDEE:Proizvodno strojništvo - Vodenje proizvodnje (PAP-3)
CATEGORIES:Reservation
COLOR:royalblue
DESCRIPTION:Predmeti: Production planning and management (3078)\nLetniki: 
 Proizvodno strojništvo - Vodenje proizvodnje (PAP-3)\nIzvajalci: Tomaž B
 erlec\nProstori: Lecture hall III/2
LOCATION:Lecture hall III/2
ORGANIZER:Tomaž Berlec
X-WR-TIMEZONE:Europe/Ljubljana
END:VEVENT
BEGIN:VEVENT
SUMMARY:Izpit: Vodenje proizvodnje
DTSTART;TZID=Europe/Ljubljana:20260629T120000
DTEND;TZID=Europe/Ljubljana:20260629T140000
DTSTAMP:20260425T190509Z
UID:fs-AFLABS-URNIK:rezervacija:11881
ATTENDEE:Production engineering (PAP-3)
CATEGORIES:Reservation
COLOR:royalblue
DESCRIPTION:Predmeti: Production leading (VDPP)\nLetniki: Production engin
 eering (PAP-3)\nIzvajalci: Tomaž Berlec\nProstori: Lecture hall III/2
LOCATION:Lecture hall III/2
ORGANIZER:Tomaž Berlec
X-WR-TIMEZONE:Europe/Ljubljana
END:VEVENT
BEGIN:VEVENT
SUMMARY:Izpit: Planiranje in krmiljenje proizvodnje
DTSTART;TZID=Europe/Ljubljana:20260619T080000
DTEND;TZID=Europe/Ljubljana:20260619T100000
DTSTAMP:20260425T190509Z
UID:fs-AFLABS-URNIK:rezervacija:11910
CATEGORIES:Reservation
COLOR:royalblue
DESCRIPTION:Predmeti: \nLetniki: \nIzvajalci: Tomaž Berlec\nProstori: Lec
 ture hall IV/4\, Lecture hall V/2
LOCATION:Lecture hall IV/4\, Lecture hall V/2
ORGANIZER:Tomaž Berlec
X-WR-TIMEZONE:Europe/Ljubljana
END:VEVENT
BEGIN:VEVENT
SUMMARY:Izpit: Planiranje in organizacija proizvodnje
DTSTART;TZID=Europe/Ljubljana:20260619T080000
DTEND;TZID=Europe/Ljubljana:20260619T100000
DTSTAMP:20260425T190509Z
UID:fs-AFLABS-URNIK:rezervacija:11911
ATTENDEE:Production engineering (MAG-1)
CATEGORIES:Reservation
COLOR:royalblue
DESCRIPTION:Predmeti: Production planning and organization (POPM)\nLetniki
 : Production engineering (MAG-1)\nIzvajalci: Tomaž Berlec\nProstori: Lect
 ure hall IV/4\, Lecture hall V/2
LOCATION:Lecture hall IV/4\, Lecture hall V/2
ORGANIZER:Tomaž Berlec
X-WR-TIMEZONE:Europe/Ljubljana
END:VEVENT
BEGIN:VEVENT
SUMMARY:Izpit: Planiranje in organizacija proizvodnje
DTSTART;TZID=Europe/Ljubljana:20260619T080000
DTEND;TZID=Europe/Ljubljana:20260619T100000
DTSTAMP:20260425T190509Z
UID:fs-AFLABS-URNIK:rezervacija:11912
ATTENDEE:Production engineering (MAG-1)
CATEGORIES:Reservation
COLOR:royalblue
DESCRIPTION:Predmeti: Production planning and organization (POPM)\nLetniki
 : Production engineering (MAG-1)\nIzvajalci: Tomaž Berlec\nProstori: Lect
 ure hall IV/4\, Lecture hall V/2
LOCATION:Lecture hall IV/4\, Lecture hall V/2
ORGANIZER:Tomaž Berlec
X-WR-TIMEZONE:Europe/Ljubljana
END:VEVENT
BEGIN:VEVENT
SUMMARY:Izpit: Investicijski inženiring
DTSTART;TZID=Europe/Ljubljana:20260630T100000
DTEND;TZID=Europe/Ljubljana:20260630T120000
DTSTAMP:20260425T190509Z
UID:fs-AFLABS-URNIK:rezervacija:12252
ATTENDEE:Production engineering (PAP-3)
CATEGORIES:Reservation
COLOR:royalblue
DESCRIPTION:Predmeti: Investment engineering (INIP)\nLetniki: Production e
 ngineering (PAP-3)\nIzvajalci: Tomaž Berlec\nProstori: Lecture hall IV/2
LOCATION:Lecture hall IV/2
ORGANIZER:Tomaž Berlec
X-WR-TIMEZONE:Europe/Ljubljana
END:VEVENT
BEGIN:VEVENT
SUMMARY:Izpit: Investicijski inženiring in vodenje projektov
DTSTART;TZID=Europe/Ljubljana:20260630T100000
DTEND;TZID=Europe/Ljubljana:20260630T120000
DTSTAMP:20260425T190509Z
UID:fs-AFLABS-URNIK:rezervacija:12253
ATTENDEE:Mehatronika (PAP-3)
ATTENDEE:Proizvodno strojništvo - Proizvodne tehnologije (PAP-3)
ATTENDEE:Proizvodno strojništvo - Vodenje proizvodnje (PAP-3)
ATTENDEE:Snovanje, obratovanje in vzdrževanje - Mobilna tehnika (PAP-3)
ATTENDEE:Snovanje, obratovanje in vzdrževanje - Transportni in delovni st
 roji (PAP-3)
CATEGORIES:Reservation
COLOR:royalblue
DESCRIPTION:Predmeti: Investment Engineering and Project Management (3062)
 \nLetniki: Mehatronika (PAP-3)\, Snovanje\, obratovanje in vzdrževanje - 
 Mobilna tehnika (PAP-3)\, Proizvodno strojništvo - Vodenje proizvodnje (P
 AP-3)\, Proizvodno strojništvo - Proizvodne tehnologije (PAP-3)\, Snovanj
 e\, obratovanje in vzdrževanje - Transportni in delovni stroji (PAP-3)\nI
 zvajalci: Tomaž Berlec\nProstori: Lecture hall IV/2
LOCATION:Lecture hall IV/2
ORGANIZER:Tomaž Berlec
X-WR-TIMEZONE:Europe/Ljubljana
END:VEVENT
BEGIN:VEVENT
SUMMARY:Izpit: Priprava proizvodnje
DTSTART;TZID=Europe/Ljubljana:20260604T100000
DTEND;TZID=Europe/Ljubljana:20260604T120000
DTSTAMP:20260425T190509Z
UID:fs-AFLABS-URNIK:rezervacija:12530
ATTENDEE:Production engineering (PAP-2)
CATEGORIES:Reservation
COLOR:royalblue
DESCRIPTION:Predmeti: Production planning (PRPP)\nLetniki: Production engi
 neering (PAP-2)\nIzvajalci: Tomaž Berlec\nProstori: Lecture hall III/2\, 
 Lecture hall III/4
LOCATION:Lecture hall III/2\, Lecture hall III/4
ORGANIZER:Tomaž Berlec
X-WR-TIMEZONE:Europe/Ljubljana
END:VEVENT
BEGIN:VEVENT
SUMMARY:Izpit: Planiranje in organizacija proizvodnje
DTSTART;TZID=Europe/Ljubljana:20260605T150000
DTEND;TZID=Europe/Ljubljana:20260605T170000
DTSTAMP:20260425T190509Z
UID:fs-AFLABS-URNIK:rezervacija:12572
ATTENDEE:Production engineering (MAG-1)
CATEGORIES:Reservation
COLOR:royalblue
DESCRIPTION:Predmeti: Production planning and organization (POPM)\nLetniki
 : Production engineering (MAG-1)\nIzvajalci: Tomaž Berlec\nProstori: Lect
 ure hall III/4\, Lecture hall IV/2
LOCATION:Lecture hall III/4\, Lecture hall IV/2
ORGANIZER:Tomaž Berlec
X-WR-TIMEZONE:Europe/Ljubljana
END:VEVENT
BEGIN:VEVENT
SUMMARY:Izpit: Planiranje in organizacija proizvodnje
DTSTART;TZID=Europe/Ljubljana:20260605T150000
DTEND;TZID=Europe/Ljubljana:20260605T170000
DTSTAMP:20260425T190509Z
UID:fs-AFLABS-URNIK:rezervacija:12573
ATTENDEE:Production engineering (MAG-1)
CATEGORIES:Reservation
COLOR:royalblue
DESCRIPTION:Predmeti: Production planning and organization (POPM)\nLetniki
 : Production engineering (MAG-1)\nIzvajalci: Tomaž Berlec\nProstori: Lect
 ure hall III/4\, Lecture hall IV/2
LOCATION:Lecture hall III/4\, Lecture hall IV/2
ORGANIZER:Tomaž Berlec
X-WR-TIMEZONE:Europe/Ljubljana
END:VEVENT
BEGIN:VEVENT
SUMMARY:Izpit: Priprava proizvodnje
DTSTART;TZID=Europe/Ljubljana:20260618T080000
DTEND;TZID=Europe/Ljubljana:20260618T100000
DTSTAMP:20260425T190509Z
UID:fs-AFLABS-URNIK:rezervacija:12760
ATTENDEE:Production engineering (PAP-2)
CATEGORIES:Reservation
COLOR:royalblue
DESCRIPTION:Predmeti: Production planning (PRPP)\nLetniki: Production engi
 neering (PAP-2)\nIzvajalci: Tomaž Berlec\nProstori: Lecture hall V/2
LOCATION:Lecture hall V/2
ORGANIZER:Tomaž Berlec
X-WR-TIMEZONE:Europe/Ljubljana
END:VEVENT
BEGIN:VEVENT
SUMMARY:Izpit: Priprava proizvodnje
DTSTART;TZID=Europe/Ljubljana:20260604T100000
DTEND;TZID=Europe/Ljubljana:20260604T120000
DTSTAMP:20260425T190509Z
UID:fs-AFLABS-URNIK:rezervacija:12762
ATTENDEE:Production engineering (PAP-2)
CATEGORIES:Reservation
COLOR:royalblue
DESCRIPTION:Predmeti: Production planning (PRPP)\nLetniki: Production engi
 neering (PAP-2)\nIzvajalci: Tomaž Berlec\nProstori: Lecture hall III/2\, 
 Lecture hall III/4
LOCATION:Lecture hall III/2\, Lecture hall III/4
ORGANIZER:Tomaž Berlec
X-WR-TIMEZONE:Europe/Ljubljana
END:VEVENT
END:VCALENDAR
