BEGIN:VCALENDAR
VERSION:2.0
PRODID:-//AFLabs urnik izvoz - fs//aflabs.si//SI
NAME:UL FS Urnik
X-WR-CALNAME:UL FS Urnik
DTSTAMP:20260421T231033Z
REFRESH-INTERVAL:PT1H
SOURCE:https://urnik.fs.uni-lj.si/en/teacher/641/?day=2023-07-24&export=1
URL:https://urnik.fs.uni-lj.si/en/teacher/641/?day=2023-07-24&export=1
X-PUBLISHED-TTL:PT1H
X-WR-TIMEZONE:Europe/Ljubljana
BEGIN:VTIMEZONE
TZID:Europe/Ljubljana
BEGIN:DAYLIGHT
DTSTART:20260329T020000
RDATE:20260329T020000
RDATE:20270328T020000
TZNAME:CEST
TZOFFSETFROM:+0100
TZOFFSETTO:+0200
END:DAYLIGHT
BEGIN:STANDARD
DTSTART:20261025T030000
RDATE:20261025T030000
RDATE:20271031T030000
TZNAME:CET
TZOFFSETFROM:+0200
TZOFFSETTO:+0100
END:STANDARD
END:VTIMEZONE
BEGIN:VEVENT
SUMMARY:Zagovori Višja dinamnika
DTSTART;TZID=Europe/Ljubljana:20230817T100000
DTEND;TZID=Europe/Ljubljana:20230817T120000
DTSTAMP:20260421T231033Z
UID:fs-AFLABS-URNIK:rezervacija:545
CATEGORIES:Reservation
COLOR:royalblue
DESCRIPTION:Predmeti: \nLetniki: \nIzvajalci: Miha Boltežar\, Martin Čes
 nik\nProstori: Lecture hall IV/3A
LOCATION:Lecture hall IV/3A
ORGANIZER:Miha Boltežar, Martin Česnik
X-WR-TIMEZONE:Europe/Ljubljana
END:VEVENT
BEGIN:VEVENT
SUMMARY:Izpit: Dinamika strojev (6200)
DTSTART;TZID=Europe/Ljubljana:20230619T100000
DTEND;TZID=Europe/Ljubljana:20230619T130000
DTSTAMP:20260421T231033Z
UID:fs-AFLABS-URNIK:rezervacija:3075
CATEGORIES:Reservation
COLOR:royalblue
DESCRIPTION:Predmeti: \nLetniki: \nIzvajalci: Miha Boltežar\nProstori: Le
 cture hall II/2
LOCATION:Lecture hall II/2
ORGANIZER:Miha Boltežar
X-WR-TIMEZONE:Europe/Ljubljana
END:VEVENT
BEGIN:VEVENT
SUMMARY:Izpit: Dinamika togih teles
DTSTART;TZID=Europe/Ljubljana:20230817T080000
DTEND;TZID=Europe/Ljubljana:20230817T110000
DTSTAMP:20260421T231033Z
UID:fs-AFLABS-URNIK:rezervacija:3080
ATTENDEE:RRP-3 (RRP-3)
CATEGORIES:Reservation
COLOR:royalblue
DESCRIPTION:Predmeti: Rigid Body Dynamics (2044)\nLetniki: RRP-3 (RRP-3)\n
 Izvajalci: Miha Boltežar\nProstori: Lecture hall V/2
LOCATION:Lecture hall V/2
ORGANIZER:Miha Boltežar
X-WR-TIMEZONE:Europe/Ljubljana
END:VEVENT
BEGIN:VEVENT
SUMMARY:Izpit: Nihanja struktur (6202)
DTSTART;TZID=Europe/Ljubljana:20230621T110000
DTEND;TZID=Europe/Ljubljana:20230621T140000
DTSTAMP:20260421T231033Z
UID:fs-AFLABS-URNIK:rezervacija:3082
CATEGORIES:Reservation
COLOR:royalblue
DESCRIPTION:Predmeti: \nLetniki: \nIzvajalci: Miha Boltežar\nProstori: Le
 cture hall II/4
LOCATION:Lecture hall II/4
ORGANIZER:Miha Boltežar
X-WR-TIMEZONE:Europe/Ljubljana
END:VEVENT
BEGIN:VEVENT
SUMMARY:Izpit: Advanced Dynamics (6035-M)
DTSTART;TZID=Europe/Ljubljana:20230630T110000
DTEND;TZID=Europe/Ljubljana:20230630T140000
DTSTAMP:20260421T231033Z
UID:fs-AFLABS-URNIK:rezervacija:3087
CATEGORIES:Reservation
COLOR:royalblue
DESCRIPTION:Predmeti: \nLetniki: \nIzvajalci: Miha Boltežar\nProstori: Le
 cture hall IV/3A
LOCATION:Lecture hall IV/3A
ORGANIZER:Miha Boltežar
X-WR-TIMEZONE:Europe/Ljubljana
END:VEVENT
BEGIN:VEVENT
SUMMARY:Izpit: Višja dinamika (6253)
DTSTART;TZID=Europe/Ljubljana:20230619T100000
DTEND;TZID=Europe/Ljubljana:20230619T130000
DTSTAMP:20260421T231033Z
UID:fs-AFLABS-URNIK:rezervacija:3089
CATEGORIES:Reservation
COLOR:royalblue
DESCRIPTION:Predmeti: \nLetniki: \nIzvajalci: Miha Boltežar\nProstori: Le
 cture hall II/2
LOCATION:Lecture hall II/2
ORGANIZER:Miha Boltežar
X-WR-TIMEZONE:Europe/Ljubljana
END:VEVENT
BEGIN:VEVENT
SUMMARY:Izpit: Advanced Dynamics (6035-M)
DTSTART;TZID=Europe/Ljubljana:20230817T180000
DTEND;TZID=Europe/Ljubljana:20230817T200000
DTSTAMP:20260421T231033Z
UID:fs-AFLABS-URNIK:rezervacija:3118
CATEGORIES:Reservation
COLOR:royalblue
DESCRIPTION:Predmeti: \nLetniki: \nIzvajalci: Miha Boltežar\nProstori: Le
 cture hall I/4A
LOCATION:Lecture hall I/4A
ORGANIZER:Miha Boltežar
X-WR-TIMEZONE:Europe/Ljubljana
END:VEVENT
BEGIN:VEVENT
SUMMARY:Izpit: Višja dinamika
DTSTART;TZID=Europe/Ljubljana:20230817T180000
DTEND;TZID=Europe/Ljubljana:20230817T200000
DTSTAMP:20260421T231033Z
UID:fs-AFLABS-URNIK:rezervacija:3120
ATTENDEE:Mechanics (MAG-1)
CATEGORIES:Reservation
COLOR:royalblue
DESCRIPTION:Predmeti: Advanced dynamics (VSDM)\nLetniki: Mechanics (MAG-1)
 \nIzvajalci: Miha Boltežar\nProstori: Lecture hall I/4A
LOCATION:Lecture hall I/4A
ORGANIZER:Miha Boltežar
X-WR-TIMEZONE:Europe/Ljubljana
END:VEVENT
BEGIN:VEVENT
SUMMARY:Izpit: Nihanja struktur (6202)
DTSTART;TZID=Europe/Ljubljana:20230817T180000
DTEND;TZID=Europe/Ljubljana:20230817T200000
DTSTAMP:20260421T231033Z
UID:fs-AFLABS-URNIK:rezervacija:3121
CATEGORIES:Reservation
COLOR:royalblue
DESCRIPTION:Predmeti: \nLetniki: \nIzvajalci: Miha Boltežar\nProstori: Le
 cture hall I/4A
LOCATION:Lecture hall I/4A
ORGANIZER:Miha Boltežar
X-WR-TIMEZONE:Europe/Ljubljana
END:VEVENT
BEGIN:VEVENT
SUMMARY:Izpit: Višja dinamika (6253)
DTSTART;TZID=Europe/Ljubljana:20230817T180000
DTEND;TZID=Europe/Ljubljana:20230817T200000
DTSTAMP:20260421T231033Z
UID:fs-AFLABS-URNIK:rezervacija:3122
CATEGORIES:Reservation
COLOR:royalblue
DESCRIPTION:Predmeti: \nLetniki: \nIzvajalci: Miha Boltežar\nProstori: Le
 cture hall I/4A
LOCATION:Lecture hall I/4A
ORGANIZER:Miha Boltežar
X-WR-TIMEZONE:Europe/Ljubljana
END:VEVENT
BEGIN:VEVENT
SUMMARY:Izpit: Dinamika strojev (6200)
DTSTART;TZID=Europe/Ljubljana:20230828T080000
DTEND;TZID=Europe/Ljubljana:20230828T110000
DTSTAMP:20260421T231033Z
UID:fs-AFLABS-URNIK:rezervacija:3123
CATEGORIES:Reservation
COLOR:royalblue
DESCRIPTION:Predmeti: \nLetniki: \nIzvajalci: Miha Boltežar\nProstori: Le
 cture hall V/2
LOCATION:Lecture hall V/2
ORGANIZER:Miha Boltežar
X-WR-TIMEZONE:Europe/Ljubljana
END:VEVENT
BEGIN:VEVENT
SUMMARY:Izpit: Dinamika togih teles
DTSTART;TZID=Europe/Ljubljana:20230828T080000
DTEND;TZID=Europe/Ljubljana:20230828T110000
DTSTAMP:20260421T231033Z
UID:fs-AFLABS-URNIK:rezervacija:3124
ATTENDEE:RRP-2 (RRP-2)
CATEGORIES:Reservation
COLOR:royalblue
DESCRIPTION:Predmeti: Rigid body dynamics (DTTR)\nLetniki: RRP-2 (RRP-2)\n
 Izvajalci: Miha Boltežar\nProstori: Lecture hall V/2
LOCATION:Lecture hall V/2
ORGANIZER:Miha Boltežar
X-WR-TIMEZONE:Europe/Ljubljana
END:VEVENT
BEGIN:VEVENT
SUMMARY:Izpit: Statika in kinematika
DTSTART;TZID=Europe/Ljubljana:20230828T080000
DTEND;TZID=Europe/Ljubljana:20230828T110000
DTSTAMP:20260421T231033Z
UID:fs-AFLABS-URNIK:rezervacija:3125
ATTENDEE:RRP-1 (RRP-1)
CATEGORIES:Reservation
COLOR:royalblue
DESCRIPTION:Predmeti: Statics and kinematics (STKR)\nLetniki: RRP-1 (RRP-1
 )\nIzvajalci: Miha Boltežar\nProstori: Lecture hall V/2
LOCATION:Lecture hall V/2
ORGANIZER:Miha Boltežar
X-WR-TIMEZONE:Europe/Ljubljana
END:VEVENT
END:VCALENDAR
