BEGIN:VCALENDAR
VERSION:2.0
PRODID:-//AFLabs urnik izvoz - fs//aflabs.si//SI
NAME:UL FS Urnik
X-WR-CALNAME:UL FS Urnik
DTSTAMP:20260426T024346Z
REFRESH-INTERVAL:PT1H
SOURCE:https://urnik.fs.uni-lj.si/en/teacher/641/?day=2025-02-10&export=1
URL:https://urnik.fs.uni-lj.si/en/teacher/641/?day=2025-02-10&export=1
X-PUBLISHED-TTL:PT1H
X-WR-TIMEZONE:Europe/Ljubljana
BEGIN:VTIMEZONE
TZID:Europe/Ljubljana
BEGIN:DAYLIGHT
DTSTART:20260329T020000
RDATE:20260329T020000
RDATE:20270328T020000
TZNAME:CEST
TZOFFSETFROM:+0100
TZOFFSETTO:+0200
END:DAYLIGHT
BEGIN:STANDARD
DTSTART:20261025T030000
RDATE:20261025T030000
RDATE:20271031T030000
TZNAME:CET
TZOFFSETFROM:+0200
TZOFFSETTO:+0100
END:STANDARD
END:VTIMEZONE
BEGIN:VEVENT
SUMMARY:Dynamics of machines and structures (DSKM)\, Lectures (P)
DTSTART;TZID=Europe/Ljubljana:20250217T080000
DTEND;TZID=Europe/Ljubljana:20250217T100000
DTSTAMP:20260426T024346Z
UID:fs-AFLABS-URNIK:srecanje:9404-2025-02-17 08:00:00+01:00
DESCRIPTION:Predmet: Dynamics of machines and structures (DSKM)\, Lectures
  (P)\nLetniki: Mechanics (MAG-1)\nIzvajalci: Miha Boltežar\, Gregor Čepo
 n\, Janko Slavič\nProstor: Lecture hall III/2
END:VEVENT
BEGIN:VEVENT
SUMMARY:Dynamics of machines and structures (DSKM)\, Lectures (P)
DTSTART;TZID=Europe/Ljubljana:20250224T080000
DTEND;TZID=Europe/Ljubljana:20250224T100000
DTSTAMP:20260426T024346Z
UID:fs-AFLABS-URNIK:srecanje:9404-2025-02-24 08:00:00+01:00
DESCRIPTION:Predmet: Dynamics of machines and structures (DSKM)\, Lectures
  (P)\nLetniki: Mechanics (MAG-1)\nIzvajalci: Miha Boltežar\, Gregor Čepo
 n\, Janko Slavič\nProstor: Lecture hall III/2
END:VEVENT
BEGIN:VEVENT
SUMMARY:Dynamics of machines and structures (DSKM)\, Lectures (P)
DTSTART;TZID=Europe/Ljubljana:20250303T080000
DTEND;TZID=Europe/Ljubljana:20250303T100000
DTSTAMP:20260426T024346Z
UID:fs-AFLABS-URNIK:srecanje:9404-2025-03-03 08:00:00+01:00
DESCRIPTION:Predmet: Dynamics of machines and structures (DSKM)\, Lectures
  (P)\nLetniki: Mechanics (MAG-1)\nIzvajalci: Miha Boltežar\, Gregor Čepo
 n\, Janko Slavič\nProstor: Lecture hall III/2
END:VEVENT
BEGIN:VEVENT
SUMMARY:Dynamics of machines and structures (DSKM)\, Lectures (P)
DTSTART;TZID=Europe/Ljubljana:20250310T080000
DTEND;TZID=Europe/Ljubljana:20250310T100000
DTSTAMP:20260426T024346Z
UID:fs-AFLABS-URNIK:srecanje:9404-2025-03-10 08:00:00+01:00
DESCRIPTION:Predmet: Dynamics of machines and structures (DSKM)\, Lectures
  (P)\nLetniki: Mechanics (MAG-1)\nIzvajalci: Miha Boltežar\, Gregor Čepo
 n\, Janko Slavič\nProstor: Lecture hall III/2
END:VEVENT
BEGIN:VEVENT
SUMMARY:Dynamics of machines and structures (DSKM)\, Lectures (P)
DTSTART;TZID=Europe/Ljubljana:20250317T080000
DTEND;TZID=Europe/Ljubljana:20250317T100000
DTSTAMP:20260426T024346Z
UID:fs-AFLABS-URNIK:srecanje:9404-2025-03-17 08:00:00+01:00
DESCRIPTION:Predmet: Dynamics of machines and structures (DSKM)\, Lectures
  (P)\nLetniki: Mechanics (MAG-1)\nIzvajalci: Miha Boltežar\, Gregor Čepo
 n\, Janko Slavič\nProstor: Lecture hall III/2
END:VEVENT
BEGIN:VEVENT
SUMMARY:Izpit: Dinamika strojev (6200)
DTSTART;TZID=Europe/Ljubljana:20250203T100000
DTEND;TZID=Europe/Ljubljana:20250203T130000
DTSTAMP:20260426T024346Z
UID:fs-AFLABS-URNIK:rezervacija:6462
CATEGORIES:Reservation
COLOR:royalblue
DESCRIPTION:Predmeti: \nLetniki: \nIzvajalci: Miha Boltežar\nProstori: Le
 cture hall IV/3A
LOCATION:Lecture hall IV/3A
ORGANIZER:Miha Boltežar
X-WR-TIMEZONE:Europe/Ljubljana
END:VEVENT
BEGIN:VEVENT
SUMMARY:Izpit: Dinamika togih teles (2013-U) [dve oceni]
DTSTART;TZID=Europe/Ljubljana:20250123T110000
DTEND;TZID=Europe/Ljubljana:20250123T140000
DTSTAMP:20260426T024346Z
UID:fs-AFLABS-URNIK:rezervacija:6471
CATEGORIES:Reservation
COLOR:royalblue
DESCRIPTION:Predmeti: \nLetniki: \nIzvajalci: Miha Boltežar\nProstori: Le
 cture hall IV/4\, Lecture hall V/2\, Lecture hall V/8
LOCATION:Lecture hall IV/4\, Lecture hall V/2\, Lecture hall V/8
ORGANIZER:Miha Boltežar
X-WR-TIMEZONE:Europe/Ljubljana
END:VEVENT
BEGIN:VEVENT
SUMMARY:Izpit: Dinamika togih teles (2013-U) [dve oceni]
DTSTART;TZID=Europe/Ljubljana:20250206T080000
DTEND;TZID=Europe/Ljubljana:20250206T110000
DTSTAMP:20260426T024346Z
UID:fs-AFLABS-URNIK:rezervacija:6472
CATEGORIES:Reservation
COLOR:royalblue
DESCRIPTION:Predmeti: \nLetniki: \nIzvajalci: Miha Boltežar\nProstori: Le
 cture hall IV/4
LOCATION:Lecture hall IV/4
ORGANIZER:Miha Boltežar
X-WR-TIMEZONE:Europe/Ljubljana
END:VEVENT
BEGIN:VEVENT
SUMMARY:Izpit: Dinamika togih teles (2044)
DTSTART;TZID=Europe/Ljubljana:20250123T110000
DTEND;TZID=Europe/Ljubljana:20250123T140000
DTSTAMP:20260426T024346Z
UID:fs-AFLABS-URNIK:rezervacija:6474
CATEGORIES:Reservation
COLOR:royalblue
DESCRIPTION:Predmeti: \nLetniki: \nIzvajalci: Miha Boltežar\nProstori: Le
 cture hall IV/4\, Lecture hall V/2\, Lecture hall V/8
LOCATION:Lecture hall IV/4\, Lecture hall V/2\, Lecture hall V/8
ORGANIZER:Miha Boltežar
X-WR-TIMEZONE:Europe/Ljubljana
END:VEVENT
BEGIN:VEVENT
SUMMARY:Izpit: Nihanja struktur (6202)
DTSTART;TZID=Europe/Ljubljana:20250129T120000
DTEND;TZID=Europe/Ljubljana:20250129T150000
DTSTAMP:20260426T024346Z
UID:fs-AFLABS-URNIK:rezervacija:7179
CATEGORIES:Reservation
COLOR:royalblue
DESCRIPTION:Predmeti: \nLetniki: \nIzvajalci: Miha Boltežar\nProstori: Le
 cture hall II/5
LOCATION:Lecture hall II/5
ORGANIZER:Miha Boltežar
X-WR-TIMEZONE:Europe/Ljubljana
END:VEVENT
BEGIN:VEVENT
SUMMARY:Izpit: Statika in kinematika (2004-U)
DTSTART;TZID=Europe/Ljubljana:20250124T120000
DTEND;TZID=Europe/Ljubljana:20250124T150000
DTSTAMP:20260426T024346Z
UID:fs-AFLABS-URNIK:rezervacija:7548
CATEGORIES:Reservation
COLOR:royalblue
DESCRIPTION:Predmeti: \nLetniki: \nIzvajalci: Miha Boltežar\nProstori: Le
 cture hall IV/2\, Lecture hall V/2\, Lecture hall V/8
LOCATION:Lecture hall IV/2\, Lecture hall V/2\, Lecture hall V/8
ORGANIZER:Miha Boltežar
X-WR-TIMEZONE:Europe/Ljubljana
END:VEVENT
BEGIN:VEVENT
SUMMARY:Izpit: Statika in kinematika (2004-U)
DTSTART;TZID=Europe/Ljubljana:20250207T110000
DTEND;TZID=Europe/Ljubljana:20250207T140000
DTSTAMP:20260426T024346Z
UID:fs-AFLABS-URNIK:rezervacija:7549
CATEGORIES:Reservation
COLOR:royalblue
DESCRIPTION:Predmeti: \nLetniki: \nIzvajalci: Miha Boltežar\nProstori: Le
 cture hall V/8
LOCATION:Lecture hall V/8
ORGANIZER:Miha Boltežar
X-WR-TIMEZONE:Europe/Ljubljana
END:VEVENT
BEGIN:VEVENT
SUMMARY:Izpit: Statika in kinematika (2004-U) [dve oceni]
DTSTART;TZID=Europe/Ljubljana:20250124T120000
DTEND;TZID=Europe/Ljubljana:20250124T150000
DTSTAMP:20260426T024346Z
UID:fs-AFLABS-URNIK:rezervacija:7551
CATEGORIES:Reservation
COLOR:royalblue
DESCRIPTION:Predmeti: \nLetniki: \nIzvajalci: Miha Boltežar\nProstori: Le
 cture hall IV/2\, Lecture hall V/2\, Lecture hall V/8
LOCATION:Lecture hall IV/2\, Lecture hall V/2\, Lecture hall V/8
ORGANIZER:Miha Boltežar
X-WR-TIMEZONE:Europe/Ljubljana
END:VEVENT
BEGIN:VEVENT
SUMMARY:Izpit: Statika in kinematika (2004-U) [dve oceni]
DTSTART;TZID=Europe/Ljubljana:20250207T110000
DTEND;TZID=Europe/Ljubljana:20250207T140000
DTSTAMP:20260426T024346Z
UID:fs-AFLABS-URNIK:rezervacija:7552
CATEGORIES:Reservation
COLOR:royalblue
DESCRIPTION:Predmeti: \nLetniki: \nIzvajalci: Miha Boltežar\nProstori: Le
 cture hall V/8
LOCATION:Lecture hall V/8
ORGANIZER:Miha Boltežar
X-WR-TIMEZONE:Europe/Ljubljana
END:VEVENT
BEGIN:VEVENT
SUMMARY:Izpit: Višja dinamika (6035-M)
DTSTART;TZID=Europe/Ljubljana:20250121T100000
DTEND;TZID=Europe/Ljubljana:20250121T130000
DTSTAMP:20260426T024346Z
UID:fs-AFLABS-URNIK:rezervacija:7785
CATEGORIES:Reservation
COLOR:royalblue
DESCRIPTION:Predmeti: \nLetniki: \nIzvajalci: Miha Boltežar\nProstori: Le
 cture hall V/8
LOCATION:Lecture hall V/8
ORGANIZER:Miha Boltežar
X-WR-TIMEZONE:Europe/Ljubljana
END:VEVENT
BEGIN:VEVENT
SUMMARY:Izpit: Višja dinamika (6035-M)
DTSTART;TZID=Europe/Ljubljana:20250204T100000
DTEND;TZID=Europe/Ljubljana:20250204T130000
DTSTAMP:20260426T024346Z
UID:fs-AFLABS-URNIK:rezervacija:7786
CATEGORIES:Reservation
COLOR:royalblue
DESCRIPTION:Predmeti: \nLetniki: \nIzvajalci: Miha Boltežar\nProstori: Le
 cture hall III/4
LOCATION:Lecture hall III/4
ORGANIZER:Miha Boltežar
X-WR-TIMEZONE:Europe/Ljubljana
END:VEVENT
BEGIN:VEVENT
SUMMARY:Izpit: Višja dinamika (6035-M) [dve oceni]
DTSTART;TZID=Europe/Ljubljana:20250121T100000
DTEND;TZID=Europe/Ljubljana:20250121T130000
DTSTAMP:20260426T024346Z
UID:fs-AFLABS-URNIK:rezervacija:7788
CATEGORIES:Reservation
COLOR:royalblue
DESCRIPTION:Predmeti: \nLetniki: \nIzvajalci: Miha Boltežar\nProstori: Le
 cture hall V/8
LOCATION:Lecture hall V/8
ORGANIZER:Miha Boltežar
X-WR-TIMEZONE:Europe/Ljubljana
END:VEVENT
BEGIN:VEVENT
SUMMARY:Izpit: Višja dinamika (6035-M) [dve oceni]
DTSTART;TZID=Europe/Ljubljana:20250204T100000
DTEND;TZID=Europe/Ljubljana:20250204T130000
DTSTAMP:20260426T024346Z
UID:fs-AFLABS-URNIK:rezervacija:7789
CATEGORIES:Reservation
COLOR:royalblue
DESCRIPTION:Predmeti: \nLetniki: \nIzvajalci: Miha Boltežar\nProstori: Le
 cture hall III/4
LOCATION:Lecture hall III/4
ORGANIZER:Miha Boltežar
X-WR-TIMEZONE:Europe/Ljubljana
END:VEVENT
END:VCALENDAR
