BEGIN:VCALENDAR
VERSION:2.0
PRODID:-//AFLabs urnik izvoz - fs//aflabs.si//SI
NAME:UL FS Urnik
X-WR-CALNAME:UL FS Urnik
DTSTAMP:20260422T175530Z
REFRESH-INTERVAL:PT1H
SOURCE:https://urnik.fs.uni-lj.si/en/teacher/651/?day=2024-07-01&export=1
URL:https://urnik.fs.uni-lj.si/en/teacher/651/?day=2024-07-01&export=1
X-PUBLISHED-TTL:PT1H
X-WR-TIMEZONE:Europe/Ljubljana
BEGIN:VTIMEZONE
TZID:Europe/Ljubljana
BEGIN:DAYLIGHT
DTSTART:20260329T020000
RDATE:20260329T020000
RDATE:20270328T020000
TZNAME:CEST
TZOFFSETFROM:+0100
TZOFFSETTO:+0200
END:DAYLIGHT
BEGIN:STANDARD
DTSTART:20261025T030000
RDATE:20261025T030000
RDATE:20271031T030000
TZNAME:CET
TZOFFSETFROM:+0200
TZOFFSETTO:+0100
END:STANDARD
END:VTIMEZONE
BEGIN:VEVENT
SUMMARY:Aviation documentation (DVLP)\, Lectures (P)
DTSTART;TZID=Europe/Ljubljana:20240527T100000
DTEND;TZID=Europe/Ljubljana:20240527T120000
DTSTAMP:20260422T175530Z
UID:fs-AFLABS-URNIK:srecanje:4647-2024-05-27 10:00:00+02:00
DESCRIPTION:Predmet: Aviation documentation (DVLP)\, Lectures (P)\nLetniki
 : Aircraft design and maintenance (PAP-3)\nIzvajalci: Miha Brojan\nProstor
 : Lecture hall IV/3B
END:VEVENT
BEGIN:VEVENT
SUMMARY:Mechanics of Light-weight Structures (MLSE)\, Lectures (P)
DTSTART;TZID=Europe/Ljubljana:20240527T120000
DTEND;TZID=Europe/Ljubljana:20240527T140000
DTSTAMP:20260422T175530Z
UID:fs-AFLABS-URNIK:srecanje:6082-2024-05-27 12:00:00+02:00
DESCRIPTION:Predmet: Mechanics of Light-weight Structures (MLSE)\, Lecture
 s (P)\nLetniki: Erasmus (Erasmus)\nIzvajalci: Miha Brojan\nProstor: Lectur
 e hall I/4A
END:VEVENT
BEGIN:VEVENT
SUMMARY:Mechanics of flight (MLLP)\, Lectures (P)
DTSTART;TZID=Europe/Ljubljana:20240530T093000
DTEND;TZID=Europe/Ljubljana:20240530T113000
DTSTAMP:20260422T175530Z
UID:fs-AFLABS-URNIK:srecanje:3724-2024-05-30 09:30:00+02:00
DESCRIPTION:Predmet: Mechanics of flight (MLLP)\, Lectures (P)\nLetniki: A
 ircraft design and maintenance (PAP-2)\, Airline transport pilot (PAP-2)\n
 Izvajalci: Miha Brojan\nProstor: Lecture hall IV/2
END:VEVENT
BEGIN:VEVENT
SUMMARY:Engineering reporting - PAP (PVSP)\, Lectures (P)
DTSTART;TZID=Europe/Ljubljana:20240530T073000
DTEND;TZID=Europe/Ljubljana:20240530T083000
DTSTAMP:20260422T175530Z
UID:fs-AFLABS-URNIK:srecanje:3784-2024-05-30 07:30:00+02:00
DESCRIPTION:Predmet: Engineering reporting - PAP (PVSP)\, Lectures (P)\nLe
 tniki: PAP-1 (PAP-1)\nIzvajalci: Miha Brojan\, Franc Majdič\, Rok Vrabič
 \, Nikola Vukašinović\nProstor: Lecture hall V/8
END:VEVENT
BEGIN:VEVENT
SUMMARY:Mechanics of Light-weight Structures (MLSE)\, Laboratory excercise
 s (VL)
DTSTART;TZID=Europe/Ljubljana:20240530T140000
DTEND;TZID=Europe/Ljubljana:20240530T160000
DTSTAMP:20260422T175530Z
UID:fs-AFLABS-URNIK:srecanje:9268-2024-05-30 14:00:00+02:00
DESCRIPTION:Predmet: Mechanics of Light-weight Structures (MLSE)\, Laborat
 ory excercises (VL)\nLetniki: Erasmus (Erasmus)\nIzvajalci: Miha Brojan\nP
 rostor: Laboratory LANEM I/7
END:VEVENT
BEGIN:VEVENT
SUMMARY:Strength of materials (TRDR)\, Lectures (P)
DTSTART;TZID=Europe/Ljubljana:20240531T123000
DTEND;TZID=Europe/Ljubljana:20240531T143000
DTSTAMP:20260422T175530Z
UID:fs-AFLABS-URNIK:srecanje:8361-2024-05-31 12:30:00+02:00
DESCRIPTION:Predmet: Strength of materials (TRDR)\, Lectures (P)\nLetniki:
  RRP-1 (RRP-1)\nIzvajalci: Miha Brojan\nProstor: Lecture hall V/8
END:VEVENT
BEGIN:VEVENT
SUMMARY:Izpit: Višja trdnost (6251)
DTSTART;TZID=Europe/Ljubljana:20240604T140000
DTEND;TZID=Europe/Ljubljana:20240604T160000
DTSTAMP:20260422T175530Z
UID:fs-AFLABS-URNIK:rezervacija:4913
CATEGORIES:Reservation
COLOR:royalblue
DESCRIPTION:Predmeti: \nLetniki: \nIzvajalci: Miha Brojan\nProstori: Lectu
 re hall IV/3B
LOCATION:Lecture hall IV/3B
ORGANIZER:Miha Brojan
X-WR-TIMEZONE:Europe/Ljubljana
END:VEVENT
BEGIN:VEVENT
SUMMARY:Izpit: Tehniška mehanika 3 (3038)
DTSTART;TZID=Europe/Ljubljana:20240605T100000
DTEND;TZID=Europe/Ljubljana:20240605T120000
DTSTAMP:20260422T175530Z
UID:fs-AFLABS-URNIK:rezervacija:4930
CATEGORIES:Reservation
COLOR:royalblue
DESCRIPTION:Predmeti: \nLetniki: \nIzvajalci: Miha Brojan\nProstori: Lectu
 re hall II/2
LOCATION:Lecture hall II/2
ORGANIZER:Miha Brojan
X-WR-TIMEZONE:Europe/Ljubljana
END:VEVENT
BEGIN:VEVENT
SUMMARY:Izpit: Dokumentacija v letalstvu
DTSTART;TZID=Europe/Ljubljana:20240607T080000
DTEND;TZID=Europe/Ljubljana:20240607T100000
DTSTAMP:20260422T175530Z
UID:fs-AFLABS-URNIK:rezervacija:4983
ATTENDEE:Aircraft design and maintenance (PAP-3)
CATEGORIES:Reservation
COLOR:royalblue
DESCRIPTION:Predmeti: Aviation documentation (DVLP)\nLetniki: Aircraft des
 ign and maintenance (PAP-3)\nIzvajalci: Miha Brojan\nProstori: Lecture hal
 l IV/3A
LOCATION:Lecture hall IV/3A
ORGANIZER:Miha Brojan
X-WR-TIMEZONE:Europe/Ljubljana
END:VEVENT
BEGIN:VEVENT
SUMMARY:Izpit: Mehanika leta letala
DTSTART;TZID=Europe/Ljubljana:20240610T140000
DTEND;TZID=Europe/Ljubljana:20240610T160000
DTSTAMP:20260422T175530Z
UID:fs-AFLABS-URNIK:rezervacija:5012
ATTENDEE:Aircraft design and maintenance (PAP-2)
ATTENDEE:Airline transport pilot (PAP-2)
CATEGORIES:Reservation
COLOR:royalblue
DESCRIPTION:Predmeti: Mechanics of flight (MLLP)\nLetniki: Aircraft design
  and maintenance (PAP-2)\, Airline transport pilot (PAP-2)\nIzvajalci: Mih
 a Brojan\nProstori: Lecture hall IV/2\, Lecture hall IV/4\, Lecture hall V
 /2\, Lecture hall V/8
LOCATION:Lecture hall IV/2\, Lecture hall IV/4\, Lecture hall V/2\, Lectur
 e hall V/8
ORGANIZER:Miha Brojan
X-WR-TIMEZONE:Europe/Ljubljana
END:VEVENT
BEGIN:VEVENT
SUMMARY:Izpit: Mehanika leta letala (3137)
DTSTART;TZID=Europe/Ljubljana:20240610T140000
DTEND;TZID=Europe/Ljubljana:20240610T160000
DTSTAMP:20260422T175530Z
UID:fs-AFLABS-URNIK:rezervacija:5013
CATEGORIES:Reservation
COLOR:royalblue
DESCRIPTION:Predmeti: \nLetniki: \nIzvajalci: Miha Brojan\nProstori: Lectu
 re hall IV/2\, Lecture hall IV/4\, Lecture hall V/2\, Lecture hall V/8
LOCATION:Lecture hall IV/2\, Lecture hall IV/4\, Lecture hall V/2\, Lectur
 e hall V/8
ORGANIZER:Miha Brojan
X-WR-TIMEZONE:Europe/Ljubljana
END:VEVENT
BEGIN:VEVENT
SUMMARY:Izpit: Trdnost (2007)
DTSTART;TZID=Europe/Ljubljana:20240610T140000
DTEND;TZID=Europe/Ljubljana:20240610T160000
DTSTAMP:20260422T175530Z
UID:fs-AFLABS-URNIK:rezervacija:5014
CATEGORIES:Reservation
COLOR:royalblue
DESCRIPTION:Predmeti: \nLetniki: \nIzvajalci: Miha Brojan\nProstori: Lectu
 re hall IV/2\, Lecture hall IV/4\, Lecture hall V/2\, Lecture hall V/8
LOCATION:Lecture hall IV/2\, Lecture hall IV/4\, Lecture hall V/2\, Lectur
 e hall V/8
ORGANIZER:Miha Brojan
X-WR-TIMEZONE:Europe/Ljubljana
END:VEVENT
BEGIN:VEVENT
SUMMARY:Izpit: Trdnost
DTSTART;TZID=Europe/Ljubljana:20240610T140000
DTEND;TZID=Europe/Ljubljana:20240610T160000
DTSTAMP:20260422T175530Z
UID:fs-AFLABS-URNIK:rezervacija:5015
ATTENDEE:RRP-1 (RRP-1)
CATEGORIES:Reservation
COLOR:royalblue
DESCRIPTION:Predmeti: Strength of materials (TRDR)\nLetniki: RRP-1 (RRP-1)
 \nIzvajalci: Miha Brojan\nProstori: Lecture hall IV/2\, Lecture hall IV/4\
 , Lecture hall V/2\, Lecture hall V/8
LOCATION:Lecture hall IV/2\, Lecture hall IV/4\, Lecture hall V/2\, Lectur
 e hall V/8
ORGANIZER:Miha Brojan
X-WR-TIMEZONE:Europe/Ljubljana
END:VEVENT
BEGIN:VEVENT
SUMMARY:Izpit: Mechanics of light-weight structures (6040-M)
DTSTART;TZID=Europe/Ljubljana:20240611T100000
DTEND;TZID=Europe/Ljubljana:20240611T120000
DTSTAMP:20260422T175530Z
UID:fs-AFLABS-URNIK:rezervacija:5039
CATEGORIES:Reservation
COLOR:royalblue
DESCRIPTION:Predmeti: \nLetniki: \nIzvajalci: Miha Brojan\nProstori: Lectu
 re hall II/2
LOCATION:Lecture hall II/2
ORGANIZER:Miha Brojan
X-WR-TIMEZONE:Europe/Ljubljana
END:VEVENT
BEGIN:VEVENT
SUMMARY:Izpit: Poročanje v strojništvu - PAP
DTSTART;TZID=Europe/Ljubljana:20240611T120000
DTEND;TZID=Europe/Ljubljana:20240611T140000
DTSTAMP:20260422T175530Z
UID:fs-AFLABS-URNIK:rezervacija:5040
ATTENDEE:PAP-1 (PAP-1)
CATEGORIES:Reservation
COLOR:royalblue
DESCRIPTION:Predmeti: Engineering reporting - PAP (PVSP)\nLetniki: PAP-1 (
 PAP-1)\nIzvajalci: Miha Brojan\nProstori: Lecture hall III/4\, Lecture hal
 l V/2\, Lecture hall V/8
LOCATION:Lecture hall III/4\, Lecture hall V/2\, Lecture hall V/8
ORGANIZER:Miha Brojan
X-WR-TIMEZONE:Europe/Ljubljana
END:VEVENT
BEGIN:VEVENT
SUMMARY:Izpit: Mehanika fluidov (2025)
DTSTART;TZID=Europe/Ljubljana:20240619T100000
DTEND;TZID=Europe/Ljubljana:20240619T120000
DTSTAMP:20260422T175530Z
UID:fs-AFLABS-URNIK:rezervacija:5181
CATEGORIES:Reservation
COLOR:royalblue
DESCRIPTION:Predmeti: \nLetniki: \nIzvajalci: Miha Brojan\nProstori: Lectu
 re hall III/4
LOCATION:Lecture hall III/4
ORGANIZER:Miha Brojan
X-WR-TIMEZONE:Europe/Ljubljana
END:VEVENT
BEGIN:VEVENT
SUMMARY:Izpit: Dokumentacija v letalstvu
DTSTART;TZID=Europe/Ljubljana:20240621T080000
DTEND;TZID=Europe/Ljubljana:20240621T100000
DTSTAMP:20260422T175530Z
UID:fs-AFLABS-URNIK:rezervacija:5236
ATTENDEE:Aircraft design and maintenance (PAP-3)
CATEGORIES:Reservation
COLOR:royalblue
DESCRIPTION:Predmeti: Aviation documentation (DVLP)\nLetniki: Aircraft des
 ign and maintenance (PAP-3)\nIzvajalci: Miha Brojan\nProstori: Lecture hal
 l IV/3B
LOCATION:Lecture hall IV/3B
ORGANIZER:Miha Brojan
X-WR-TIMEZONE:Europe/Ljubljana
END:VEVENT
BEGIN:VEVENT
SUMMARY:Izpit: Mehanika leta letala
DTSTART;TZID=Europe/Ljubljana:20240624T120000
DTEND;TZID=Europe/Ljubljana:20240624T140000
DTSTAMP:20260422T175530Z
UID:fs-AFLABS-URNIK:rezervacija:5266
ATTENDEE:Aircraft design and maintenance (PAP-2)
ATTENDEE:Airline transport pilot (PAP-2)
CATEGORIES:Reservation
COLOR:royalblue
DESCRIPTION:Predmeti: Mechanics of flight (MLLP)\nLetniki: Aircraft design
  and maintenance (PAP-2)\, Airline transport pilot (PAP-2)\nIzvajalci: Mih
 a Brojan\nProstori: Lecture hall IV/4\, Lecture hall V/2\, Lecture hall V/
 8
LOCATION:Lecture hall IV/4\, Lecture hall V/2\, Lecture hall V/8
ORGANIZER:Miha Brojan
X-WR-TIMEZONE:Europe/Ljubljana
END:VEVENT
BEGIN:VEVENT
SUMMARY:Izpit: Trdnost
DTSTART;TZID=Europe/Ljubljana:20240624T120000
DTEND;TZID=Europe/Ljubljana:20240624T140000
DTSTAMP:20260422T175530Z
UID:fs-AFLABS-URNIK:rezervacija:5267
ATTENDEE:RRP-1 (RRP-1)
CATEGORIES:Reservation
COLOR:royalblue
DESCRIPTION:Predmeti: Strength of materials (TRDR)\nLetniki: RRP-1 (RRP-1)
 \nIzvajalci: Miha Brojan\nProstori: Lecture hall IV/4\, Lecture hall V/2\,
  Lecture hall V/8
LOCATION:Lecture hall IV/4\, Lecture hall V/2\, Lecture hall V/8
ORGANIZER:Miha Brojan
X-WR-TIMEZONE:Europe/Ljubljana
END:VEVENT
BEGIN:VEVENT
SUMMARY:Izpit: Mechanics of light-weight structures (6040-M)
DTSTART;TZID=Europe/Ljubljana:20240627T080000
DTEND;TZID=Europe/Ljubljana:20240627T100000
DTSTAMP:20260422T175530Z
UID:fs-AFLABS-URNIK:rezervacija:5330
CATEGORIES:Reservation
COLOR:royalblue
DESCRIPTION:Predmeti: \nLetniki: \nIzvajalci: Miha Brojan\nProstori: Lectu
 re hall III/2
LOCATION:Lecture hall III/2
ORGANIZER:Miha Brojan
X-WR-TIMEZONE:Europe/Ljubljana
END:VEVENT
BEGIN:VEVENT
SUMMARY:Izpit: Mehanika lahkih struktur
DTSTART;TZID=Europe/Ljubljana:20240627T080000
DTEND;TZID=Europe/Ljubljana:20240627T100000
DTSTAMP:20260422T175530Z
UID:fs-AFLABS-URNIK:rezervacija:5331
ATTENDEE:Mechanics (MAG-2)
CATEGORIES:Reservation
COLOR:royalblue
DESCRIPTION:Predmeti: Mechanics of light-weight structures (MLSM)\nLetniki
 : Mechanics (MAG-2)\nIzvajalci: Miha Brojan\nProstori: Lecture hall III/2
LOCATION:Lecture hall III/2
ORGANIZER:Miha Brojan
X-WR-TIMEZONE:Europe/Ljubljana
END:VEVENT
BEGIN:VEVENT
SUMMARY:Izpit: Poročanje v strojništvu - PAP
DTSTART;TZID=Europe/Ljubljana:20240627T120000
DTEND;TZID=Europe/Ljubljana:20240627T140000
DTSTAMP:20260422T175530Z
UID:fs-AFLABS-URNIK:rezervacija:5332
ATTENDEE:PAP-1 (PAP-1)
CATEGORIES:Reservation
COLOR:royalblue
DESCRIPTION:Predmeti: Engineering reporting - PAP (PVSP)\nLetniki: PAP-1 (
 PAP-1)\nIzvajalci: Miha Brojan\nProstori: Lecture hall IV/4\, Lecture hall
  V/2\, Lecture hall V/8
LOCATION:Lecture hall IV/4\, Lecture hall V/2\, Lecture hall V/8
ORGANIZER:Miha Brojan
X-WR-TIMEZONE:Europe/Ljubljana
END:VEVENT
BEGIN:VEVENT
SUMMARY:Izpit: Stabilnost konstrukcij (6256)
DTSTART;TZID=Europe/Ljubljana:20240627T080000
DTEND;TZID=Europe/Ljubljana:20240627T100000
DTSTAMP:20260422T175530Z
UID:fs-AFLABS-URNIK:rezervacija:5333
CATEGORIES:Reservation
COLOR:royalblue
DESCRIPTION:Predmeti: \nLetniki: \nIzvajalci: Miha Brojan\nProstori: Lectu
 re hall III/2
LOCATION:Lecture hall III/2
ORGANIZER:Miha Brojan
X-WR-TIMEZONE:Europe/Ljubljana
END:VEVENT
BEGIN:VEVENT
SUMMARY:Izpit: Termomehanika (6201)
DTSTART;TZID=Europe/Ljubljana:20240628T080000
DTEND;TZID=Europe/Ljubljana:20240628T100000
DTSTAMP:20260422T175530Z
UID:fs-AFLABS-URNIK:rezervacija:5354
CATEGORIES:Reservation
COLOR:royalblue
DESCRIPTION:Predmeti: \nLetniki: \nIzvajalci: Miha Brojan\nProstori: Lectu
 re hall III/3B
LOCATION:Lecture hall III/3B
ORGANIZER:Miha Brojan
X-WR-TIMEZONE:Europe/Ljubljana
END:VEVENT
END:VCALENDAR
