BEGIN:VCALENDAR
VERSION:2.0
PRODID:-//AFLabs urnik izvoz - fs//aflabs.si//SI
NAME:UL FS Urnik
X-WR-CALNAME:UL FS Urnik
DTSTAMP:20260423T142131Z
REFRESH-INTERVAL:PT1H
SOURCE:https://urnik.fs.uni-lj.si/en/teacher/651/?day=2025-08-04&export=1
URL:https://urnik.fs.uni-lj.si/en/teacher/651/?day=2025-08-04&export=1
X-PUBLISHED-TTL:PT1H
X-WR-TIMEZONE:Europe/Ljubljana
BEGIN:VTIMEZONE
TZID:Europe/Ljubljana
BEGIN:DAYLIGHT
DTSTART:20260329T020000
RDATE:20260329T020000
RDATE:20270328T020000
TZNAME:CEST
TZOFFSETFROM:+0100
TZOFFSETTO:+0200
END:DAYLIGHT
BEGIN:STANDARD
DTSTART:20261025T030000
RDATE:20261025T030000
RDATE:20271031T030000
TZNAME:CET
TZOFFSETFROM:+0200
TZOFFSETTO:+0100
END:STANDARD
END:VTIMEZONE
BEGIN:VEVENT
SUMMARY:Izpit: Advanced Strength of Materials
DTSTART;TZID=Europe/Ljubljana:20250814T080000
DTEND;TZID=Europe/Ljubljana:20250814T100000
DTSTAMP:20260423T142131Z
UID:fs-AFLABS-URNIK:rezervacija:6394
ATTENDEE:Erasmus (Erasmus)
CATEGORIES:Reservation
COLOR:royalblue
DESCRIPTION:Predmeti: Advanced Strength of Materials (ASME)\nLetniki: Eras
 mus (Erasmus)\nIzvajalci: Miha Brojan\nProstori: Lecture hall IV/4
LOCATION:Lecture hall IV/4
ORGANIZER:Miha Brojan
X-WR-TIMEZONE:Europe/Ljubljana
END:VEVENT
BEGIN:VEVENT
SUMMARY:Izpit: Dokumentacija v letalstvu (3096-V) [dve oceni]
DTSTART;TZID=Europe/Ljubljana:20250814T080000
DTEND;TZID=Europe/Ljubljana:20250814T100000
DTSTAMP:20260423T142131Z
UID:fs-AFLABS-URNIK:rezervacija:6494
CATEGORIES:Reservation
COLOR:royalblue
DESCRIPTION:Predmeti: \nLetniki: \nIzvajalci: Miha Brojan\nProstori: Lectu
 re hall IV/4
LOCATION:Lecture hall IV/4
ORGANIZER:Miha Brojan
X-WR-TIMEZONE:Europe/Ljubljana
END:VEVENT
BEGIN:VEVENT
SUMMARY:Izpit: Mechanics of light-weight structures (6040-M) [dve oceni]
DTSTART;TZID=Europe/Ljubljana:20250828T080000
DTEND;TZID=Europe/Ljubljana:20250828T100000
DTSTAMP:20260423T142131Z
UID:fs-AFLABS-URNIK:rezervacija:6945
CATEGORIES:Reservation
COLOR:royalblue
DESCRIPTION:Predmeti: \nLetniki: \nIzvajalci: Miha Brojan\nProstori: Lectu
 re hall V/2\, Lecture hall V/8
LOCATION:Lecture hall V/2\, Lecture hall V/8
ORGANIZER:Miha Brojan
X-WR-TIMEZONE:Europe/Ljubljana
END:VEVENT
BEGIN:VEVENT
SUMMARY:Izpit: Mehanika lahkih struktur (6040-M) [dve oceni]
DTSTART;TZID=Europe/Ljubljana:20250828T080000
DTEND;TZID=Europe/Ljubljana:20250828T100000
DTSTAMP:20260423T142131Z
UID:fs-AFLABS-URNIK:rezervacija:6961
CATEGORIES:Reservation
COLOR:royalblue
DESCRIPTION:Predmeti: \nLetniki: \nIzvajalci: Miha Brojan\nProstori: Lectu
 re hall V/2\, Lecture hall V/8
LOCATION:Lecture hall V/2\, Lecture hall V/8
ORGANIZER:Miha Brojan
X-WR-TIMEZONE:Europe/Ljubljana
END:VEVENT
BEGIN:VEVENT
SUMMARY:Izpit: Mehanika leta letala (3081-V) [dve oceni]
DTSTART;TZID=Europe/Ljubljana:20250828T080000
DTEND;TZID=Europe/Ljubljana:20250828T100000
DTSTAMP:20260423T142131Z
UID:fs-AFLABS-URNIK:rezervacija:6964
CATEGORIES:Reservation
COLOR:royalblue
DESCRIPTION:Predmeti: \nLetniki: \nIzvajalci: Miha Brojan\nProstori: Lectu
 re hall V/2\, Lecture hall V/8
LOCATION:Lecture hall V/2\, Lecture hall V/8
ORGANIZER:Miha Brojan
X-WR-TIMEZONE:Europe/Ljubljana
END:VEVENT
BEGIN:VEVENT
SUMMARY:Izpit: Mehanika leta letala (3137)
DTSTART;TZID=Europe/Ljubljana:20250828T080000
DTEND;TZID=Europe/Ljubljana:20250828T100000
DTSTAMP:20260423T142131Z
UID:fs-AFLABS-URNIK:rezervacija:6967
CATEGORIES:Reservation
COLOR:royalblue
DESCRIPTION:Predmeti: \nLetniki: \nIzvajalci: Miha Brojan\nProstori: Lectu
 re hall V/2\, Lecture hall V/8
LOCATION:Lecture hall V/2\, Lecture hall V/8
ORGANIZER:Miha Brojan
X-WR-TIMEZONE:Europe/Ljubljana
END:VEVENT
BEGIN:VEVENT
SUMMARY:Izpit: Poročanje v strojništvu - PAP (3012-V)
DTSTART;TZID=Europe/Ljubljana:20250828T080000
DTEND;TZID=Europe/Ljubljana:20250828T100000
DTSTAMP:20260423T142131Z
UID:fs-AFLABS-URNIK:rezervacija:7336
CATEGORIES:Reservation
COLOR:royalblue
DESCRIPTION:Predmeti: \nLetniki: \nIzvajalci: Miha Brojan\nProstori: Lectu
 re hall V/2\, Lecture hall V/8
LOCATION:Lecture hall V/2\, Lecture hall V/8
ORGANIZER:Miha Brojan
X-WR-TIMEZONE:Europe/Ljubljana
END:VEVENT
BEGIN:VEVENT
SUMMARY:Izpit: Poročanje v strojništvu - PAP (3012-V) [dve oceni]
DTSTART;TZID=Europe/Ljubljana:20250828T080000
DTEND;TZID=Europe/Ljubljana:20250828T100000
DTSTAMP:20260423T142131Z
UID:fs-AFLABS-URNIK:rezervacija:7339
CATEGORIES:Reservation
COLOR:royalblue
DESCRIPTION:Predmeti: \nLetniki: \nIzvajalci: Miha Brojan\nProstori: Lectu
 re hall V/2\, Lecture hall V/8
LOCATION:Lecture hall V/2\, Lecture hall V/8
ORGANIZER:Miha Brojan
X-WR-TIMEZONE:Europe/Ljubljana
END:VEVENT
BEGIN:VEVENT
SUMMARY:Izpit: Poročanje v strojništvu - RRP (2023-U) [dve oceni]
DTSTART;TZID=Europe/Ljubljana:20250828T080000
DTEND;TZID=Europe/Ljubljana:20250828T100000
DTSTAMP:20260423T142131Z
UID:fs-AFLABS-URNIK:rezervacija:7342
CATEGORIES:Reservation
COLOR:royalblue
DESCRIPTION:Predmeti: \nLetniki: \nIzvajalci: Miha Brojan\nProstori: Lectu
 re hall V/2\, Lecture hall V/8
LOCATION:Lecture hall V/2\, Lecture hall V/8
ORGANIZER:Miha Brojan
X-WR-TIMEZONE:Europe/Ljubljana
END:VEVENT
BEGIN:VEVENT
SUMMARY:Izpit: Tehniška mehanika 3 (3038)
DTSTART;TZID=Europe/Ljubljana:20250813T120000
DTEND;TZID=Europe/Ljubljana:20250813T140000
DTSTAMP:20260423T142131Z
UID:fs-AFLABS-URNIK:rezervacija:7643
CATEGORIES:Reservation
COLOR:royalblue
DESCRIPTION:Predmeti: \nLetniki: \nIzvajalci: Miha Brojan\nProstori: Lectu
 re hall II/5
LOCATION:Lecture hall II/5
ORGANIZER:Miha Brojan
X-WR-TIMEZONE:Europe/Ljubljana
END:VEVENT
BEGIN:VEVENT
SUMMARY:Izpit: Termomehanika (6201)
DTSTART;TZID=Europe/Ljubljana:20250812T080000
DTEND;TZID=Europe/Ljubljana:20250812T100000
DTSTAMP:20260423T142131Z
UID:fs-AFLABS-URNIK:rezervacija:7706
CATEGORIES:Reservation
COLOR:royalblue
DESCRIPTION:Predmeti: \nLetniki: \nIzvajalci: Miha Brojan\nProstori: Lectu
 re hall IV/4\, Lecture hall V/2
LOCATION:Lecture hall IV/4\, Lecture hall V/2
ORGANIZER:Miha Brojan
X-WR-TIMEZONE:Europe/Ljubljana
END:VEVENT
BEGIN:VEVENT
SUMMARY:Izpit: Trdnost (2007-U)
DTSTART;TZID=Europe/Ljubljana:20250812T080000
DTEND;TZID=Europe/Ljubljana:20250812T100000
DTSTAMP:20260423T142131Z
UID:fs-AFLABS-URNIK:rezervacija:7742
CATEGORIES:Reservation
COLOR:royalblue
DESCRIPTION:Predmeti: \nLetniki: \nIzvajalci: Miha Brojan\nProstori: Lectu
 re hall IV/4\, Lecture hall V/2
LOCATION:Lecture hall IV/4\, Lecture hall V/2
ORGANIZER:Miha Brojan
X-WR-TIMEZONE:Europe/Ljubljana
END:VEVENT
BEGIN:VEVENT
SUMMARY:Izpit: Trdnost (2007-U) [dve oceni]
DTSTART;TZID=Europe/Ljubljana:20250812T080000
DTEND;TZID=Europe/Ljubljana:20250812T100000
DTSTAMP:20260423T142131Z
UID:fs-AFLABS-URNIK:rezervacija:7745
CATEGORIES:Reservation
COLOR:royalblue
DESCRIPTION:Predmeti: \nLetniki: \nIzvajalci: Miha Brojan\nProstori: Lectu
 re hall IV/4\, Lecture hall V/2
LOCATION:Lecture hall IV/4\, Lecture hall V/2
ORGANIZER:Miha Brojan
X-WR-TIMEZONE:Europe/Ljubljana
END:VEVENT
BEGIN:VEVENT
SUMMARY:Izpit: Višja trdnost (6034-M)
DTSTART;TZID=Europe/Ljubljana:20250814T080000
DTEND;TZID=Europe/Ljubljana:20250814T100000
DTSTAMP:20260423T142131Z
UID:fs-AFLABS-URNIK:rezervacija:7793
CATEGORIES:Reservation
COLOR:royalblue
DESCRIPTION:Predmeti: \nLetniki: \nIzvajalci: Miha Brojan\nProstori: Lectu
 re hall IV/4
LOCATION:Lecture hall IV/4
ORGANIZER:Miha Brojan
X-WR-TIMEZONE:Europe/Ljubljana
END:VEVENT
BEGIN:VEVENT
SUMMARY:Izpit: Višja trdnost (6034-M) [dve oceni]
DTSTART;TZID=Europe/Ljubljana:20250814T080000
DTEND;TZID=Europe/Ljubljana:20250814T100000
DTSTAMP:20260423T142131Z
UID:fs-AFLABS-URNIK:rezervacija:7796
CATEGORIES:Reservation
COLOR:royalblue
DESCRIPTION:Predmeti: \nLetniki: \nIzvajalci: Miha Brojan\nProstori: Lectu
 re hall IV/4
LOCATION:Lecture hall IV/4
ORGANIZER:Miha Brojan
X-WR-TIMEZONE:Europe/Ljubljana
END:VEVENT
BEGIN:VEVENT
SUMMARY:Izpit: Mehanika fluidov (2025)
DTSTART;TZID=Europe/Ljubljana:20250825T080000
DTEND;TZID=Europe/Ljubljana:20250825T100000
DTSTAMP:20260423T142131Z
UID:fs-AFLABS-URNIK:rezervacija:10262
CATEGORIES:Reservation
COLOR:royalblue
DESCRIPTION:Predmeti: \nLetniki: \nIzvajalci: Miha Brojan\nProstori: Lectu
 re hall II/3A
LOCATION:Lecture hall II/3A
ORGANIZER:Miha Brojan
X-WR-TIMEZONE:Europe/Ljubljana
END:VEVENT
BEGIN:VEVENT
SUMMARY:Sestanek - mednarodna pisarna
DTSTART;TZID=Europe/Ljubljana:20250905T103000
DTEND;TZID=Europe/Ljubljana:20250905T113000
DTSTAMP:20260423T142131Z
UID:fs-AFLABS-URNIK:rezervacija:10587
CATEGORIES:Reservation
COLOR:royalblue
DESCRIPTION:Predmeti: \nLetniki: \nIzvajalci: Miha Brojan\nProstori: Confe
 rence room
LOCATION:Conference room
ORGANIZER:Miha Brojan
X-WR-TIMEZONE:Europe/Ljubljana
END:VEVENT
END:VCALENDAR
