BEGIN:VCALENDAR
VERSION:2.0
PRODID:-//AFLabs urnik izvoz - fs//aflabs.si//SI
NAME:UL FS Urnik
X-WR-CALNAME:UL FS Urnik
DTSTAMP:20260425T184420Z
REFRESH-INTERVAL:PT1H
SOURCE:https://urnik.fs.uni-lj.si/en/teacher/651/?day=2026-01-19&export=1
URL:https://urnik.fs.uni-lj.si/en/teacher/651/?day=2026-01-19&export=1
X-PUBLISHED-TTL:PT1H
X-WR-TIMEZONE:Europe/Ljubljana
BEGIN:VTIMEZONE
TZID:Europe/Ljubljana
BEGIN:DAYLIGHT
DTSTART:20260329T020000
RDATE:20260329T020000
RDATE:20270328T020000
TZNAME:CEST
TZOFFSETFROM:+0100
TZOFFSETTO:+0200
END:DAYLIGHT
BEGIN:STANDARD
DTSTART:20261025T030000
RDATE:20261025T030000
RDATE:20271031T030000
TZNAME:CET
TZOFFSETFROM:+0200
TZOFFSETTO:+0100
END:STANDARD
END:VTIMEZONE
BEGIN:VEVENT
SUMMARY:Advanced strength of materials (VSTM)\, Lectures (P)
DTSTART;TZID=Europe/Ljubljana:20251215T080000
DTEND;TZID=Europe/Ljubljana:20251215T100000
DTSTAMP:20260425T184420Z
UID:fs-AFLABS-URNIK:srecanje:2648-2025-12-15 08:00:00+01:00
DESCRIPTION:Predmet: Advanced strength of materials (VSTM)\, Lectures (P)\
 nLetniki: Mechanics (MAG-1)\nIzvajalci: Miha Brojan\, Jaka Tušek\nProstor
 : Lecture hall II/5
END:VEVENT
BEGIN:VEVENT
SUMMARY:Advanced strength of materials (VSTM)\, Lectures (P)
DTSTART;TZID=Europe/Ljubljana:20251222T080000
DTEND;TZID=Europe/Ljubljana:20251222T100000
DTSTAMP:20260425T184420Z
UID:fs-AFLABS-URNIK:srecanje:2648-2025-12-22 08:00:00+01:00
DESCRIPTION:Predmet: Advanced strength of materials (VSTM)\, Lectures (P)\
 nLetniki: Mechanics (MAG-1)\nIzvajalci: Miha Brojan\, Jaka Tušek\nProstor
 : Lecture hall II/5
END:VEVENT
BEGIN:VEVENT
SUMMARY:Advanced strength of materials (VSTM)\, Lectures (P)
DTSTART;TZID=Europe/Ljubljana:20260105T080000
DTEND;TZID=Europe/Ljubljana:20260105T100000
DTSTAMP:20260425T184420Z
UID:fs-AFLABS-URNIK:srecanje:2648-2026-01-05 08:00:00+01:00
DESCRIPTION:Predmet: Advanced strength of materials (VSTM)\, Lectures (P)\
 nLetniki: Mechanics (MAG-1)\nIzvajalci: Miha Brojan\, Jaka Tušek\nProstor
 : Lecture hall II/5
END:VEVENT
BEGIN:VEVENT
SUMMARY:Advanced strength of materials (VSTM)\, Lectures (P)
DTSTART;TZID=Europe/Ljubljana:20260112T080000
DTEND;TZID=Europe/Ljubljana:20260112T100000
DTSTAMP:20260425T184420Z
UID:fs-AFLABS-URNIK:srecanje:2648-2026-01-12 08:00:00+01:00
DESCRIPTION:Predmet: Advanced strength of materials (VSTM)\, Lectures (P)\
 nLetniki: Mechanics (MAG-1)\nIzvajalci: Miha Brojan\, Jaka Tušek\nProstor
 : Lecture hall II/5
END:VEVENT
BEGIN:VEVENT
SUMMARY:Mechanics of light-weight structures (MLSM)\, Lectures (P)
DTSTART;TZID=Europe/Ljubljana:20251216T080000
DTEND;TZID=Europe/Ljubljana:20251216T100000
DTSTAMP:20260425T184420Z
UID:fs-AFLABS-URNIK:srecanje:15980-2025-12-16 08:00:00+01:00
DESCRIPTION:Predmet: Mechanics of light-weight structures (MLSM)\, Lecture
 s (P)\nLetniki: Mechanics (MAG-2)\nIzvajalci: Miha Brojan\nProstor: Lectur
 e hall II/2
END:VEVENT
BEGIN:VEVENT
SUMMARY:Mechanics of light-weight structures (MLSM)\, Lectures (P)
DTSTART;TZID=Europe/Ljubljana:20251223T080000
DTEND;TZID=Europe/Ljubljana:20251223T100000
DTSTAMP:20260425T184420Z
UID:fs-AFLABS-URNIK:srecanje:15980-2025-12-23 08:00:00+01:00
DESCRIPTION:Predmet: Mechanics of light-weight structures (MLSM)\, Lecture
 s (P)\nLetniki: Mechanics (MAG-2)\nIzvajalci: Miha Brojan\nProstor: Lectur
 e hall II/2
END:VEVENT
BEGIN:VEVENT
SUMMARY:Mechanics of light-weight structures (MLSM)\, Lectures (P)
DTSTART;TZID=Europe/Ljubljana:20260106T080000
DTEND;TZID=Europe/Ljubljana:20260106T100000
DTSTAMP:20260425T184420Z
UID:fs-AFLABS-URNIK:srecanje:15980-2026-01-06 08:00:00+01:00
DESCRIPTION:Predmet: Mechanics of light-weight structures (MLSM)\, Lecture
 s (P)\nLetniki: Mechanics (MAG-2)\nIzvajalci: Miha Brojan\nProstor: Lectur
 e hall II/2
END:VEVENT
BEGIN:VEVENT
SUMMARY:Mechanics of light-weight structures (MLSM)\, Lectures (P)
DTSTART;TZID=Europe/Ljubljana:20260113T080000
DTEND;TZID=Europe/Ljubljana:20260113T100000
DTSTAMP:20260425T184420Z
UID:fs-AFLABS-URNIK:srecanje:15980-2026-01-13 08:00:00+01:00
DESCRIPTION:Predmet: Mechanics of light-weight structures (MLSM)\, Lecture
 s (P)\nLetniki: Mechanics (MAG-2)\nIzvajalci: Miha Brojan\nProstor: Lectur
 e hall II/2
END:VEVENT
BEGIN:VEVENT
SUMMARY:Advanced Strength of Materials (ASME)\, Lectures (P)
DTSTART;TZID=Europe/Ljubljana:20251216T100000
DTEND;TZID=Europe/Ljubljana:20251216T120000
DTSTAMP:20260425T184420Z
UID:fs-AFLABS-URNIK:srecanje:17587-2025-12-16 10:00:00+01:00
DESCRIPTION:Predmet: Advanced Strength of Materials (ASME)\, Lectures (P)\
 nLetniki: Erasmus (Erasmus)\nIzvajalci: Miha Brojan\, Jaka Tušek\nProstor
 : Lecture hall III/4
END:VEVENT
BEGIN:VEVENT
SUMMARY:Advanced Strength of Materials (ASME)\, Lectures (P)
DTSTART;TZID=Europe/Ljubljana:20251223T100000
DTEND;TZID=Europe/Ljubljana:20251223T120000
DTSTAMP:20260425T184420Z
UID:fs-AFLABS-URNIK:srecanje:17587-2025-12-23 10:00:00+01:00
DESCRIPTION:Predmet: Advanced Strength of Materials (ASME)\, Lectures (P)\
 nLetniki: Erasmus (Erasmus)\nIzvajalci: Miha Brojan\, Jaka Tušek\nProstor
 : Lecture hall III/4
END:VEVENT
BEGIN:VEVENT
SUMMARY:Advanced Strength of Materials (ASME)\, Lectures (P)
DTSTART;TZID=Europe/Ljubljana:20260106T100000
DTEND;TZID=Europe/Ljubljana:20260106T120000
DTSTAMP:20260425T184420Z
UID:fs-AFLABS-URNIK:srecanje:17587-2026-01-06 10:00:00+01:00
DESCRIPTION:Predmet: Advanced Strength of Materials (ASME)\, Lectures (P)\
 nLetniki: Erasmus (Erasmus)\nIzvajalci: Miha Brojan\, Jaka Tušek\nProstor
 : Lecture hall III/4
END:VEVENT
BEGIN:VEVENT
SUMMARY:Advanced Strength of Materials (ASME)\, Lectures (P)
DTSTART;TZID=Europe/Ljubljana:20260113T100000
DTEND;TZID=Europe/Ljubljana:20260113T120000
DTSTAMP:20260425T184420Z
UID:fs-AFLABS-URNIK:srecanje:17587-2026-01-13 10:00:00+01:00
DESCRIPTION:Predmet: Advanced Strength of Materials (ASME)\, Lectures (P)\
 nLetniki: Erasmus (Erasmus)\nIzvajalci: Miha Brojan\, Jaka Tušek\nProstor
 : Lecture hall III/4
END:VEVENT
BEGIN:VEVENT
SUMMARY:Engineering reporting - RRP (PVSR)\, Lectures (P)
DTSTART;TZID=Europe/Ljubljana:20251217T140000
DTEND;TZID=Europe/Ljubljana:20251217T150000
DTSTAMP:20260425T184420Z
UID:fs-AFLABS-URNIK:srecanje:13408-2025-12-17 14:00:00+01:00
DESCRIPTION:Predmet: Engineering reporting - RRP (PVSR)\, Lectures (P)\nLe
 tniki: RRP-2 (RRP-2)\nIzvajalci: Miha Brojan\, Dominik Kozjek\, Franc Majd
 ič\, Rok Vrabič\, Nikola Vukašinović\nProstor: Lecture hall V/2
END:VEVENT
BEGIN:VEVENT
SUMMARY:Engineering reporting - RRP (PVSR)\, Lectures (P)
DTSTART;TZID=Europe/Ljubljana:20251224T140000
DTEND;TZID=Europe/Ljubljana:20251224T150000
DTSTAMP:20260425T184420Z
UID:fs-AFLABS-URNIK:srecanje:13408-2025-12-24 14:00:00+01:00
DESCRIPTION:Predmet: Engineering reporting - RRP (PVSR)\, Lectures (P)\nLe
 tniki: RRP-2 (RRP-2)\nIzvajalci: Miha Brojan\, Dominik Kozjek\, Franc Majd
 ič\, Rok Vrabič\, Nikola Vukašinović\nProstor: Lecture hall V/2
END:VEVENT
BEGIN:VEVENT
SUMMARY:Engineering reporting - RRP (PVSR)\, Lectures (P)
DTSTART;TZID=Europe/Ljubljana:20260107T140000
DTEND;TZID=Europe/Ljubljana:20260107T150000
DTSTAMP:20260425T184420Z
UID:fs-AFLABS-URNIK:srecanje:13408-2026-01-07 14:00:00+01:00
DESCRIPTION:Predmet: Engineering reporting - RRP (PVSR)\, Lectures (P)\nLe
 tniki: RRP-2 (RRP-2)\nIzvajalci: Miha Brojan\, Dominik Kozjek\, Franc Majd
 ič\, Rok Vrabič\, Nikola Vukašinović\nProstor: Lecture hall V/2
END:VEVENT
BEGIN:VEVENT
SUMMARY:Engineering reporting - RRP (PVSR)\, Lectures (P)
DTSTART;TZID=Europe/Ljubljana:20260114T140000
DTEND;TZID=Europe/Ljubljana:20260114T150000
DTSTAMP:20260425T184420Z
UID:fs-AFLABS-URNIK:srecanje:13408-2026-01-14 14:00:00+01:00
DESCRIPTION:Predmet: Engineering reporting - RRP (PVSR)\, Lectures (P)\nLe
 tniki: RRP-2 (RRP-2)\nIzvajalci: Miha Brojan\, Dominik Kozjek\, Franc Majd
 ič\, Rok Vrabič\, Nikola Vukašinović\nProstor: Lecture hall V/2
END:VEVENT
BEGIN:VEVENT
SUMMARY:Advanced Strength of Materials (ASME)\, Laboratory excercises (VL)
 \, [S1]
DTSTART;TZID=Europe/Ljubljana:20251218T080000
DTEND;TZID=Europe/Ljubljana:20251218T100000
DTSTAMP:20260425T184420Z
UID:fs-AFLABS-URNIK:srecanje:17626-2025-12-18 08:00:00+01:00
DESCRIPTION:Predmet: Advanced Strength of Materials (ASME)\, Laboratory ex
 cercises (VL)\, [S1]\nLetniki: Erasmus (Erasmus)\nIzvajalci: Miha Brojan\n
 Prostor: Laboratory LANEM I/7
END:VEVENT
BEGIN:VEVENT
SUMMARY:Advanced Strength of Materials (ASME)\, Laboratory excercises (VL)
 \, [S1]
DTSTART;TZID=Europe/Ljubljana:20260108T080000
DTEND;TZID=Europe/Ljubljana:20260108T100000
DTSTAMP:20260425T184420Z
UID:fs-AFLABS-URNIK:srecanje:17626-2026-01-08 08:00:00+01:00
DESCRIPTION:Predmet: Advanced Strength of Materials (ASME)\, Laboratory ex
 cercises (VL)\, [S1]\nLetniki: Erasmus (Erasmus)\nIzvajalci: Miha Brojan\n
 Prostor: Laboratory LANEM I/7
END:VEVENT
BEGIN:VEVENT
SUMMARY:Advanced Strength of Materials (ASME)\, Laboratory excercises (VL)
 \, [S1]
DTSTART;TZID=Europe/Ljubljana:20260115T080000
DTEND;TZID=Europe/Ljubljana:20260115T100000
DTSTAMP:20260425T184420Z
UID:fs-AFLABS-URNIK:srecanje:17626-2026-01-15 08:00:00+01:00
DESCRIPTION:Predmet: Advanced Strength of Materials (ASME)\, Laboratory ex
 cercises (VL)\, [S1]\nLetniki: Erasmus (Erasmus)\nIzvajalci: Miha Brojan\n
 Prostor: Laboratory LANEM I/7
END:VEVENT
BEGIN:VEVENT
SUMMARY:Advanced Strength of Materials (ASME)\, Lecture exercises (VP)\, [
 S1]
DTSTART;TZID=Europe/Ljubljana:20251225T080000
DTEND;TZID=Europe/Ljubljana:20251225T093000
DTSTAMP:20260425T184420Z
UID:fs-AFLABS-URNIK:srecanje:17625-2025-12-25 08:00:00+01:00
DESCRIPTION:Predmet: Advanced Strength of Materials (ASME)\, Lecture exerc
 ises (VP)\, [S1]\nLetniki: Erasmus (Erasmus)\nIzvajalci: Miha Brojan\nPros
 tor: Lecture hall I/4A
END:VEVENT
BEGIN:VEVENT
SUMMARY:Aviation documentation (DVLP)\, Lectures (P)
DTSTART;TZID=Europe/Ljubljana:20260216T100000
DTEND;TZID=Europe/Ljubljana:20260216T120000
DTSTAMP:20260425T184420Z
UID:fs-AFLABS-URNIK:srecanje:17319-2026-02-16 10:00:00+01:00
DESCRIPTION:Predmet: Aviation documentation (DVLP)\, Lectures (P)\nLetniki
 : Aircraft design and maintenance (PAP-3)\nIzvajalci: Miha Brojan\nProstor
 : Lecture hall IV/3B
END:VEVENT
BEGIN:VEVENT
SUMMARY:Aviation documentation (DVLP)\, Lectures (P)
DTSTART;TZID=Europe/Ljubljana:20260223T100000
DTEND;TZID=Europe/Ljubljana:20260223T120000
DTSTAMP:20260425T184420Z
UID:fs-AFLABS-URNIK:srecanje:17319-2026-02-23 10:00:00+01:00
DESCRIPTION:Predmet: Aviation documentation (DVLP)\, Lectures (P)\nLetniki
 : Aircraft design and maintenance (PAP-3)\nIzvajalci: Miha Brojan\nProstor
 : Lecture hall IV/3B
END:VEVENT
BEGIN:VEVENT
SUMMARY:Mechanics of Light-weight Structures (MLSE)\, Lectures (P)
DTSTART;TZID=Europe/Ljubljana:20260216T120000
DTEND;TZID=Europe/Ljubljana:20260216T140000
DTSTAMP:20260425T184420Z
UID:fs-AFLABS-URNIK:srecanje:14866-2026-02-16 12:00:00+01:00
DESCRIPTION:Predmet: Mechanics of Light-weight Structures (MLSE)\, Lecture
 s (P)\nLetniki: Erasmus (Erasmus)\nIzvajalci: Miha Brojan\nProstor: Lectur
 e hall I/4A
END:VEVENT
BEGIN:VEVENT
SUMMARY:Mechanics of Light-weight Structures (MLSE)\, Lectures (P)
DTSTART;TZID=Europe/Ljubljana:20260223T120000
DTEND;TZID=Europe/Ljubljana:20260223T140000
DTSTAMP:20260425T184420Z
UID:fs-AFLABS-URNIK:srecanje:14866-2026-02-23 12:00:00+01:00
DESCRIPTION:Predmet: Mechanics of Light-weight Structures (MLSE)\, Lecture
 s (P)\nLetniki: Erasmus (Erasmus)\nIzvajalci: Miha Brojan\nProstor: Lectur
 e hall I/4A
END:VEVENT
BEGIN:VEVENT
SUMMARY:Engineering reporting - PAP (PVSP)\, Lectures (P)
DTSTART;TZID=Europe/Ljubljana:20260219T073000
DTEND;TZID=Europe/Ljubljana:20260219T083000
DTSTAMP:20260425T184420Z
UID:fs-AFLABS-URNIK:srecanje:15125-2026-02-19 07:30:00+01:00
DESCRIPTION:Predmet: Engineering reporting - PAP (PVSP)\, Lectures (P)\nLe
 tniki: PAP-1 (PAP-1)\nIzvajalci: Miha Brojan\, Dominik Kozjek\, Franc Majd
 ič\, Rok Vrabič\, Nikola Vukašinović\nProstor: Lecture hall V/8
END:VEVENT
BEGIN:VEVENT
SUMMARY:Engineering reporting - PAP (PVSP)\, Lecture exercises (VP)\, [S1\
 , S2\, S3\, S4]
DTSTART;TZID=Europe/Ljubljana:20260219T083000
DTEND;TZID=Europe/Ljubljana:20260219T093000
DTSTAMP:20260425T184420Z
UID:fs-AFLABS-URNIK:srecanje:16139-2026-02-19 08:30:00+01:00
DESCRIPTION:Predmet: Engineering reporting - PAP (PVSP)\, Lecture exercise
 s (VP)\, [S1\, S2\, S3\, S4]\nLetniki: PAP-1 (PAP-1)\nIzvajalci: Miha Broj
 an\, Dominik Kozjek\, Franc Majdič\, Nejc Novak\, Ana Trajkovski\, Nikola
  Vukašinović\, Jan Zavodnik\nProstor: Lecture hall V/8
END:VEVENT
BEGIN:VEVENT
SUMMARY:Mechanics of flight (MLLP)\, Lectures (P)
DTSTART;TZID=Europe/Ljubljana:20260219T093000
DTEND;TZID=Europe/Ljubljana:20260219T113000
DTSTAMP:20260425T184420Z
UID:fs-AFLABS-URNIK:srecanje:16453-2026-02-19 09:30:00+01:00
DESCRIPTION:Predmet: Mechanics of flight (MLLP)\, Lectures (P)\nLetniki: A
 ircraft design and maintenance (PAP-2)\, Airline transport pilot (PAP-2)\n
 Izvajalci: Miha Brojan\nProstor: Lecture hall IV/3A
END:VEVENT
BEGIN:VEVENT
SUMMARY:Strength of materials (TRDR)\, Lectures (P)
DTSTART;TZID=Europe/Ljubljana:20260220T123000
DTEND;TZID=Europe/Ljubljana:20260220T143000
DTSTAMP:20260425T184420Z
UID:fs-AFLABS-URNIK:srecanje:15354-2026-02-20 12:30:00+01:00
DESCRIPTION:Predmet: Strength of materials (TRDR)\, Lectures (P)\nLetniki:
  RRP-1 (RRP-1)\nIzvajalci: Miha Brojan\nProstor: Lecture hall V/8
END:VEVENT
BEGIN:VEVENT
SUMMARY:Izpit: Mehanika lahkih struktur
DTSTART;TZID=Europe/Ljubljana:20260129T110000
DTEND;TZID=Europe/Ljubljana:20260129T130000
DTSTAMP:20260425T184420Z
UID:fs-AFLABS-URNIK:rezervacija:12847
ATTENDEE:Mechanics (MAG-2)
CATEGORIES:Reservation
COLOR:royalblue
DESCRIPTION:Predmeti: Mechanics of light-weight structures (MLSM)\nLetniki
 : Mechanics (MAG-2)\nIzvajalci: Miha Brojan\nProstori: Lecture hall V/2
LOCATION:Lecture hall V/2
ORGANIZER:Miha Brojan
X-WR-TIMEZONE:Europe/Ljubljana
END:VEVENT
BEGIN:VEVENT
SUMMARY:Izpit: Višja trdnost
DTSTART;TZID=Europe/Ljubljana:20260210T080000
DTEND;TZID=Europe/Ljubljana:20260210T100000
DTSTAMP:20260425T184420Z
UID:fs-AFLABS-URNIK:rezervacija:11494
ATTENDEE:Mechanics (MAG-1)
CATEGORIES:Reservation
COLOR:royalblue
DESCRIPTION:Predmeti: Advanced strength of materials (VSTM)\nLetniki: Mech
 anics (MAG-1)\nIzvajalci: Miha Brojan\nProstori: Lecture hall II/3A
LOCATION:Lecture hall II/3A
ORGANIZER:Miha Brojan
X-WR-TIMEZONE:Europe/Ljubljana
END:VEVENT
BEGIN:VEVENT
SUMMARY:Kolokvij TEORIJA
DTSTART;TZID=Europe/Ljubljana:20260119T160000
DTEND;TZID=Europe/Ljubljana:20260119T173000
DTSTAMP:20260425T184420Z
UID:fs-AFLABS-URNIK:rezervacija:13013
ATTENDEE:Mechanics (MAG-1)
CATEGORIES:Reservation
COLOR:royalblue
DESCRIPTION:Predmeti: Advanced strength of materials (VSTM)\nLetniki: Mech
 anics (MAG-1)\nIzvajalci: Miha Brojan\, Urh Štempihar Jazbec\nProstori: L
 ecture hall IV/2
LOCATION:Lecture hall IV/2
ORGANIZER:Miha Brojan, Urh Štempihar Jazbec
X-WR-TIMEZONE:Europe/Ljubljana
END:VEVENT
BEGIN:VEVENT
SUMMARY:Kolokvij MLS
DTSTART;TZID=Europe/Ljubljana:20260107T180000
DTEND;TZID=Europe/Ljubljana:20260107T200000
DTSTAMP:20260425T184420Z
UID:fs-AFLABS-URNIK:rezervacija:12973
ATTENDEE:Mechanics (MAG-2)
CATEGORIES:Reservation
COLOR:royalblue
DESCRIPTION:Predmeti: Mechanics of light-weight structures (MLSM)\nLetniki
 : Mechanics (MAG-2)\nIzvajalci: Miha Brojan\, Urh Štempihar Jazbec\nProst
 ori: Lecture hall IV/3A
LOCATION:Lecture hall IV/3A
ORGANIZER:Miha Brojan, Urh Štempihar Jazbec
X-WR-TIMEZONE:Europe/Ljubljana
END:VEVENT
BEGIN:VEVENT
SUMMARY:Izpit: Poročanje v strojništvu - RRP
DTSTART;TZID=Europe/Ljubljana:20260130T100000
DTEND;TZID=Europe/Ljubljana:20260130T120000
DTSTAMP:20260425T184420Z
UID:fs-AFLABS-URNIK:rezervacija:12454
ATTENDEE:RRP-2 (RRP-2)
CATEGORIES:Reservation
COLOR:royalblue
DESCRIPTION:Predmeti: Engineering reporting - RRP (PVSR)\nLetniki: RRP-2 (
 RRP-2)\nIzvajalci: Miha Brojan\nProstori: Lecture hall V/2\, Lecture hall 
 V/8
LOCATION:Lecture hall V/2\, Lecture hall V/8
ORGANIZER:Miha Brojan
X-WR-TIMEZONE:Europe/Ljubljana
END:VEVENT
BEGIN:VEVENT
SUMMARY:Izpit: Poročanje v strojništvu - RRP
DTSTART;TZID=Europe/Ljubljana:20260130T100000
DTEND;TZID=Europe/Ljubljana:20260130T120000
DTSTAMP:20260425T184420Z
UID:fs-AFLABS-URNIK:rezervacija:12678
ATTENDEE:RRP-2 (RRP-2)
CATEGORIES:Reservation
COLOR:royalblue
DESCRIPTION:Predmeti: Engineering reporting - RRP (PVSR)\nLetniki: RRP-2 (
 RRP-2)\nIzvajalci: Miha Brojan\nProstori: Lecture hall V/2\, Lecture hall 
 V/8
LOCATION:Lecture hall V/2\, Lecture hall V/8
ORGANIZER:Miha Brojan
X-WR-TIMEZONE:Europe/Ljubljana
END:VEVENT
BEGIN:VEVENT
SUMMARY:Izpit: Poročanje v strojništvu - RRP
DTSTART;TZID=Europe/Ljubljana:20260213T080000
DTEND;TZID=Europe/Ljubljana:20260213T100000
DTSTAMP:20260425T184420Z
UID:fs-AFLABS-URNIK:rezervacija:11695
ATTENDEE:RRP-2 (RRP-2)
CATEGORIES:Reservation
COLOR:royalblue
DESCRIPTION:Predmeti: Engineering reporting - RRP (PVSR)\nLetniki: RRP-2 (
 RRP-2)\nIzvajalci: Miha Brojan\nProstori: Lecture hall IV/2
LOCATION:Lecture hall IV/2
ORGANIZER:Miha Brojan
X-WR-TIMEZONE:Europe/Ljubljana
END:VEVENT
BEGIN:VEVENT
SUMMARY:Izpit: Poročanje v strojništvu - RRP
DTSTART;TZID=Europe/Ljubljana:20260213T080000
DTEND;TZID=Europe/Ljubljana:20260213T100000
DTSTAMP:20260425T184420Z
UID:fs-AFLABS-URNIK:rezervacija:12676
ATTENDEE:RRP-2 (RRP-2)
CATEGORIES:Reservation
COLOR:royalblue
DESCRIPTION:Predmeti: Engineering reporting - RRP (PVSR)\nLetniki: RRP-2 (
 RRP-2)\nIzvajalci: Miha Brojan\nProstori: Lecture hall IV/2
LOCATION:Lecture hall IV/2
ORGANIZER:Miha Brojan
X-WR-TIMEZONE:Europe/Ljubljana
END:VEVENT
BEGIN:VEVENT
SUMMARY:Izpit: Višja trdnost
DTSTART;TZID=Europe/Ljubljana:20260127T140000
DTEND;TZID=Europe/Ljubljana:20260127T160000
DTSTAMP:20260425T184420Z
UID:fs-AFLABS-URNIK:rezervacija:12295
ATTENDEE:Mechanics (MAG-1)
CATEGORIES:Reservation
COLOR:royalblue
DESCRIPTION:Predmeti: Advanced strength of materials (VSTM)\nLetniki: Mech
 anics (MAG-1)\nIzvajalci: Miha Brojan\nProstori: Lecture hall III/2
LOCATION:Lecture hall III/2
ORGANIZER:Miha Brojan
X-WR-TIMEZONE:Europe/Ljubljana
END:VEVENT
BEGIN:VEVENT
SUMMARY:Izpit: Mehanika lahkih struktur
DTSTART;TZID=Europe/Ljubljana:20260129T110000
DTEND;TZID=Europe/Ljubljana:20260129T130000
DTSTAMP:20260425T184420Z
UID:fs-AFLABS-URNIK:rezervacija:12430
ATTENDEE:Mechanics (MAG-2)
CATEGORIES:Reservation
COLOR:royalblue
DESCRIPTION:Predmeti: Mechanics of light-weight structures (MLSM)\nLetniki
 : Mechanics (MAG-2)\nIzvajalci: Miha Brojan\nProstori: Lecture hall V/2
LOCATION:Lecture hall V/2
ORGANIZER:Miha Brojan
X-WR-TIMEZONE:Europe/Ljubljana
END:VEVENT
BEGIN:VEVENT
SUMMARY:Izpit: Mehanika leta letala
DTSTART;TZID=Europe/Ljubljana:20260210T080000
DTEND;TZID=Europe/Ljubljana:20260210T100000
DTSTAMP:20260425T184420Z
UID:fs-AFLABS-URNIK:rezervacija:11492
ATTENDEE:Letalstvo - Prometni pilot letala/helikopterja (PAP-3)
ATTENDEE:Letalstvo - Snovanje in vzdrževanje letal (PAP-3)
CATEGORIES:Reservation
COLOR:royalblue
DESCRIPTION:Predmeti: Mechanics of aircraft flight (3137)\nLetniki: Letals
 tvo - Prometni pilot letala/helikopterja (PAP-3)\, Letalstvo - Snovanje in
  vzdrževanje letal (PAP-3)\nIzvajalci: Miha Brojan\nProstori: Lecture hal
 l II/3A
LOCATION:Lecture hall II/3A
ORGANIZER:Miha Brojan
X-WR-TIMEZONE:Europe/Ljubljana
END:VEVENT
BEGIN:VEVENT
SUMMARY:Izpit: Advanced Strength of Materials
DTSTART;TZID=Europe/Ljubljana:20260210T080000
DTEND;TZID=Europe/Ljubljana:20260210T100000
DTSTAMP:20260425T184420Z
UID:fs-AFLABS-URNIK:rezervacija:11491
ATTENDEE:Erasmus (Erasmus)
CATEGORIES:Reservation
COLOR:royalblue
DESCRIPTION:Predmeti: Advanced Strength of Materials (ASME)\nLetniki: Eras
 mus (Erasmus)\nIzvajalci: Miha Brojan\nProstori: Lecture hall II/3A
LOCATION:Lecture hall II/3A
ORGANIZER:Miha Brojan
X-WR-TIMEZONE:Europe/Ljubljana
END:VEVENT
BEGIN:VEVENT
SUMMARY:Izpit: Mehanika lahkih struktur
DTSTART;TZID=Europe/Ljubljana:20260212T100000
DTEND;TZID=Europe/Ljubljana:20260212T120000
DTSTAMP:20260425T184420Z
UID:fs-AFLABS-URNIK:rezervacija:12844
ATTENDEE:Mechanics (MAG-2)
CATEGORIES:Reservation
COLOR:royalblue
DESCRIPTION:Predmeti: Mechanics of light-weight structures (MLSM)\nLetniki
 : Mechanics (MAG-2)\nIzvajalci: Miha Brojan\nProstori: Lecture hall IV/4
LOCATION:Lecture hall IV/4
ORGANIZER:Miha Brojan
X-WR-TIMEZONE:Europe/Ljubljana
END:VEVENT
BEGIN:VEVENT
SUMMARY:Izpit: Mehanika lahkih struktur
DTSTART;TZID=Europe/Ljubljana:20260212T100000
DTEND;TZID=Europe/Ljubljana:20260212T120000
DTSTAMP:20260425T184420Z
UID:fs-AFLABS-URNIK:rezervacija:11628
ATTENDEE:Mechanics (MAG-2)
CATEGORIES:Reservation
COLOR:royalblue
DESCRIPTION:Predmeti: Mechanics of light-weight structures (MLSM)\nLetniki
 : Mechanics (MAG-2)\nIzvajalci: Miha Brojan\nProstori: Lecture hall IV/4
LOCATION:Lecture hall IV/4
ORGANIZER:Miha Brojan
X-WR-TIMEZONE:Europe/Ljubljana
END:VEVENT
BEGIN:VEVENT
SUMMARY:Izpit: Višja trdnost
DTSTART;TZID=Europe/Ljubljana:20260127T140000
DTEND;TZID=Europe/Ljubljana:20260127T160000
DTSTAMP:20260425T184420Z
UID:fs-AFLABS-URNIK:rezervacija:12296
ATTENDEE:Mechanics (MAG-1)
CATEGORIES:Reservation
COLOR:royalblue
DESCRIPTION:Predmeti: Advanced strength of materials (VSTM)\nLetniki: Mech
 anics (MAG-1)\nIzvajalci: Miha Brojan\nProstori: Lecture hall III/2
LOCATION:Lecture hall III/2
ORGANIZER:Miha Brojan
X-WR-TIMEZONE:Europe/Ljubljana
END:VEVENT
BEGIN:VEVENT
SUMMARY:PVSR predstavitve
DTSTART;TZID=Europe/Ljubljana:20260107T140000
DTEND;TZID=Europe/Ljubljana:20260107T160000
DTSTAMP:20260425T184420Z
UID:fs-AFLABS-URNIK:rezervacija:10940
ATTENDEE:RRP-2 (RRP-2)
CATEGORIES:Reservation
COLOR:royalblue
DESCRIPTION:Predmeti: Engineering reporting - RRP (PVSR)\nLetniki: RRP-2 (
 RRP-2)\nIzvajalci: Miha Brojan\nProstori: Lecture hall III/4
LOCATION:Lecture hall III/4
ORGANIZER:Miha Brojan
X-WR-TIMEZONE:Europe/Ljubljana
END:VEVENT
BEGIN:VEVENT
SUMMARY:Izpit: Advanced Strength of Materials
DTSTART;TZID=Europe/Ljubljana:20260127T140000
DTEND;TZID=Europe/Ljubljana:20260127T160000
DTSTAMP:20260425T184420Z
UID:fs-AFLABS-URNIK:rezervacija:12294
ATTENDEE:Erasmus (Erasmus)
CATEGORIES:Reservation
COLOR:royalblue
DESCRIPTION:Predmeti: Advanced Strength of Materials (ASME)\nLetniki: Eras
 mus (Erasmus)\nIzvajalci: Miha Brojan\nProstori: Lecture hall III/2
LOCATION:Lecture hall III/2
ORGANIZER:Miha Brojan
X-WR-TIMEZONE:Europe/Ljubljana
END:VEVENT
BEGIN:VEVENT
SUMMARY:Kolokvij VT
DTSTART;TZID=Europe/Ljubljana:20251219T180000
DTEND;TZID=Europe/Ljubljana:20251219T200000
DTSTAMP:20260425T184420Z
UID:fs-AFLABS-URNIK:rezervacija:12968
ATTENDEE:Mechanics (MAG-1)
CATEGORIES:Reservation
COLOR:royalblue
DESCRIPTION:Predmeti: Advanced strength of materials (VSTM)\nLetniki: Mech
 anics (MAG-1)\nIzvajalci: Miha Brojan\, Urh Štempihar Jazbec\nProstori: L
 ecture hall II/5
LOCATION:Lecture hall II/5
ORGANIZER:Miha Brojan, Urh Štempihar Jazbec
X-WR-TIMEZONE:Europe/Ljubljana
END:VEVENT
BEGIN:VEVENT
SUMMARY:Kolokvij ASME
DTSTART;TZID=Europe/Ljubljana:20260115T080000
DTEND;TZID=Europe/Ljubljana:20260115T093000
DTSTAMP:20260425T184420Z
UID:fs-AFLABS-URNIK:rezervacija:13108
ATTENDEE:Erasmus (Erasmus)
CATEGORIES:Reservation
COLOR:royalblue
DESCRIPTION:Predmeti: Advanced Strength of Materials (ASME)\nLetniki: Eras
 mus (Erasmus)\nIzvajalci: Miha Brojan\, Urh Štempihar Jazbec\nProstori: L
 ecture hall I/4A
LOCATION:Lecture hall I/4A
ORGANIZER:Miha Brojan, Urh Štempihar Jazbec
X-WR-TIMEZONE:Europe/Ljubljana
END:VEVENT
BEGIN:VEVENT
SUMMARY:Izpit: Višja trdnost
DTSTART;TZID=Europe/Ljubljana:20260210T080000
DTEND;TZID=Europe/Ljubljana:20260210T100000
DTSTAMP:20260425T184420Z
UID:fs-AFLABS-URNIK:rezervacija:11493
ATTENDEE:Mechanics (MAG-1)
CATEGORIES:Reservation
COLOR:royalblue
DESCRIPTION:Predmeti: Advanced strength of materials (VSTM)\nLetniki: Mech
 anics (MAG-1)\nIzvajalci: Miha Brojan\nProstori: Lecture hall II/3A
LOCATION:Lecture hall II/3A
ORGANIZER:Miha Brojan
X-WR-TIMEZONE:Europe/Ljubljana
END:VEVENT
END:VCALENDAR
