BEGIN:VCALENDAR
VERSION:2.0
PRODID:-//AFLabs urnik izvoz - fs//aflabs.si//SI
NAME:UL FS Urnik
X-WR-CALNAME:UL FS Urnik
DTSTAMP:20260425T154514Z
REFRESH-INTERVAL:PT1H
SOURCE:https://urnik.fs.uni-lj.si/en/teacher/654/?day=2026-02-02&export=1
URL:https://urnik.fs.uni-lj.si/en/teacher/654/?day=2026-02-02&export=1
X-PUBLISHED-TTL:PT1H
X-WR-TIMEZONE:Europe/Ljubljana
BEGIN:VTIMEZONE
TZID:Europe/Ljubljana
BEGIN:DAYLIGHT
DTSTART:20260329T020000
RDATE:20260329T020000
RDATE:20270328T020000
TZNAME:CEST
TZOFFSETFROM:+0100
TZOFFSETTO:+0200
END:DAYLIGHT
BEGIN:STANDARD
DTSTART:20261025T030000
RDATE:20261025T030000
RDATE:20271031T030000
TZNAME:CET
TZOFFSETFROM:+0200
TZOFFSETTO:+0100
END:STANDARD
END:VTIMEZONE
BEGIN:VEVENT
SUMMARY:Thermofluidics (TMFP)\, Lecture exercises (VP)\, [S1]
DTSTART;TZID=Europe/Ljubljana:20260217T073000
DTEND;TZID=Europe/Ljubljana:20260217T103000
DTSTAMP:20260425T154514Z
UID:fs-AFLABS-URNIK:srecanje:16150-2026-02-17 07:30:00+01:00
DESCRIPTION:Predmet: Thermofluidics (TMFP)\, Lecture exercises (VP)\, [S1]
 \nLetniki: PAP-1 (PAP-1)\nIzvajalci: Matic Cotič\, Gašper Vuga\nProstor:
  Lecture hall V/8
END:VEVENT
BEGIN:VEVENT
SUMMARY:Thermofluidics (TMFP)\, Lecture exercises (VP)\, [S1]
DTSTART;TZID=Europe/Ljubljana:20260224T073000
DTEND;TZID=Europe/Ljubljana:20260224T103000
DTSTAMP:20260425T154514Z
UID:fs-AFLABS-URNIK:srecanje:16150-2026-02-24 07:30:00+01:00
DESCRIPTION:Predmet: Thermofluidics (TMFP)\, Lecture exercises (VP)\, [S1]
 \nLetniki: PAP-1 (PAP-1)\nIzvajalci: Matic Cotič\, Gašper Vuga\nProstor:
  Lecture hall V/8
END:VEVENT
BEGIN:VEVENT
SUMMARY:Computational fluid dynamics (RDTM)\, Laboratory excercises (VL)\,
  [S1]
DTSTART;TZID=Europe/Ljubljana:20260218T140000
DTEND;TZID=Europe/Ljubljana:20260218T160000
DTSTAMP:20260425T154514Z
UID:fs-AFLABS-URNIK:srecanje:17191-2026-02-18 14:00:00+01:00
DESCRIPTION:Predmet: Computational fluid dynamics (RDTM)\, Laboratory exce
 rcises (VL)\, [S1]\nLetniki: Process engineering (MAG-1)\nIzvajalci: Matic
  Cotič\, Krištof Kovačič\nProstor: Computer lecture room LECAD / LASOK
  III/1
END:VEVENT
BEGIN:VEVENT
SUMMARY:Computational fluid dynamics (RDTM)\, Laboratory excercises (VL)\,
  [S1]
DTSTART;TZID=Europe/Ljubljana:20260225T140000
DTEND;TZID=Europe/Ljubljana:20260225T160000
DTSTAMP:20260425T154514Z
UID:fs-AFLABS-URNIK:srecanje:17191-2026-02-25 14:00:00+01:00
DESCRIPTION:Predmet: Computational fluid dynamics (RDTM)\, Laboratory exce
 rcises (VL)\, [S1]\nLetniki: Process engineering (MAG-1)\nIzvajalci: Matic
  Cotič\, Krištof Kovačič\nProstor: Computer lecture room LECAD / LASOK
  III/1
END:VEVENT
BEGIN:VEVENT
SUMMARY:Computational fluid dynamics (RDTM)\, Laboratory excercises (VL)\,
  [S1]
DTSTART;TZID=Europe/Ljubljana:20260304T140000
DTEND;TZID=Europe/Ljubljana:20260304T160000
DTSTAMP:20260425T154514Z
UID:fs-AFLABS-URNIK:srecanje:17191-2026-03-04 14:00:00+01:00
DESCRIPTION:Predmet: Computational fluid dynamics (RDTM)\, Laboratory exce
 rcises (VL)\, [S1]\nLetniki: Process engineering (MAG-1)\nIzvajalci: Matic
  Cotič\, Krištof Kovačič\nProstor: Computer lecture room LECAD / LASOK
  III/1
END:VEVENT
BEGIN:VEVENT
SUMMARY:Thermofluidics (TMFP)\, Lecture exercises (VP)\, [S2]
DTSTART;TZID=Europe/Ljubljana:20260218T073000
DTEND;TZID=Europe/Ljubljana:20260218T103000
DTSTAMP:20260425T154514Z
UID:fs-AFLABS-URNIK:srecanje:15335-2026-02-18 07:30:00+01:00
DESCRIPTION:Predmet: Thermofluidics (TMFP)\, Lecture exercises (VP)\, [S2]
 \nLetniki: PAP-1 (PAP-1)\nIzvajalci: Matic Cotič\, Gašper Vuga\nProstor:
  Lecture hall IV/3B
END:VEVENT
BEGIN:VEVENT
SUMMARY:Thermofluidics (TMFP)\, Lecture exercises (VP)\, [S2]
DTSTART;TZID=Europe/Ljubljana:20260225T073000
DTEND;TZID=Europe/Ljubljana:20260225T103000
DTSTAMP:20260425T154514Z
UID:fs-AFLABS-URNIK:srecanje:15335-2026-02-25 07:30:00+01:00
DESCRIPTION:Predmet: Thermofluidics (TMFP)\, Lecture exercises (VP)\, [S2]
 \nLetniki: PAP-1 (PAP-1)\nIzvajalci: Matic Cotič\, Gašper Vuga\nProstor:
  Lecture hall IV/3B
END:VEVENT
BEGIN:VEVENT
SUMMARY:Thermofluidics (TMFP)\, Lecture exercises (VP)\, [S3]
DTSTART;TZID=Europe/Ljubljana:20260218T123000
DTEND;TZID=Europe/Ljubljana:20260218T153000
DTSTAMP:20260425T154514Z
UID:fs-AFLABS-URNIK:srecanje:15336-2026-02-18 12:30:00+01:00
DESCRIPTION:Predmet: Thermofluidics (TMFP)\, Lecture exercises (VP)\, [S3]
 \nLetniki: PAP-1 (PAP-1)\nIzvajalci: Matic Cotič\, Gašper Vuga\nProstor:
  Lecture hall IV/3A
END:VEVENT
BEGIN:VEVENT
SUMMARY:Thermofluidics (TMFP)\, Lecture exercises (VP)\, [S3]
DTSTART;TZID=Europe/Ljubljana:20260225T123000
DTEND;TZID=Europe/Ljubljana:20260225T153000
DTSTAMP:20260425T154514Z
UID:fs-AFLABS-URNIK:srecanje:15336-2026-02-25 12:30:00+01:00
DESCRIPTION:Predmet: Thermofluidics (TMFP)\, Lecture exercises (VP)\, [S3]
 \nLetniki: PAP-1 (PAP-1)\nIzvajalci: Matic Cotič\, Gašper Vuga\nProstor:
  Lecture hall IV/3A
END:VEVENT
BEGIN:VEVENT
SUMMARY:Computational fluid dynamics (RDTM)\, Laboratory excercises (VL)\,
  [S2]
DTSTART;TZID=Europe/Ljubljana:20260220T100000
DTEND;TZID=Europe/Ljubljana:20260220T120000
DTSTAMP:20260425T154514Z
UID:fs-AFLABS-URNIK:srecanje:17192-2026-02-20 10:00:00+01:00
DESCRIPTION:Predmet: Computational fluid dynamics (RDTM)\, Laboratory exce
 rcises (VL)\, [S2]\nLetniki: Process engineering (MAG-1)\nIzvajalci: Matic
  Cotič\, Krištof Kovačič\nProstor: Computer lecture room LECAD / LASOK
  III/1
END:VEVENT
BEGIN:VEVENT
SUMMARY:Computational fluid dynamics (RDTM)\, Laboratory excercises (VL)\,
  [S2]
DTSTART;TZID=Europe/Ljubljana:20260227T100000
DTEND;TZID=Europe/Ljubljana:20260227T120000
DTSTAMP:20260425T154514Z
UID:fs-AFLABS-URNIK:srecanje:17192-2026-02-27 10:00:00+01:00
DESCRIPTION:Predmet: Computational fluid dynamics (RDTM)\, Laboratory exce
 rcises (VL)\, [S2]\nLetniki: Process engineering (MAG-1)\nIzvajalci: Matic
  Cotič\, Krištof Kovačič\nProstor: Computer lecture room LECAD / LASOK
  III/1
END:VEVENT
BEGIN:VEVENT
SUMMARY:Computational fluid dynamics (RDTM)\, Laboratory excercises (VL)\,
  [S2]
DTSTART;TZID=Europe/Ljubljana:20260306T100000
DTEND;TZID=Europe/Ljubljana:20260306T120000
DTSTAMP:20260425T154514Z
UID:fs-AFLABS-URNIK:srecanje:17192-2026-03-06 10:00:00+01:00
DESCRIPTION:Predmet: Computational fluid dynamics (RDTM)\, Laboratory exce
 rcises (VL)\, [S2]\nLetniki: Process engineering (MAG-1)\nIzvajalci: Matic
  Cotič\, Krištof Kovačič\nProstor: Computer lecture room LECAD / LASOK
  III/1
END:VEVENT
BEGIN:VEVENT
SUMMARY:Thermofluidics (TMFP)\, Lecture exercises (VP)\, [S4]
DTSTART;TZID=Europe/Ljubljana:20260220T123000
DTEND;TZID=Europe/Ljubljana:20260220T153000
DTSTAMP:20260425T154514Z
UID:fs-AFLABS-URNIK:srecanje:15340-2026-02-20 12:30:00+01:00
DESCRIPTION:Predmet: Thermofluidics (TMFP)\, Lecture exercises (VP)\, [S4]
 \nLetniki: PAP-1 (PAP-1)\nIzvajalci: Matic Cotič\, Gašper Vuga\nProstor:
  Lecture hall II/5
END:VEVENT
BEGIN:VEVENT
SUMMARY:Thermofluidics (TMFP)\, Lecture exercises (VP)\, [S4]
DTSTART;TZID=Europe/Ljubljana:20260227T123000
DTEND;TZID=Europe/Ljubljana:20260227T153000
DTSTAMP:20260425T154514Z
UID:fs-AFLABS-URNIK:srecanje:15340-2026-02-27 12:30:00+01:00
DESCRIPTION:Predmet: Thermofluidics (TMFP)\, Lecture exercises (VP)\, [S4]
 \nLetniki: PAP-1 (PAP-1)\nIzvajalci: Matic Cotič\, Gašper Vuga\nProstor:
  Lecture hall II/5
END:VEVENT
BEGIN:VEVENT
SUMMARY:Thermofluidics (TMFP)\, Laboratory excercises (VL)\, [S13]
DTSTART;TZID=Europe/Ljubljana:20260302T100000
DTEND;TZID=Europe/Ljubljana:20260302T123000
DTSTAMP:20260425T154514Z
UID:fs-AFLABS-URNIK:srecanje:16203-2026-03-02 10:00:00+01:00
DESCRIPTION:Predmet: Thermofluidics (TMFP)\, Laboratory excercises (VL)\, 
 [S13]\nLetniki: PAP-1 (PAP-1)\nIzvajalci: Matic Cotič\, Gašper Vuga\nPro
 stor: Laboratory LFDT K-1B
END:VEVENT
BEGIN:VEVENT
SUMMARY:Thermofluidics (TMFP)\, Laboratory excercises (VL)\, [S16]
DTSTART;TZID=Europe/Ljubljana:20260302T160000
DTEND;TZID=Europe/Ljubljana:20260302T183000
DTSTAMP:20260425T154514Z
UID:fs-AFLABS-URNIK:srecanje:16205-2026-03-02 16:00:00+01:00
DESCRIPTION:Predmet: Thermofluidics (TMFP)\, Laboratory excercises (VL)\, 
 [S16]\nLetniki: PAP-1 (PAP-1)\nIzvajalci: Matic Cotič\, Gašper Vuga\nPro
 stor: Laboratory LFDT K-1B
END:VEVENT
BEGIN:VEVENT
SUMMARY:Thermofluidics (TMFP)\, Laboratory excercises (VL)\, [S1]
DTSTART;TZID=Europe/Ljubljana:20260302T073000
DTEND;TZID=Europe/Ljubljana:20260302T100000
DTSTAMP:20260425T154514Z
UID:fs-AFLABS-URNIK:srecanje:15318-2026-03-02 07:30:00+01:00
DESCRIPTION:Predmet: Thermofluidics (TMFP)\, Laboratory excercises (VL)\, 
 [S1]\nLetniki: PAP-1 (PAP-1)\nIzvajalci: Matic Cotič\, Gašper Vuga\nPros
 tor: Laboratory LFDT K-1B
END:VEVENT
BEGIN:VEVENT
SUMMARY:Thermofluidics (TMFP)\, Laboratory excercises (VL)\, [S5]
DTSTART;TZID=Europe/Ljubljana:20260303T153000
DTEND;TZID=Europe/Ljubljana:20260303T180000
DTSTAMP:20260425T154514Z
UID:fs-AFLABS-URNIK:srecanje:16207-2026-03-03 15:30:00+01:00
DESCRIPTION:Predmet: Thermofluidics (TMFP)\, Laboratory excercises (VL)\, 
 [S5]\nLetniki: PAP-1 (PAP-1)\nIzvajalci: Matic Cotič\, Gašper Vuga\nPros
 tor: Laboratory LFDT K-1B
END:VEVENT
BEGIN:VEVENT
SUMMARY:Thermofluidics (TMFP)\, Laboratory excercises (VL)\, [S9]
DTSTART;TZID=Europe/Ljubljana:20260304T153000
DTEND;TZID=Europe/Ljubljana:20260304T180000
DTSTAMP:20260425T154514Z
UID:fs-AFLABS-URNIK:srecanje:16209-2026-03-04 15:30:00+01:00
DESCRIPTION:Predmet: Thermofluidics (TMFP)\, Laboratory excercises (VL)\, 
 [S9]\nLetniki: PAP-1 (PAP-1)\nIzvajalci: Matic Cotič\, Gašper Vuga\nPros
 tor: Laboratory LFDT K-1B
END:VEVENT
BEGIN:VEVENT
SUMMARY:Thermofluidics (TMFP)\, Laboratory excercises (VL)\, [S7]
DTSTART;TZID=Europe/Ljubljana:20260304T073000
DTEND;TZID=Europe/Ljubljana:20260304T103000
DTSTAMP:20260425T154514Z
UID:fs-AFLABS-URNIK:srecanje:16215-2026-03-04 07:30:00+01:00
DESCRIPTION:Predmet: Thermofluidics (TMFP)\, Laboratory excercises (VL)\, 
 [S7]\nLetniki: PAP-1 (PAP-1)\nIzvajalci: Matic Cotič\, Gašper Vuga\nPros
 tor: Laboratory LFDT K-1B
END:VEVENT
BEGIN:VEVENT
SUMMARY:Thermofluidics (TMFP)\, Laboratory excercises (VL)\, [S11]
DTSTART;TZID=Europe/Ljubljana:20260304T123000
DTEND;TZID=Europe/Ljubljana:20260304T153000
DTSTAMP:20260425T154514Z
UID:fs-AFLABS-URNIK:srecanje:16216-2026-03-04 12:30:00+01:00
DESCRIPTION:Predmet: Thermofluidics (TMFP)\, Laboratory excercises (VL)\, 
 [S11]\nLetniki: PAP-1 (PAP-1)\nIzvajalci: Matic Cotič\, Gašper Vuga\nPro
 stor: Laboratory LFDT K-1B
END:VEVENT
BEGIN:VEVENT
SUMMARY:Thermofluidics (TMFP)\, Laboratory excercises (VL)\, [S15]
DTSTART;TZID=Europe/Ljubljana:20260306T123000
DTEND;TZID=Europe/Ljubljana:20260306T153000
DTSTAMP:20260425T154514Z
UID:fs-AFLABS-URNIK:srecanje:16211-2026-03-06 12:30:00+01:00
DESCRIPTION:Predmet: Thermofluidics (TMFP)\, Laboratory excercises (VL)\, 
 [S15]\nLetniki: PAP-1 (PAP-1)\nIzvajalci: Matic Cotič\, Gašper Vuga\nPro
 stor: Laboratory LFDT K-1B
END:VEVENT
BEGIN:VEVENT
SUMMARY:Thermofluidics (TMFP)\, Laboratory excercises (VL)\, [S3]
DTSTART;TZID=Europe/Ljubljana:20260306T153000
DTEND;TZID=Europe/Ljubljana:20260306T180000
DTSTAMP:20260425T154514Z
UID:fs-AFLABS-URNIK:srecanje:16213-2026-03-06 15:30:00+01:00
DESCRIPTION:Predmet: Thermofluidics (TMFP)\, Laboratory excercises (VL)\, 
 [S3]\nLetniki: PAP-1 (PAP-1)\nIzvajalci: Matic Cotič\, Gašper Vuga\nPros
 tor: Laboratory LFDT K-1B
END:VEVENT
BEGIN:VEVENT
SUMMARY:Thermofluidics (TMFP)\, Laboratory excercises (VL)\, [S14]
DTSTART;TZID=Europe/Ljubljana:20260309T100000
DTEND;TZID=Europe/Ljubljana:20260309T123000
DTSTAMP:20260425T154514Z
UID:fs-AFLABS-URNIK:srecanje:16204-2026-03-09 10:00:00+01:00
DESCRIPTION:Predmet: Thermofluidics (TMFP)\, Laboratory excercises (VL)\, 
 [S14]\nLetniki: PAP-1 (PAP-1)\nIzvajalci: Matic Cotič\, Gašper Vuga\nPro
 stor: Laboratory LFDT K-1B
END:VEVENT
BEGIN:VEVENT
SUMMARY:Thermofluidics (TMFP)\, Laboratory excercises (VL)\, [S10]
DTSTART;TZID=Europe/Ljubljana:20260309T160000
DTEND;TZID=Europe/Ljubljana:20260309T183000
DTSTAMP:20260425T154514Z
UID:fs-AFLABS-URNIK:srecanje:16206-2026-03-09 16:00:00+01:00
DESCRIPTION:Predmet: Thermofluidics (TMFP)\, Laboratory excercises (VL)\, 
 [S10]\nLetniki: PAP-1 (PAP-1)\nIzvajalci: Matic Cotič\, Gašper Vuga\nPro
 stor: Laboratory LFDT K-1B
END:VEVENT
BEGIN:VEVENT
SUMMARY:Thermofluidics (TMFP)\, Laboratory excercises (VL)\, [S2]
DTSTART;TZID=Europe/Ljubljana:20260309T073000
DTEND;TZID=Europe/Ljubljana:20260309T100000
DTSTAMP:20260425T154514Z
UID:fs-AFLABS-URNIK:srecanje:15326-2026-03-09 07:30:00+01:00
DESCRIPTION:Predmet: Thermofluidics (TMFP)\, Laboratory excercises (VL)\, 
 [S2]\nLetniki: PAP-1 (PAP-1)\nIzvajalci: Matic Cotič\, Gašper Vuga\nPros
 tor: Laboratory LFDT K-1B
END:VEVENT
END:VCALENDAR
