BEGIN:VCALENDAR
VERSION:2.0
PRODID:-//AFLabs urnik izvoz - fs//aflabs.si//SI
NAME:UL FS Urnik
X-WR-CALNAME:UL FS Urnik
DTSTAMP:20260425T162437Z
REFRESH-INTERVAL:PT1H
SOURCE:https://urnik.fs.uni-lj.si/en/teacher/656/?day=2024-09-23&export=1
URL:https://urnik.fs.uni-lj.si/en/teacher/656/?day=2024-09-23&export=1
X-PUBLISHED-TTL:PT1H
X-WR-TIMEZONE:Europe/Ljubljana
BEGIN:VTIMEZONE
TZID:Europe/Ljubljana
BEGIN:DAYLIGHT
DTSTART:20260329T020000
RDATE:20260329T020000
RDATE:20270328T020000
TZNAME:CEST
TZOFFSETFROM:+0100
TZOFFSETTO:+0200
END:DAYLIGHT
BEGIN:STANDARD
DTSTART:20261025T030000
RDATE:20261025T030000
RDATE:20271031T030000
TZNAME:CET
TZOFFSETFROM:+0200
TZOFFSETTO:+0100
END:STANDARD
END:VTIMEZONE
BEGIN:VEVENT
SUMMARY:Advanced strength of materials (VSTM)\, Lecture exercises (VP)\, [
 S2]
DTSTART;TZID=Europe/Ljubljana:20240930T160000
DTEND;TZID=Europe/Ljubljana:20240930T180000
DTSTAMP:20260425T162437Z
UID:fs-AFLABS-URNIK:srecanje:10746-2024-09-30 16:00:00+02:00
DESCRIPTION:Predmet: Advanced strength of materials (VSTM)\, Lecture exerc
 ises (VP)\, [S2]\nLetniki: Mechanics (MAG-1)\nIzvajalci: Matjaž Čebron\n
 Prostor: Lecture hall II/3B
END:VEVENT
BEGIN:VEVENT
SUMMARY:Advanced strength of materials (VSTM)\, Lecture exercises (VP)\, [
 S1]
DTSTART;TZID=Europe/Ljubljana:20241002T120000
DTEND;TZID=Europe/Ljubljana:20241002T140000
DTSTAMP:20260425T162437Z
UID:fs-AFLABS-URNIK:srecanje:7698-2024-10-02 12:00:00+02:00
DESCRIPTION:Predmet: Advanced strength of materials (VSTM)\, Lecture exerc
 ises (VP)\, [S1]\nLetniki: Mechanics (MAG-1)\nIzvajalci: Matjaž Čebron\n
 Prostor: Lecture hall III/2
END:VEVENT
BEGIN:VEVENT
SUMMARY:Advanced strength of materials (VSTM)\, Lecture exercises (VP)\, [
 S1]
DTSTART;TZID=Europe/Ljubljana:20241009T120000
DTEND;TZID=Europe/Ljubljana:20241009T140000
DTSTAMP:20260425T162437Z
UID:fs-AFLABS-URNIK:srecanje:7698-2024-10-09 12:00:00+02:00
DESCRIPTION:Predmet: Advanced strength of materials (VSTM)\, Lecture exerc
 ises (VP)\, [S1]\nLetniki: Mechanics (MAG-1)\nIzvajalci: Matjaž Čebron\n
 Prostor: Lecture hall III/2
END:VEVENT
BEGIN:VEVENT
SUMMARY:Advanced strength of materials (VSTM)\, Lecture exercises (VP)\, [
 S1]
DTSTART;TZID=Europe/Ljubljana:20241023T120000
DTEND;TZID=Europe/Ljubljana:20241023T140000
DTSTAMP:20260425T162437Z
UID:fs-AFLABS-URNIK:srecanje:7698-2024-10-23 12:00:00+02:00
DESCRIPTION:Predmet: Advanced strength of materials (VSTM)\, Lecture exerc
 ises (VP)\, [S1]\nLetniki: Mechanics (MAG-1)\nIzvajalci: Matjaž Čebron\n
 Prostor: Lecture hall III/2
END:VEVENT
BEGIN:VEVENT
SUMMARY:Advanced strength of materials (VSTM)\, Lecture exercises (VP)\, [
 S2]
DTSTART;TZID=Europe/Ljubljana:20241007T160000
DTEND;TZID=Europe/Ljubljana:20241007T180000
DTSTAMP:20260425T162437Z
UID:fs-AFLABS-URNIK:srecanje:10747-2024-10-07 16:00:00+02:00
DESCRIPTION:Predmet: Advanced strength of materials (VSTM)\, Lecture exerc
 ises (VP)\, [S2]\nLetniki: Mechanics (MAG-1)\nIzvajalci: Matjaž Čebron\n
 Prostor: Lecture hall II/3B
END:VEVENT
BEGIN:VEVENT
SUMMARY:Advanced strength of materials (VSTM)\, Laboratory excercises (VL)
 \, [S1]
DTSTART;TZID=Europe/Ljubljana:20241016T120000
DTEND;TZID=Europe/Ljubljana:20241016T140000
DTSTAMP:20260425T162437Z
UID:fs-AFLABS-URNIK:srecanje:7693-2024-10-16 12:00:00+02:00
DESCRIPTION:Predmet: Advanced strength of materials (VSTM)\, Laboratory ex
 cercises (VL)\, [S1]\nLetniki: Mechanics (MAG-1)\nIzvajalci: Matjaž Čebr
 on\, Aljaž Robek\, Jonas Trojer\, Jan Zavodnik\nProstor: Laboratory LANEM
  I/7
END:VEVENT
BEGIN:VEVENT
SUMMARY:Advanced strength of materials (VSTM)\, Laboratory excercises (VL)
 \, [S3]
DTSTART;TZID=Europe/Ljubljana:20241016T080000
DTEND;TZID=Europe/Ljubljana:20241016T100000
DTSTAMP:20260425T162437Z
UID:fs-AFLABS-URNIK:srecanje:7695-2024-10-16 08:00:00+02:00
DESCRIPTION:Predmet: Advanced strength of materials (VSTM)\, Laboratory ex
 cercises (VL)\, [S3]\nLetniki: Mechanics (MAG-1)\nIzvajalci: Matjaž Čebr
 on\, Aljaž Robek\, Jonas Trojer\, Jan Zavodnik\nProstor: Laboratory LANEM
  I/7
END:VEVENT
BEGIN:VEVENT
SUMMARY:Advanced strength of materials (VSTM)\, Laboratory excercises (VL)
 \, [S4]
DTSTART;TZID=Europe/Ljubljana:20241016T100000
DTEND;TZID=Europe/Ljubljana:20241016T120000
DTSTAMP:20260425T162437Z
UID:fs-AFLABS-URNIK:srecanje:7696-2024-10-16 10:00:00+02:00
DESCRIPTION:Predmet: Advanced strength of materials (VSTM)\, Laboratory ex
 cercises (VL)\, [S4]\nLetniki: Mechanics (MAG-1)\nIzvajalci: Matjaž Čebr
 on\, Aljaž Robek\, Jonas Trojer\, Jan Zavodnik\nProstor: Laboratory LANEM
  I/7
END:VEVENT
BEGIN:VEVENT
SUMMARY:Advanced strength of materials (VSTM)\, Laboratory excercises (VL)
 \, [S5]
DTSTART;TZID=Europe/Ljubljana:20241016T140000
DTEND;TZID=Europe/Ljubljana:20241016T160000
DTSTAMP:20260425T162437Z
UID:fs-AFLABS-URNIK:srecanje:7697-2024-10-16 14:00:00+02:00
DESCRIPTION:Predmet: Advanced strength of materials (VSTM)\, Laboratory ex
 cercises (VL)\, [S5]\nLetniki: Mechanics (MAG-1)\nIzvajalci: Matjaž Čebr
 on\, Aljaž Robek\, Jonas Trojer\, Jan Zavodnik\nProstor: Laboratory LANEM
  I/7
END:VEVENT
BEGIN:VEVENT
SUMMARY:Advanced strength of materials (VSTM)\, Laboratory excercises (VL)
 \, [S2]
DTSTART;TZID=Europe/Ljubljana:20241018T140000
DTEND;TZID=Europe/Ljubljana:20241018T160000
DTSTAMP:20260425T162437Z
UID:fs-AFLABS-URNIK:srecanje:7694-2024-10-18 14:00:00+02:00
DESCRIPTION:Predmet: Advanced strength of materials (VSTM)\, Laboratory ex
 cercises (VL)\, [S2]\nLetniki: Mechanics (MAG-1)\nIzvajalci: Matjaž Čebr
 on\, Aljaž Robek\, Jonas Trojer\, Jan Zavodnik\nProstor: Laboratory LANEM
  I/7
END:VEVENT
BEGIN:VEVENT
SUMMARY:Advanced strength of materials (VSTM)\, Lecture exercises (VP)\, [
 S2]
DTSTART;TZID=Europe/Ljubljana:20241021T160000
DTEND;TZID=Europe/Ljubljana:20241021T180000
DTSTAMP:20260425T162437Z
UID:fs-AFLABS-URNIK:srecanje:10748-2024-10-21 16:00:00+02:00
DESCRIPTION:Predmet: Advanced strength of materials (VSTM)\, Lecture exerc
 ises (VP)\, [S2]\nLetniki: Mechanics (MAG-1)\nIzvajalci: Matjaž Čebron\n
 Prostor: Lecture hall II/3B
END:VEVENT
END:VCALENDAR
