BEGIN:VCALENDAR
VERSION:2.0
PRODID:-//AFLabs urnik izvoz - fs//aflabs.si//SI
NAME:UL FS Urnik
X-WR-CALNAME:UL FS Urnik
DTSTAMP:20260422T055503Z
REFRESH-INTERVAL:PT1H
SOURCE:https://urnik.fs.uni-lj.si/en/teacher/657/?day=2025-09-08&export=1
URL:https://urnik.fs.uni-lj.si/en/teacher/657/?day=2025-09-08&export=1
X-PUBLISHED-TTL:PT1H
X-WR-TIMEZONE:Europe/Ljubljana
BEGIN:VTIMEZONE
TZID:Europe/Ljubljana
BEGIN:DAYLIGHT
DTSTART:20260329T020000
RDATE:20260329T020000
RDATE:20270328T020000
TZNAME:CEST
TZOFFSETFROM:+0100
TZOFFSETTO:+0200
END:DAYLIGHT
BEGIN:STANDARD
DTSTART:20261025T030000
RDATE:20261025T030000
RDATE:20271031T030000
TZNAME:CET
TZOFFSETFROM:+0200
TZOFFSETTO:+0100
END:STANDARD
END:VTIMEZONE
BEGIN:VEVENT
SUMMARY:Experimental modal analysis (EMAM)\, Laboratory excercises (VL)\, 
 [S1]
DTSTART;TZID=Europe/Ljubljana:20250929T100000
DTEND;TZID=Europe/Ljubljana:20250929T120000
DTSTAMP:20260422T055503Z
UID:fs-AFLABS-URNIK:srecanje:16932-2025-09-29 10:00:00+02:00
DESCRIPTION:Predmet: Experimental modal analysis (EMAM)\, Laboratory excer
 cises (VL)\, [S1]\nLetniki: Mechanics (MAG-2)\nIzvajalci: Gregor Čepon\, 
 Domen Ocepek\, Miha Pogačar\nProstor: Laboratory LADISK P-17C
END:VEVENT
BEGIN:VEVENT
SUMMARY:Experimental modal analysis (EMAM)\, Laboratory excercises (VL)\, 
 [S1]
DTSTART;TZID=Europe/Ljubljana:20251006T100000
DTEND;TZID=Europe/Ljubljana:20251006T120000
DTSTAMP:20260422T055503Z
UID:fs-AFLABS-URNIK:srecanje:16932-2025-10-06 10:00:00+02:00
DESCRIPTION:Predmet: Experimental modal analysis (EMAM)\, Laboratory excer
 cises (VL)\, [S1]\nLetniki: Mechanics (MAG-2)\nIzvajalci: Gregor Čepon\, 
 Domen Ocepek\, Miha Pogačar\nProstor: Laboratory LADISK P-17C
END:VEVENT
BEGIN:VEVENT
SUMMARY:Experimental modal analysis (EMAM)\, Laboratory excercises (VL)\, 
 [S1]
DTSTART;TZID=Europe/Ljubljana:20251013T100000
DTEND;TZID=Europe/Ljubljana:20251013T120000
DTSTAMP:20260422T055503Z
UID:fs-AFLABS-URNIK:srecanje:16932-2025-10-13 10:00:00+02:00
DESCRIPTION:Predmet: Experimental modal analysis (EMAM)\, Laboratory excer
 cises (VL)\, [S1]\nLetniki: Mechanics (MAG-2)\nIzvajalci: Gregor Čepon\, 
 Domen Ocepek\, Miha Pogačar\nProstor: Laboratory LADISK P-17C
END:VEVENT
BEGIN:VEVENT
SUMMARY:Experimental modal analysis (EMAM)\, Laboratory excercises (VL)\, 
 [S2]
DTSTART;TZID=Europe/Ljubljana:20250929T120000
DTEND;TZID=Europe/Ljubljana:20250929T140000
DTSTAMP:20260422T055503Z
UID:fs-AFLABS-URNIK:srecanje:16934-2025-09-29 12:00:00+02:00
DESCRIPTION:Predmet: Experimental modal analysis (EMAM)\, Laboratory excer
 cises (VL)\, [S2]\nLetniki: Mechanics (MAG-2)\nIzvajalci: Gregor Čepon\, 
 Domen Ocepek\, Miha Pogačar\nProstor: Laboratory LADISK P-17C
END:VEVENT
BEGIN:VEVENT
SUMMARY:Experimental modal analysis (EMAM)\, Laboratory excercises (VL)\, 
 [S2]
DTSTART;TZID=Europe/Ljubljana:20251006T120000
DTEND;TZID=Europe/Ljubljana:20251006T140000
DTSTAMP:20260422T055503Z
UID:fs-AFLABS-URNIK:srecanje:16934-2025-10-06 12:00:00+02:00
DESCRIPTION:Predmet: Experimental modal analysis (EMAM)\, Laboratory excer
 cises (VL)\, [S2]\nLetniki: Mechanics (MAG-2)\nIzvajalci: Gregor Čepon\, 
 Domen Ocepek\, Miha Pogačar\nProstor: Laboratory LADISK P-17C
END:VEVENT
BEGIN:VEVENT
SUMMARY:Experimental modal analysis (EMAM)\, Laboratory excercises (VL)\, 
 [S2]
DTSTART;TZID=Europe/Ljubljana:20251013T120000
DTEND;TZID=Europe/Ljubljana:20251013T140000
DTSTAMP:20260422T055503Z
UID:fs-AFLABS-URNIK:srecanje:16934-2025-10-13 12:00:00+02:00
DESCRIPTION:Predmet: Experimental modal analysis (EMAM)\, Laboratory excer
 cises (VL)\, [S2]\nLetniki: Mechanics (MAG-2)\nIzvajalci: Gregor Čepon\, 
 Domen Ocepek\, Miha Pogačar\nProstor: Laboratory LADISK P-17C
END:VEVENT
BEGIN:VEVENT
SUMMARY:Statics and kinematics (STKR)\, Lecture exercises (VP)\, [S4]
DTSTART;TZID=Europe/Ljubljana:20250930T100000
DTEND;TZID=Europe/Ljubljana:20250930T120000
DTSTAMP:20260422T055503Z
UID:fs-AFLABS-URNIK:srecanje:15482-2025-09-30 10:00:00+02:00
DESCRIPTION:Predmet: Statics and kinematics (STKR)\, Lecture exercises (VP
 )\, [S4]\nLetniki: RRP-1 (RRP-1)\nIzvajalci: Gregor Čepon\nProstor: Lectu
 re hall IV/2
END:VEVENT
BEGIN:VEVENT
SUMMARY:Statics and kinematics (STKR)\, Lecture exercises (VP)\, [S4]
DTSTART;TZID=Europe/Ljubljana:20251007T100000
DTEND;TZID=Europe/Ljubljana:20251007T120000
DTSTAMP:20260422T055503Z
UID:fs-AFLABS-URNIK:srecanje:15482-2025-10-07 10:00:00+02:00
DESCRIPTION:Predmet: Statics and kinematics (STKR)\, Lecture exercises (VP
 )\, [S4]\nLetniki: RRP-1 (RRP-1)\nIzvajalci: Gregor Čepon\nProstor: Lectu
 re hall IV/2
END:VEVENT
BEGIN:VEVENT
SUMMARY:Experimental modal analysis (EMAM)\, Lectures (P)
DTSTART;TZID=Europe/Ljubljana:20251001T120000
DTEND;TZID=Europe/Ljubljana:20251001T140000
DTSTAMP:20260422T055503Z
UID:fs-AFLABS-URNIK:srecanje:15981-2025-10-01 12:00:00+02:00
DESCRIPTION:Predmet: Experimental modal analysis (EMAM)\, Lectures (P)\nLe
 tniki: Mechanics (MAG-2)\nIzvajalci: Gregor Čepon\, Domen Ocepek\, Janko 
 Slavič\nProstor: Lecture hall II/3B
END:VEVENT
BEGIN:VEVENT
SUMMARY:Experimental modal analysis (EMAM)\, Lectures (P)
DTSTART;TZID=Europe/Ljubljana:20251008T120000
DTEND;TZID=Europe/Ljubljana:20251008T140000
DTSTAMP:20260422T055503Z
UID:fs-AFLABS-URNIK:srecanje:15981-2025-10-08 12:00:00+02:00
DESCRIPTION:Predmet: Experimental modal analysis (EMAM)\, Lectures (P)\nLe
 tniki: Mechanics (MAG-2)\nIzvajalci: Gregor Čepon\, Domen Ocepek\, Janko 
 Slavič\nProstor: Lecture hall II/3B
END:VEVENT
BEGIN:VEVENT
SUMMARY:Experimental modal analysis (EMAM)\, Laboratory excercises (VL)\, 
 [S3]
DTSTART;TZID=Europe/Ljubljana:20251001T080000
DTEND;TZID=Europe/Ljubljana:20251001T100000
DTSTAMP:20260422T055503Z
UID:fs-AFLABS-URNIK:srecanje:16937-2025-10-01 08:00:00+02:00
DESCRIPTION:Predmet: Experimental modal analysis (EMAM)\, Laboratory excer
 cises (VL)\, [S3]\nLetniki: Mechanics (MAG-2)\nIzvajalci: Gregor Čepon\, 
 Domen Ocepek\, Miha Pogačar\nProstor: Laboratory LADISK P-17C
END:VEVENT
BEGIN:VEVENT
SUMMARY:Experimental modal analysis (EMAM)\, Laboratory excercises (VL)\, 
 [S3]
DTSTART;TZID=Europe/Ljubljana:20251008T080000
DTEND;TZID=Europe/Ljubljana:20251008T100000
DTSTAMP:20260422T055503Z
UID:fs-AFLABS-URNIK:srecanje:16937-2025-10-08 08:00:00+02:00
DESCRIPTION:Predmet: Experimental modal analysis (EMAM)\, Laboratory excer
 cises (VL)\, [S3]\nLetniki: Mechanics (MAG-2)\nIzvajalci: Gregor Čepon\, 
 Domen Ocepek\, Miha Pogačar\nProstor: Laboratory LADISK P-17C
END:VEVENT
BEGIN:VEVENT
SUMMARY:Experimental modal analysis (EMAM)\, Laboratory excercises (VL)\, 
 [S4]
DTSTART;TZID=Europe/Ljubljana:20251001T100000
DTEND;TZID=Europe/Ljubljana:20251001T120000
DTSTAMP:20260422T055503Z
UID:fs-AFLABS-URNIK:srecanje:16938-2025-10-01 10:00:00+02:00
DESCRIPTION:Predmet: Experimental modal analysis (EMAM)\, Laboratory excer
 cises (VL)\, [S4]\nLetniki: Mechanics (MAG-2)\nIzvajalci: Gregor Čepon\, 
 Domen Ocepek\, Miha Pogačar\nProstor: Laboratory LADISK P-17C
END:VEVENT
BEGIN:VEVENT
SUMMARY:Experimental modal analysis (EMAM)\, Laboratory excercises (VL)\, 
 [S4]
DTSTART;TZID=Europe/Ljubljana:20251008T100000
DTEND;TZID=Europe/Ljubljana:20251008T120000
DTSTAMP:20260422T055503Z
UID:fs-AFLABS-URNIK:srecanje:16938-2025-10-08 10:00:00+02:00
DESCRIPTION:Predmet: Experimental modal analysis (EMAM)\, Laboratory excer
 cises (VL)\, [S4]\nLetniki: Mechanics (MAG-2)\nIzvajalci: Gregor Čepon\, 
 Domen Ocepek\, Miha Pogačar\nProstor: Laboratory LADISK P-17C
END:VEVENT
BEGIN:VEVENT
SUMMARY:Statics and kinematics (STKR)\, Lectures (P)
DTSTART;TZID=Europe/Ljubljana:20251003T073000
DTEND;TZID=Europe/Ljubljana:20251003T100000
DTSTAMP:20260422T055503Z
UID:fs-AFLABS-URNIK:srecanje:15470-2025-10-03 07:30:00+02:00
DESCRIPTION:Predmet: Statics and kinematics (STKR)\, Lectures (P)\nLetniki
 : RRP-1 (RRP-1)\nIzvajalci: Miha Boltežar\, Gregor Čepon\nProstor: Lectu
 re hall V/8
END:VEVENT
BEGIN:VEVENT
SUMMARY:Statics and kinematics (STKR)\, Lectures (P)
DTSTART;TZID=Europe/Ljubljana:20251010T073000
DTEND;TZID=Europe/Ljubljana:20251010T100000
DTSTAMP:20260422T055503Z
UID:fs-AFLABS-URNIK:srecanje:15470-2025-10-10 07:30:00+02:00
DESCRIPTION:Predmet: Statics and kinematics (STKR)\, Lectures (P)\nLetniki
 : RRP-1 (RRP-1)\nIzvajalci: Miha Boltežar\, Gregor Čepon\nProstor: Lectu
 re hall V/8
END:VEVENT
BEGIN:VEVENT
SUMMARY:Advanced dynamics (VSDM)\, Laboratory excercises (VL)\, [S1]
DTSTART;TZID=Europe/Ljubljana:20251013T100000
DTEND;TZID=Europe/Ljubljana:20251013T120000
DTSTAMP:20260422T055503Z
UID:fs-AFLABS-URNIK:srecanje:17274-2025-10-13 10:00:00+02:00
DESCRIPTION:Predmet: Advanced dynamics (VSDM)\, Laboratory excercises (VL)
 \, [S1]\nLetniki: Mechanics (MAG-1)\nIzvajalci: Tibor Barši Palmić\, Gre
 gor Čepon\, Martin Česnik\, Domen Gorjup\, Miha Kodrič\, Tilen Košir\,
  Gašper Krivic\, Matic Mlinarič\, Tim Mušič\, Dubravka Nikčević\, Lu
 ka Novak\, Miha Pogačar\, Klemen Zaletelj\, Aleš Zorman\nProstor: Comput
 er lecture room LADISK  I/4B
END:VEVENT
BEGIN:VEVENT
SUMMARY:Advanced dynamics (VSDM)\, Laboratory excercises (VL)\, [S2]
DTSTART;TZID=Europe/Ljubljana:20251013T120000
DTEND;TZID=Europe/Ljubljana:20251013T140000
DTSTAMP:20260422T055503Z
UID:fs-AFLABS-URNIK:srecanje:17277-2025-10-13 12:00:00+02:00
DESCRIPTION:Predmet: Advanced dynamics (VSDM)\, Laboratory excercises (VL)
 \, [S2]\nLetniki: Mechanics (MAG-1)\nIzvajalci: Tibor Barši Palmić\, Gre
 gor Čepon\, Martin Česnik\, Domen Gorjup\, Miha Kodrič\, Tilen Košir\,
  Gašper Krivic\, Matic Mlinarič\, Tim Mušič\, Dubravka Nikčević\, Lu
 ka Novak\, Miha Pogačar\, Klemen Zaletelj\, Aleš Zorman\nProstor: Comput
 er lecture room LADISK  I/4B
END:VEVENT
BEGIN:VEVENT
SUMMARY:Izpit: Dinamika strojev in konstrukcij (6038-M)
DTSTART;TZID=Europe/Ljubljana:20250826T110000
DTEND;TZID=Europe/Ljubljana:20250826T140000
DTSTAMP:20260422T055503Z
UID:fs-AFLABS-URNIK:rezervacija:6467
CATEGORIES:Reservation
COLOR:royalblue
DESCRIPTION:Predmeti: \nLetniki: \nIzvajalci: Gregor Čepon\nProstori: Lec
 ture hall V/8
LOCATION:Lecture hall V/8
ORGANIZER:Gregor Čepon
X-WR-TIMEZONE:Europe/Ljubljana
END:VEVENT
BEGIN:VEVENT
SUMMARY:Izpit: Dinamika strojev in konstrukcij (6038-M) [dve oceni]
DTSTART;TZID=Europe/Ljubljana:20250826T110000
DTEND;TZID=Europe/Ljubljana:20250826T140000
DTSTAMP:20260422T055503Z
UID:fs-AFLABS-URNIK:rezervacija:6470
CATEGORIES:Reservation
COLOR:royalblue
DESCRIPTION:Predmeti: \nLetniki: \nIzvajalci: Gregor Čepon\nProstori: Lec
 ture hall V/8
LOCATION:Lecture hall V/8
ORGANIZER:Gregor Čepon
X-WR-TIMEZONE:Europe/Ljubljana
END:VEVENT
BEGIN:VEVENT
SUMMARY:Dubravka Nikčević - zagovor seminarja I
DTSTART;TZID=Europe/Ljubljana:20250908T123000
DTEND;TZID=Europe/Ljubljana:20250908T143000
DTSTAMP:20260422T055503Z
UID:fs-AFLABS-URNIK:rezervacija:10528
CATEGORIES:Reservation
COLOR:royalblue
DESCRIPTION:Predmeti: \nLetniki: \nIzvajalci: Gregor Čepon\nProstori: Lec
 ture hall I/4A
LOCATION:Lecture hall I/4A
ORGANIZER:Gregor Čepon
X-WR-TIMEZONE:Europe/Ljubljana
END:VEVENT
BEGIN:VEVENT
SUMMARY:Dominik Jezeršek - zagovor seminarja I
DTSTART;TZID=Europe/Ljubljana:20250910T090000
DTEND;TZID=Europe/Ljubljana:20250910T110000
DTSTAMP:20260422T055503Z
UID:fs-AFLABS-URNIK:rezervacija:10529
CATEGORIES:Reservation
COLOR:royalblue
DESCRIPTION:Predmeti: \nLetniki: \nIzvajalci: Gregor Čepon\nProstori: Lec
 ture hall I/4A
LOCATION:Lecture hall I/4A
ORGANIZER:Gregor Čepon
X-WR-TIMEZONE:Europe/Ljubljana
END:VEVENT
BEGIN:VEVENT
SUMMARY:Tim Vrtač - predstavitev rezultatov raziskovalnega dela
DTSTART;TZID=Europe/Ljubljana:20250915T120000
DTEND;TZID=Europe/Ljubljana:20250915T140000
DTSTAMP:20260422T055503Z
UID:fs-AFLABS-URNIK:rezervacija:10532
CATEGORIES:Reservation
COLOR:royalblue
DESCRIPTION:Predmeti: \nLetniki: \nIzvajalci: Gregor Čepon\nProstori: Lec
 ture hall I/4A
LOCATION:Lecture hall I/4A
ORGANIZER:Gregor Čepon
X-WR-TIMEZONE:Europe/Ljubljana
END:VEVENT
BEGIN:VEVENT
SUMMARY:Čepon sestanek
DTSTART;TZID=Europe/Ljubljana:20250929T110000
DTEND;TZID=Europe/Ljubljana:20250929T130000
DTSTAMP:20260422T055503Z
UID:fs-AFLABS-URNIK:rezervacija:10928
CATEGORIES:Reservation
COLOR:royalblue
DESCRIPTION:Predmeti: \nLetniki: \nIzvajalci: Gregor Čepon\nProstori: Con
 ference room
LOCATION:Conference room
ORGANIZER:Gregor Čepon
X-WR-TIMEZONE:Europe/Ljubljana
END:VEVENT
END:VCALENDAR
