BEGIN:VCALENDAR
VERSION:2.0
PRODID:-//AFLabs urnik izvoz - fs//aflabs.si//SI
NAME:UL FS Urnik
X-WR-CALNAME:UL FS Urnik
DTSTAMP:20260426T004946Z
REFRESH-INTERVAL:PT1H
SOURCE:https://urnik.fs.uni-lj.si/en/teacher/657/?day=2026-06-29&export=1
URL:https://urnik.fs.uni-lj.si/en/teacher/657/?day=2026-06-29&export=1
X-PUBLISHED-TTL:PT1H
X-WR-TIMEZONE:Europe/Ljubljana
BEGIN:VTIMEZONE
TZID:Europe/Ljubljana
BEGIN:DAYLIGHT
DTSTART:20260329T020000
RDATE:20260329T020000
RDATE:20270328T020000
TZNAME:CEST
TZOFFSETFROM:+0100
TZOFFSETTO:+0200
END:DAYLIGHT
BEGIN:STANDARD
DTSTART:20261025T030000
RDATE:20261025T030000
RDATE:20271031T030000
TZNAME:CET
TZOFFSETFROM:+0200
TZOFFSETTO:+0100
END:STANDARD
END:VTIMEZONE
BEGIN:VEVENT
SUMMARY:Izpit: Eksperimentalna modalna analiza
DTSTART;TZID=Europe/Ljubljana:20260610T120000
DTEND;TZID=Europe/Ljubljana:20260610T140000
DTSTAMP:20260426T004946Z
UID:fs-AFLABS-URNIK:rezervacija:11516
ATTENDEE:Mechanics (MAG-2)
CATEGORIES:Reservation
COLOR:royalblue
DESCRIPTION:Predmeti: Experimental modal analysis (EMAM)\nLetniki: Mechani
 cs (MAG-2)\nIzvajalci: Gregor Čepon\nProstori: Lecture hall III/4
LOCATION:Lecture hall III/4
ORGANIZER:Gregor Čepon
X-WR-TIMEZONE:Europe/Ljubljana
END:VEVENT
BEGIN:VEVENT
SUMMARY:Izpit: Advanced Dynamics
DTSTART;TZID=Europe/Ljubljana:20260612T100000
DTEND;TZID=Europe/Ljubljana:20260612T130000
DTSTAMP:20260426T004946Z
UID:fs-AFLABS-URNIK:rezervacija:11646
ATTENDEE:Erasmus (Erasmus)
CATEGORIES:Reservation
COLOR:royalblue
DESCRIPTION:Predmeti: Advanced Dynamics (ADDE)\nLetniki: Erasmus (Erasmus)
 \nIzvajalci: Gregor Čepon\nProstori: Lecture hall IV/3A
LOCATION:Lecture hall IV/3A
ORGANIZER:Gregor Čepon
X-WR-TIMEZONE:Europe/Ljubljana
END:VEVENT
BEGIN:VEVENT
SUMMARY:Izpit: Dinamika strojev in konstrukcij
DTSTART;TZID=Europe/Ljubljana:20260615T080000
DTEND;TZID=Europe/Ljubljana:20260615T110000
DTSTAMP:20260426T004946Z
UID:fs-AFLABS-URNIK:rezervacija:11738
ATTENDEE:Mechanics (MAG-1)
CATEGORIES:Reservation
COLOR:royalblue
DESCRIPTION:Predmeti: Dynamics of machines and structures (DSKM)\nLetniki:
  Mechanics (MAG-1)\nIzvajalci: Gregor Čepon\nProstori: Lecture hall IV/2
LOCATION:Lecture hall IV/2
ORGANIZER:Gregor Čepon
X-WR-TIMEZONE:Europe/Ljubljana
END:VEVENT
BEGIN:VEVENT
SUMMARY:Izpit: Dinamika strojev in konstrukcij
DTSTART;TZID=Europe/Ljubljana:20260615T080000
DTEND;TZID=Europe/Ljubljana:20260615T110000
DTSTAMP:20260426T004946Z
UID:fs-AFLABS-URNIK:rezervacija:11739
ATTENDEE:Mechanics (MAG-1)
CATEGORIES:Reservation
COLOR:royalblue
DESCRIPTION:Predmeti: Dynamics of machines and structures (DSKM)\nLetniki:
  Mechanics (MAG-1)\nIzvajalci: Gregor Čepon\nProstori: Lecture hall IV/2
LOCATION:Lecture hall IV/2
ORGANIZER:Gregor Čepon
X-WR-TIMEZONE:Europe/Ljubljana
END:VEVENT
BEGIN:VEVENT
SUMMARY:Izpit: Dinamika strojev in konstrukcij
DTSTART;TZID=Europe/Ljubljana:20260629T120000
DTEND;TZID=Europe/Ljubljana:20260629T150000
DTSTAMP:20260426T004946Z
UID:fs-AFLABS-URNIK:rezervacija:11882
ATTENDEE:Mechanics (MAG-1)
CATEGORIES:Reservation
COLOR:royalblue
DESCRIPTION:Predmeti: Dynamics of machines and structures (DSKM)\nLetniki:
  Mechanics (MAG-1)\nIzvajalci: Gregor Čepon\nProstori: Lecture hall III/4
LOCATION:Lecture hall III/4
ORGANIZER:Gregor Čepon
X-WR-TIMEZONE:Europe/Ljubljana
END:VEVENT
BEGIN:VEVENT
SUMMARY:Izpit: Dinamika strojev in konstrukcij
DTSTART;TZID=Europe/Ljubljana:20260629T120000
DTEND;TZID=Europe/Ljubljana:20260629T150000
DTSTAMP:20260426T004946Z
UID:fs-AFLABS-URNIK:rezervacija:11883
ATTENDEE:Mechanics (MAG-1)
CATEGORIES:Reservation
COLOR:royalblue
DESCRIPTION:Predmeti: Dynamics of machines and structures (DSKM)\nLetniki:
  Mechanics (MAG-1)\nIzvajalci: Gregor Čepon\nProstori: Lecture hall III/4
LOCATION:Lecture hall III/4
ORGANIZER:Gregor Čepon
X-WR-TIMEZONE:Europe/Ljubljana
END:VEVENT
BEGIN:VEVENT
SUMMARY:Izpit: Advanced Dynamics
DTSTART;TZID=Europe/Ljubljana:20260630T110000
DTEND;TZID=Europe/Ljubljana:20260630T140000
DTSTAMP:20260426T004946Z
UID:fs-AFLABS-URNIK:rezervacija:12254
ATTENDEE:Erasmus (Erasmus)
CATEGORIES:Reservation
COLOR:royalblue
DESCRIPTION:Predmeti: Advanced Dynamics (ADDE)\nLetniki: Erasmus (Erasmus)
 \nIzvajalci: Gregor Čepon\nProstori: Lecture hall IV/3A
LOCATION:Lecture hall IV/3A
ORGANIZER:Gregor Čepon
X-WR-TIMEZONE:Europe/Ljubljana
END:VEVENT
BEGIN:VEVENT
SUMMARY:Izpit: Eksperimentalna modalna analiza
DTSTART;TZID=Europe/Ljubljana:20260610T120000
DTEND;TZID=Europe/Ljubljana:20260610T140000
DTSTAMP:20260426T004946Z
UID:fs-AFLABS-URNIK:rezervacija:12848
ATTENDEE:Mechanics (MAG-2)
CATEGORIES:Reservation
COLOR:royalblue
DESCRIPTION:Predmeti: Experimental modal analysis (EMAM)\nLetniki: Mechani
 cs (MAG-2)\nIzvajalci: Gregor Čepon\nProstori: Lecture hall III/4
LOCATION:Lecture hall III/4
ORGANIZER:Gregor Čepon
X-WR-TIMEZONE:Europe/Ljubljana
END:VEVENT
END:VCALENDAR
