BEGIN:VCALENDAR
VERSION:2.0
PRODID:-//AFLabs urnik izvoz - fs//aflabs.si//SI
NAME:UL FS Urnik
X-WR-CALNAME:UL FS Urnik
DTSTAMP:20260420T034745Z
REFRESH-INTERVAL:PT1H
SOURCE:https://urnik.fs.uni-lj.si/en/teacher/660/?day=2024-07-01&export=1
URL:https://urnik.fs.uni-lj.si/en/teacher/660/?day=2024-07-01&export=1
X-PUBLISHED-TTL:PT1H
X-WR-TIMEZONE:Europe/Ljubljana
BEGIN:VTIMEZONE
TZID:Europe/Ljubljana
BEGIN:DAYLIGHT
DTSTART:20260329T020000
RDATE:20260329T020000
RDATE:20270328T020000
TZNAME:CEST
TZOFFSETFROM:+0100
TZOFFSETTO:+0200
END:DAYLIGHT
BEGIN:STANDARD
DTSTART:20261025T030000
RDATE:20261025T030000
RDATE:20271031T030000
TZNAME:CET
TZOFFSETFROM:+0200
TZOFFSETTO:+0100
END:STANDARD
END:VTIMEZONE
BEGIN:VEVENT
SUMMARY:Dynamics (DNMP)\, Laboratory excercises (VL)\, [S3]
DTSTART;TZID=Europe/Ljubljana:20240527T073000
DTEND;TZID=Europe/Ljubljana:20240527T093000
DTSTAMP:20260420T034745Z
UID:fs-AFLABS-URNIK:srecanje:8841-2024-05-27 07:30:00+02:00
DESCRIPTION:Predmet: Dynamics (DNMP)\, Laboratory excercises (VL)\, [S3]\n
 Letniki: PAP-1 (PAP-1)\nIzvajalci: Tibor Barši Palmić\, Martin Česnik\,
  Tilen Košir\, Bojan Starman\, Klemen Zaletelj\, Aleš Zorman\nProstor: L
 aboratory LADISK P-17C
END:VEVENT
BEGIN:VEVENT
SUMMARY:Dynamics (DNMP)\, Laboratory excercises (VL)\, [S11]
DTSTART;TZID=Europe/Ljubljana:20240527T100000
DTEND;TZID=Europe/Ljubljana:20240527T120000
DTSTAMP:20260420T034745Z
UID:fs-AFLABS-URNIK:srecanje:8845-2024-05-27 10:00:00+02:00
DESCRIPTION:Predmet: Dynamics (DNMP)\, Laboratory excercises (VL)\, [S11]\
 nLetniki: PAP-1 (PAP-1)\nIzvajalci: Tibor Barši Palmić\, Martin Česnik\
 , Miha Kodrič\, Tilen Košir\, Bojan Starman\, Aleš Zorman\nProstor: Lab
 oratory LADISK P-17C
END:VEVENT
BEGIN:VEVENT
SUMMARY:Dynamics (DNMP)\, Laboratory excercises (VL)\, [S2]
DTSTART;TZID=Europe/Ljubljana:20240527T153000
DTEND;TZID=Europe/Ljubljana:20240527T173000
DTSTAMP:20260420T034745Z
UID:fs-AFLABS-URNIK:srecanje:8847-2024-05-27 15:30:00+02:00
DESCRIPTION:Predmet: Dynamics (DNMP)\, Laboratory excercises (VL)\, [S2]\n
 Letniki: PAP-1 (PAP-1)\nIzvajalci: Tibor Barši Palmić\, Martin Česnik\,
  Miha Kodrič\, Tilen Košir\, Bojan Starman\, Klemen Zaletelj\, Aleš Zor
 man\nProstor: Laboratory LADISK P-17C
END:VEVENT
BEGIN:VEVENT
SUMMARY:Advanced Dynamics (ADDE)\, Laboratory excercises (VL)
DTSTART;TZID=Europe/Ljubljana:20240527T080000
DTEND;TZID=Europe/Ljubljana:20240527T100000
DTSTAMP:20260420T034745Z
UID:fs-AFLABS-URNIK:srecanje:9270-2024-05-27 08:00:00+02:00
DESCRIPTION:Predmet: Advanced Dynamics (ADDE)\, Laboratory excercises (VL)
 \nLetniki: Erasmus (Erasmus)\nIzvajalci: Martin Česnik\, Domen Gorjup\nPr
 ostor: Computer lecture room LADISK  I/4B
END:VEVENT
BEGIN:VEVENT
SUMMARY:Dynamics (DNMP)\, Laboratory excercises (VL)\, [S8]
DTSTART;TZID=Europe/Ljubljana:20240528T153000
DTEND;TZID=Europe/Ljubljana:20240528T173000
DTSTAMP:20260420T034745Z
UID:fs-AFLABS-URNIK:srecanje:8849-2024-05-28 15:30:00+02:00
DESCRIPTION:Predmet: Dynamics (DNMP)\, Laboratory excercises (VL)\, [S8]\n
 Letniki: PAP-1 (PAP-1)\nIzvajalci: Tibor Barši Palmić\, Martin Česnik\,
  Miha Kodrič\, Tilen Košir\, Bojan Starman\, Klemen Zaletelj\, Aleš Zor
 man\nProstor: Laboratory LADISK P-17C
END:VEVENT
BEGIN:VEVENT
SUMMARY:Dynamics of machines and structures (DSKM)\, Laboratory excercises
  (VL)\, [S1]
DTSTART;TZID=Europe/Ljubljana:20240528T080000
DTEND;TZID=Europe/Ljubljana:20240528T100000
DTSTAMP:20260420T034745Z
UID:fs-AFLABS-URNIK:srecanje:8931-2024-05-28 08:00:00+02:00
DESCRIPTION:Predmet: Dynamics of machines and structures (DSKM)\, Laborato
 ry excercises (VL)\, [S1]\nLetniki: Mechanics (MAG-1)\nIzvajalci: Martin 
 Česnik\, Miha Kodrič\, Gašper Krivic\, Miha Pogačar\nProstor: Computer
  lecture room LNMS II/1
END:VEVENT
BEGIN:VEVENT
SUMMARY:Dynamics of machines and structures (DSKM)\, Laboratory excercises
  (VL)\, [S2]
DTSTART;TZID=Europe/Ljubljana:20240528T100000
DTEND;TZID=Europe/Ljubljana:20240528T120000
DTSTAMP:20260420T034745Z
UID:fs-AFLABS-URNIK:srecanje:9298-2024-05-28 10:00:00+02:00
DESCRIPTION:Predmet: Dynamics of machines and structures (DSKM)\, Laborato
 ry excercises (VL)\, [S2]\nLetniki: Mechanics (MAG-1)\nIzvajalci: Martin 
 Česnik\, Miha Kodrič\, Gašper Krivic\, Miha Pogačar\nProstor: Computer
  lecture room LADISK  I/4B
END:VEVENT
BEGIN:VEVENT
SUMMARY:Dynamics (DNMP)\, Laboratory excercises (VL)\, [S13]
DTSTART;TZID=Europe/Ljubljana:20240529T123000
DTEND;TZID=Europe/Ljubljana:20240529T143000
DTSTAMP:20260420T034745Z
UID:fs-AFLABS-URNIK:srecanje:8851-2024-05-29 12:30:00+02:00
DESCRIPTION:Predmet: Dynamics (DNMP)\, Laboratory excercises (VL)\, [S13]\
 nLetniki: PAP-1 (PAP-1)\nIzvajalci: Tibor Barši Palmić\, Martin Česnik\
 , Miha Kodrič\, Tilen Košir\, Bojan Starman\, Klemen Zaletelj\, Aleš Zo
 rman\nProstor: Laboratory LADISK P-17C
END:VEVENT
BEGIN:VEVENT
SUMMARY:Dynamics (DNMP)\, Laboratory excercises (VL)\, [S16]
DTSTART;TZID=Europe/Ljubljana:20240529T143000
DTEND;TZID=Europe/Ljubljana:20240529T163000
DTSTAMP:20260420T034745Z
UID:fs-AFLABS-URNIK:srecanje:8853-2024-05-29 14:30:00+02:00
DESCRIPTION:Predmet: Dynamics (DNMP)\, Laboratory excercises (VL)\, [S16]\
 nLetniki: PAP-1 (PAP-1)\nIzvajalci: Tibor Barši Palmić\, Martin Česnik\
 , Miha Kodrič\, Tilen Košir\, Bojan Starman\, Klemen Zaletelj\, Aleš Zo
 rman\nProstor: Laboratory LADISK P-17C
END:VEVENT
BEGIN:VEVENT
SUMMARY:Dynamics (DNMP)\, Laboratory excercises (VL)\, [S9]
DTSTART;TZID=Europe/Ljubljana:20240529T163000
DTEND;TZID=Europe/Ljubljana:20240529T183000
DTSTAMP:20260420T034745Z
UID:fs-AFLABS-URNIK:srecanje:8855-2024-05-29 16:30:00+02:00
DESCRIPTION:Predmet: Dynamics (DNMP)\, Laboratory excercises (VL)\, [S9]\n
 Letniki: PAP-1 (PAP-1)\nIzvajalci: Tibor Barši Palmić\, Martin Česnik\,
  Miha Kodrič\, Tilen Košir\, Bojan Starman\, Klemen Zaletelj\, Aleš Zor
 man\nProstor: Laboratory LADISK P-17C
END:VEVENT
BEGIN:VEVENT
SUMMARY:Signal processing (PRSM)\, Laboratory excercises (VL)\, [S1]
DTSTART;TZID=Europe/Ljubljana:20240529T080000
DTEND;TZID=Europe/Ljubljana:20240529T100000
DTSTAMP:20260420T034745Z
UID:fs-AFLABS-URNIK:srecanje:8938-2024-05-29 08:00:00+02:00
DESCRIPTION:Predmet: Signal processing (PRSM)\, Laboratory excercises (VL)
 \, [S1]\nLetniki: Mechanics (MAG-1)\nIzvajalci: Martin Česnik\, Domen Gor
 jup\, Gašper Krivic\, Klemen Zaletelj\nProstor: Computer lecture room LNM
 S II/1
END:VEVENT
BEGIN:VEVENT
SUMMARY:Signal processing (PRSM)\, Laboratory excercises (VL)\, [S2]
DTSTART;TZID=Europe/Ljubljana:20240529T100000
DTEND;TZID=Europe/Ljubljana:20240529T120000
DTSTAMP:20260420T034745Z
UID:fs-AFLABS-URNIK:srecanje:8939-2024-05-29 10:00:00+02:00
DESCRIPTION:Predmet: Signal processing (PRSM)\, Laboratory excercises (VL)
 \, [S2]\nLetniki: Mechanics (MAG-1)\nIzvajalci: Martin Česnik\, Domen Gor
 jup\, Gašper Krivic\, Klemen Zaletelj\nProstor: Computer lecture room LNM
 S II/1
END:VEVENT
BEGIN:VEVENT
SUMMARY:Dynamics (DNMP)\, Lectures (P)
DTSTART;TZID=Europe/Ljubljana:20240531T103000
DTEND;TZID=Europe/Ljubljana:20240531T123000
DTSTAMP:20260420T034745Z
UID:fs-AFLABS-URNIK:srecanje:8033-2024-05-31 10:30:00+02:00
DESCRIPTION:Predmet: Dynamics (DNMP)\, Lectures (P)\nLetniki: PAP-1 (PAP-1
 )\nIzvajalci: Gregor Čepon\, Martin Česnik\, Miroslav Halilovič\, Janko
  Slavič\nProstor: Lecture hall V/8
END:VEVENT
BEGIN:VEVENT
SUMMARY:Dynamics (DNMP)\, Laboratory excercises (VL)\, [S6]
DTSTART;TZID=Europe/Ljubljana:20240531T123000
DTEND;TZID=Europe/Ljubljana:20240531T143000
DTSTAMP:20260420T034745Z
UID:fs-AFLABS-URNIK:srecanje:8857-2024-05-31 12:30:00+02:00
DESCRIPTION:Predmet: Dynamics (DNMP)\, Laboratory excercises (VL)\, [S6]\n
 Letniki: PAP-1 (PAP-1)\nIzvajalci: Tibor Barši Palmić\, Martin Česnik\,
  Miha Kodrič\, Tilen Košir\, Bojan Starman\, Klemen Zaletelj\, Aleš Zor
 man\nProstor: Laboratory LADISK P-17C
END:VEVENT
BEGIN:VEVENT
SUMMARY:Signal processing (PRSM)\, Laboratory excercises (VL)\, [S3]
DTSTART;TZID=Europe/Ljubljana:20240531T080000
DTEND;TZID=Europe/Ljubljana:20240531T100000
DTSTAMP:20260420T034745Z
UID:fs-AFLABS-URNIK:srecanje:8940-2024-05-31 08:00:00+02:00
DESCRIPTION:Predmet: Signal processing (PRSM)\, Laboratory excercises (VL)
 \, [S3]\nLetniki: Mechanics (MAG-1)\nIzvajalci: Martin Česnik\, Domen Gor
 jup\, Gašper Krivic\, Klemen Zaletelj\nProstor: Computer lecture room LNM
 S II/1
END:VEVENT
BEGIN:VEVENT
SUMMARY:Colloquium
DTSTART;TZID=Europe/Ljubljana:20240531T080000
DTEND;TZID=Europe/Ljubljana:20240531T100000
DTSTAMP:20260420T034745Z
UID:fs-AFLABS-URNIK:rezervacija:3525
ATTENDEE:Erasmus (Erasmus)
CATEGORIES:Reservation
COLOR:royalblue
DESCRIPTION:Predmeti: Advanced Dynamics (ADDE)\nLetniki: Erasmus (Erasmus)
 \nIzvajalci: Martin Česnik\nProstori: Lecture hall II/3B
LOCATION:Lecture hall II/3B
ORGANIZER:Martin Česnik
X-WR-TIMEZONE:Europe/Ljubljana
END:VEVENT
BEGIN:VEVENT
SUMMARY:Vpogledi v 2. kolokvij
DTSTART;TZID=Europe/Ljubljana:20240531T113000
DTEND;TZID=Europe/Ljubljana:20240531T123000
DTSTAMP:20260420T034745Z
UID:fs-AFLABS-URNIK:rezervacija:4818
ATTENDEE:PAP-1 (PAP-1)
CATEGORIES:Reservation
COLOR:royalblue
DESCRIPTION:Predmeti: Dynamics (DNMP)\nLetniki: PAP-1 (PAP-1)\nIzvajalci: 
 Martin Česnik\nProstori: Lecture hall III/3A
LOCATION:Lecture hall III/3A
ORGANIZER:Martin Česnik
X-WR-TIMEZONE:Europe/Ljubljana
END:VEVENT
BEGIN:VEVENT
SUMMARY:UZ dinamika
DTSTART;TZID=Europe/Ljubljana:20240604T080000
DTEND;TZID=Europe/Ljubljana:20240604T140000
DTSTAMP:20260420T034745Z
UID:fs-AFLABS-URNIK:rezervacija:4858
ATTENDEE:PAP-1 (PAP-1)
CATEGORIES:Reservation
COLOR:royalblue
DESCRIPTION:Predmeti: Dynamics (DNMP)\nLetniki: PAP-1 (PAP-1)\nIzvajalci: 
 Martin Česnik\nProstori: Lecture hall I/4A
LOCATION:Lecture hall I/4A
ORGANIZER:Martin Česnik
X-WR-TIMEZONE:Europe/Ljubljana
END:VEVENT
BEGIN:VEVENT
SUMMARY:UZ dinamika
DTSTART;TZID=Europe/Ljubljana:20240605T080000
DTEND;TZID=Europe/Ljubljana:20240605T140000
DTSTAMP:20260420T034745Z
UID:fs-AFLABS-URNIK:rezervacija:4872
ATTENDEE:PAP-1 (PAP-1)
CATEGORIES:Reservation
COLOR:royalblue
DESCRIPTION:Predmeti: Dynamics (DNMP)\nLetniki: PAP-1 (PAP-1)\nIzvajalci: 
 Martin Česnik\nProstori: Lecture hall I/4A
LOCATION:Lecture hall I/4A
ORGANIZER:Martin Česnik
X-WR-TIMEZONE:Europe/Ljubljana
END:VEVENT
BEGIN:VEVENT
SUMMARY:zagovori Dinamika izpit 5.6.2024
DTSTART;TZID=Europe/Ljubljana:20240614T100000
DTEND;TZID=Europe/Ljubljana:20240614T120000
DTSTAMP:20260420T034745Z
UID:fs-AFLABS-URNIK:rezervacija:5846
CATEGORIES:Reservation
COLOR:royalblue
DESCRIPTION:Predmeti: \nLetniki: \nIzvajalci: Martin Česnik\nProstori: Le
 cture hall I/4A
LOCATION:Lecture hall I/4A
ORGANIZER:Martin Česnik
X-WR-TIMEZONE:Europe/Ljubljana
END:VEVENT
END:VCALENDAR
