BEGIN:VCALENDAR
VERSION:2.0
PRODID:-//AFLabs urnik izvoz - fs//aflabs.si//SI
NAME:UL FS Urnik
X-WR-CALNAME:UL FS Urnik
DTSTAMP:20260421T134434Z
REFRESH-INTERVAL:PT1H
SOURCE:https://urnik.fs.uni-lj.si/en/teacher/662/?day=2024-01-29&export=1
URL:https://urnik.fs.uni-lj.si/en/teacher/662/?day=2024-01-29&export=1
X-PUBLISHED-TTL:PT1H
X-WR-TIMEZONE:Europe/Ljubljana
BEGIN:VTIMEZONE
TZID:Europe/Ljubljana
BEGIN:DAYLIGHT
DTSTART:20260329T020000
RDATE:20260329T020000
RDATE:20270328T020000
TZNAME:CEST
TZOFFSETFROM:+0100
TZOFFSETTO:+0200
END:DAYLIGHT
BEGIN:STANDARD
DTSTART:20261025T030000
RDATE:20261025T030000
RDATE:20271031T030000
TZNAME:CET
TZOFFSETFROM:+0200
TZOFFSETTO:+0100
END:STANDARD
END:VTIMEZONE
BEGIN:VEVENT
SUMMARY:Lubricants and lubrication (MZMP)\, Lecture exercises (VP)
DTSTART;TZID=Europe/Ljubljana:20240219T113000
DTEND;TZID=Europe/Ljubljana:20240219T133000
DTSTAMP:20260421T134434Z
UID:fs-AFLABS-URNIK:srecanje:3723-2024-02-19 11:30:00+01:00
DESCRIPTION:Predmet: Lubricants and lubrication (MZMP)\, Lecture exercises
  (VP)\nLetniki: Konstruiranje strojev in naprav (PAP-2)\nIzvajalci: Lucija
  Čoga\, Petra Jan\, Urban Klanjšček\, Mark Kuzman\, Marko Polajnar\, To
 maž Požar\, Jožica Sterle\nProstor: Lecture hall III/3A
END:VEVENT
BEGIN:VEVENT
SUMMARY:Lubricants and lubrication (MZMP)\, Lecture exercises (VP)
DTSTART;TZID=Europe/Ljubljana:20240226T113000
DTEND;TZID=Europe/Ljubljana:20240226T133000
DTSTAMP:20260421T134434Z
UID:fs-AFLABS-URNIK:srecanje:3723-2024-02-26 11:30:00+01:00
DESCRIPTION:Predmet: Lubricants and lubrication (MZMP)\, Lecture exercises
  (VP)\nLetniki: Konstruiranje strojev in naprav (PAP-2)\nIzvajalci: Lucija
  Čoga\, Petra Jan\, Urban Klanjšček\, Mark Kuzman\, Marko Polajnar\, To
 maž Požar\, Jožica Sterle\nProstor: Lecture hall III/3A
END:VEVENT
BEGIN:VEVENT
SUMMARY:Nanotechnologies (NNTE)\, Lecture exercises (VP)
DTSTART;TZID=Europe/Ljubljana:20240220T160000
DTEND;TZID=Europe/Ljubljana:20240220T180000
DTSTAMP:20260421T134434Z
UID:fs-AFLABS-URNIK:srecanje:6096-2024-02-20 16:00:00+01:00
DESCRIPTION:Predmet: Nanotechnologies (NNTE)\, Lecture exercises (VP)\nLet
 niki: Erasmus (Erasmus)\nIzvajalci: Lucija Čoga\nProstor: Lecture hall II
 I/2
END:VEVENT
BEGIN:VEVENT
SUMMARY:Nanotechnologies (NNTE)\, Lecture exercises (VP)
DTSTART;TZID=Europe/Ljubljana:20240227T160000
DTEND;TZID=Europe/Ljubljana:20240227T180000
DTSTAMP:20260421T134434Z
UID:fs-AFLABS-URNIK:srecanje:6096-2024-02-27 16:00:00+01:00
DESCRIPTION:Predmet: Nanotechnologies (NNTE)\, Lecture exercises (VP)\nLet
 niki: Erasmus (Erasmus)\nIzvajalci: Lucija Čoga\nProstor: Lecture hall II
 I/2
END:VEVENT
BEGIN:VEVENT
SUMMARY:Nanotechnologies (NNTM)\, Lecture exercises (VP)
DTSTART;TZID=Europe/Ljubljana:20240221T080000
DTEND;TZID=Europe/Ljubljana:20240221T100000
DTSTAMP:20260421T134434Z
UID:fs-AFLABS-URNIK:srecanje:8450-2024-02-21 08:00:00+01:00
DESCRIPTION:Predmet: Nanotechnologies (NNTM)\, Lecture exercises (VP)\nLet
 niki: Engineering design (MAG-1)\nIzvajalci: Lucija Čoga\nProstor: Lectur
 e hall III/4
END:VEVENT
BEGIN:VEVENT
SUMMARY:Nanotechnologies (NNTM)\, Lecture exercises (VP)
DTSTART;TZID=Europe/Ljubljana:20240228T080000
DTEND;TZID=Europe/Ljubljana:20240228T100000
DTSTAMP:20260421T134434Z
UID:fs-AFLABS-URNIK:srecanje:8450-2024-02-28 08:00:00+01:00
DESCRIPTION:Predmet: Nanotechnologies (NNTM)\, Lecture exercises (VP)\nLet
 niki: Engineering design (MAG-1)\nIzvajalci: Lucija Čoga\nProstor: Lectur
 e hall III/4
END:VEVENT
BEGIN:VEVENT
SUMMARY:Lubricants and lubrication (MZMP)\, Laboratory excercises (VL)\, [
 S1]
DTSTART;TZID=Europe/Ljubljana:20240304T113000
DTEND;TZID=Europe/Ljubljana:20240304T133000
DTSTAMP:20260421T134434Z
UID:fs-AFLABS-URNIK:srecanje:9164-2024-03-04 11:30:00+01:00
DESCRIPTION:Predmet: Lubricants and lubrication (MZMP)\, Laboratory excerc
 ises (VL)\, [S1]\nLetniki: Konstruiranje strojev in naprav (PAP-2)\nIzvaja
 lci: Lucija Čoga\, Petra Jan\, Urban Klanjšček\, Mark Kuzman\, Marko Po
 lajnar\, Tomaž Požar\, Anastasia Samodurova\, Jožica Sterle\nProstor: L
 aboratory TINT TiNT 2
END:VEVENT
BEGIN:VEVENT
SUMMARY:Lubricants and lubrication (MZMP)\, Laboratory excercises (VL)\, [
 S2]
DTSTART;TZID=Europe/Ljubljana:20240304T133000
DTEND;TZID=Europe/Ljubljana:20240304T153000
DTSTAMP:20260421T134434Z
UID:fs-AFLABS-URNIK:srecanje:9165-2024-03-04 13:30:00+01:00
DESCRIPTION:Predmet: Lubricants and lubrication (MZMP)\, Laboratory excerc
 ises (VL)\, [S2]\nLetniki: Konstruiranje strojev in naprav (PAP-2)\nIzvaja
 lci: Lucija Čoga\, Petra Jan\, Urban Klanjšček\, Mark Kuzman\, Marko Po
 lajnar\, Tomaž Požar\, Anastasia Samodurova\, Jožica Sterle\nProstor: L
 aboratory TINT TiNT 2
END:VEVENT
BEGIN:VEVENT
SUMMARY:Lubricants and lubrication (MZMP)\, Laboratory excercises (VL)\, [
 S3]
DTSTART;TZID=Europe/Ljubljana:20240304T153000
DTEND;TZID=Europe/Ljubljana:20240304T173000
DTSTAMP:20260421T134434Z
UID:fs-AFLABS-URNIK:srecanje:9166-2024-03-04 15:30:00+01:00
DESCRIPTION:Predmet: Lubricants and lubrication (MZMP)\, Laboratory excerc
 ises (VL)\, [S3]\nLetniki: Konstruiranje strojev in naprav (PAP-2)\nIzvaja
 lci: Lucija Čoga\, Petra Jan\, Urban Klanjšček\, Mark Kuzman\, Marko Po
 lajnar\, Tomaž Požar\, Anastasia Samodurova\, Jožica Sterle\nProstor: L
 aboratory TINT TiNT 2
END:VEVENT
END:VCALENDAR
