BEGIN:VCALENDAR
VERSION:2.0
PRODID:-//AFLabs urnik izvoz - fs//aflabs.si//SI
NAME:UL FS Urnik
X-WR-CALNAME:UL FS Urnik
DTSTAMP:20260424T212303Z
REFRESH-INTERVAL:PT1H
SOURCE:https://urnik.fs.uni-lj.si/en/teacher/664/?day=2026-01-19&export=1
URL:https://urnik.fs.uni-lj.si/en/teacher/664/?day=2026-01-19&export=1
X-PUBLISHED-TTL:PT1H
X-WR-TIMEZONE:Europe/Ljubljana
BEGIN:VTIMEZONE
TZID:Europe/Ljubljana
BEGIN:DAYLIGHT
DTSTART:20260329T020000
RDATE:20260329T020000
RDATE:20270328T020000
TZNAME:CEST
TZOFFSETFROM:+0100
TZOFFSETTO:+0200
END:DAYLIGHT
BEGIN:STANDARD
DTSTART:20261025T030000
RDATE:20261025T030000
RDATE:20271031T030000
TZNAME:CET
TZOFFSETFROM:+0200
TZOFFSETTO:+0100
END:STANDARD
END:VTIMEZONE
BEGIN:VEVENT
SUMMARY:Systems for compressed gases and vacuum (SKMP)\, Laboratory excerc
 ises (VL)\, [S1]
DTSTART;TZID=Europe/Ljubljana:20251216T153000
DTEND;TZID=Europe/Ljubljana:20251216T170000
DTSTAMP:20260424T212303Z
UID:fs-AFLABS-URNIK:srecanje:16550-2025-12-16 15:30:00+01:00
DESCRIPTION:Predmet: Systems for compressed gases and vacuum (SKMP)\, Labo
 ratory excercises (VL)\, [S1]\nLetniki: Energy engineering (PAP-3)\nIzvaja
 lci: Luka Čurović\, Jurij Prezelj\nProstor: Laboratory LDSTA SP-72
END:VEVENT
BEGIN:VEVENT
SUMMARY:Systems for compressed gases and vacuum (SKMP)\, Laboratory excerc
 ises (VL)\, [S1]
DTSTART;TZID=Europe/Ljubljana:20251223T153000
DTEND;TZID=Europe/Ljubljana:20251223T170000
DTSTAMP:20260424T212303Z
UID:fs-AFLABS-URNIK:srecanje:16550-2025-12-23 15:30:00+01:00
DESCRIPTION:Predmet: Systems for compressed gases and vacuum (SKMP)\, Labo
 ratory excercises (VL)\, [S1]\nLetniki: Energy engineering (PAP-3)\nIzvaja
 lci: Luka Čurović\, Jurij Prezelj\nProstor: Laboratory LDSTA SP-72
END:VEVENT
BEGIN:VEVENT
SUMMARY:Systems for compressed gases and vacuum (SKMP)\, Laboratory excerc
 ises (VL)\, [S1]
DTSTART;TZID=Europe/Ljubljana:20260106T153000
DTEND;TZID=Europe/Ljubljana:20260106T170000
DTSTAMP:20260424T212303Z
UID:fs-AFLABS-URNIK:srecanje:16550-2026-01-06 15:30:00+01:00
DESCRIPTION:Predmet: Systems for compressed gases and vacuum (SKMP)\, Labo
 ratory excercises (VL)\, [S1]\nLetniki: Energy engineering (PAP-3)\nIzvaja
 lci: Luka Čurović\, Jurij Prezelj\nProstor: Laboratory LDSTA SP-72
END:VEVENT
BEGIN:VEVENT
SUMMARY:Systems for compressed gases and vacuum (SKMP)\, Laboratory excerc
 ises (VL)\, [S2]
DTSTART;TZID=Europe/Ljubljana:20251216T170000
DTEND;TZID=Europe/Ljubljana:20251216T183000
DTSTAMP:20260424T212303Z
UID:fs-AFLABS-URNIK:srecanje:16551-2025-12-16 17:00:00+01:00
DESCRIPTION:Predmet: Systems for compressed gases and vacuum (SKMP)\, Labo
 ratory excercises (VL)\, [S2]\nLetniki: Energy engineering (PAP-3)\nIzvaja
 lci: Luka Čurović\, Jurij Prezelj\nProstor: Laboratory LDSTA SP-72
END:VEVENT
BEGIN:VEVENT
SUMMARY:Systems for compressed gases and vacuum (SKMP)\, Laboratory excerc
 ises (VL)\, [S2]
DTSTART;TZID=Europe/Ljubljana:20251223T170000
DTEND;TZID=Europe/Ljubljana:20251223T183000
DTSTAMP:20260424T212303Z
UID:fs-AFLABS-URNIK:srecanje:16551-2025-12-23 17:00:00+01:00
DESCRIPTION:Predmet: Systems for compressed gases and vacuum (SKMP)\, Labo
 ratory excercises (VL)\, [S2]\nLetniki: Energy engineering (PAP-3)\nIzvaja
 lci: Luka Čurović\, Jurij Prezelj\nProstor: Laboratory LDSTA SP-72
END:VEVENT
BEGIN:VEVENT
SUMMARY:Systems for compressed gases and vacuum (SKMP)\, Laboratory excerc
 ises (VL)\, [S2]
DTSTART;TZID=Europe/Ljubljana:20260106T170000
DTEND;TZID=Europe/Ljubljana:20260106T183000
DTSTAMP:20260424T212303Z
UID:fs-AFLABS-URNIK:srecanje:16551-2026-01-06 17:00:00+01:00
DESCRIPTION:Predmet: Systems for compressed gases and vacuum (SKMP)\, Labo
 ratory excercises (VL)\, [S2]\nLetniki: Energy engineering (PAP-3)\nIzvaja
 lci: Luka Čurović\, Jurij Prezelj\nProstor: Laboratory LDSTA SP-72
END:VEVENT
BEGIN:VEVENT
SUMMARY:Technical acoustics (THAM)\, Laboratory excercises (VL)\, [S1]
DTSTART;TZID=Europe/Ljubljana:20251217T080000
DTEND;TZID=Europe/Ljubljana:20251217T100000
DTSTAMP:20260424T212303Z
UID:fs-AFLABS-URNIK:srecanje:16854-2025-12-17 08:00:00+01:00
DESCRIPTION:Predmet: Technical acoustics (THAM)\, Laboratory excercises (V
 L)\, [S1]\nLetniki: Energy engineering (MAG-2)\nIzvajalci: Luka Čurović\
 nProstor: Laboratory LDSTA SP-72
END:VEVENT
BEGIN:VEVENT
SUMMARY:Technical acoustics (THAM)\, Laboratory excercises (VL)\, [S1]
DTSTART;TZID=Europe/Ljubljana:20251224T080000
DTEND;TZID=Europe/Ljubljana:20251224T100000
DTSTAMP:20260424T212303Z
UID:fs-AFLABS-URNIK:srecanje:16854-2025-12-24 08:00:00+01:00
DESCRIPTION:Predmet: Technical acoustics (THAM)\, Laboratory excercises (V
 L)\, [S1]\nLetniki: Energy engineering (MAG-2)\nIzvajalci: Luka Čurović\
 nProstor: Laboratory LDSTA SP-72
END:VEVENT
BEGIN:VEVENT
SUMMARY:Technical acoustics (THAM)\, Laboratory excercises (VL)\, [S1]
DTSTART;TZID=Europe/Ljubljana:20260107T080000
DTEND;TZID=Europe/Ljubljana:20260107T100000
DTSTAMP:20260424T212303Z
UID:fs-AFLABS-URNIK:srecanje:16854-2026-01-07 08:00:00+01:00
DESCRIPTION:Predmet: Technical acoustics (THAM)\, Laboratory excercises (V
 L)\, [S1]\nLetniki: Energy engineering (MAG-2)\nIzvajalci: Luka Čurović\
 nProstor: Laboratory LDSTA SP-72
END:VEVENT
BEGIN:VEVENT
SUMMARY:Technical acoustics (THAM)\, Laboratory excercises (VL)\, [S2]
DTSTART;TZID=Europe/Ljubljana:20251217T120000
DTEND;TZID=Europe/Ljubljana:20251217T140000
DTSTAMP:20260424T212303Z
UID:fs-AFLABS-URNIK:srecanje:16855-2025-12-17 12:00:00+01:00
DESCRIPTION:Predmet: Technical acoustics (THAM)\, Laboratory excercises (V
 L)\, [S2]\nLetniki: Energy engineering (MAG-2)\nIzvajalci: Luka Čurović\
 nProstor: Laboratory LDSTA SP-72
END:VEVENT
BEGIN:VEVENT
SUMMARY:Technical acoustics (THAM)\, Laboratory excercises (VL)\, [S2]
DTSTART;TZID=Europe/Ljubljana:20251224T120000
DTEND;TZID=Europe/Ljubljana:20251224T140000
DTSTAMP:20260424T212303Z
UID:fs-AFLABS-URNIK:srecanje:16855-2025-12-24 12:00:00+01:00
DESCRIPTION:Predmet: Technical acoustics (THAM)\, Laboratory excercises (V
 L)\, [S2]\nLetniki: Energy engineering (MAG-2)\nIzvajalci: Luka Čurović\
 nProstor: Laboratory LDSTA SP-72
END:VEVENT
BEGIN:VEVENT
SUMMARY:Technical acoustics (THAM)\, Laboratory excercises (VL)\, [S2]
DTSTART;TZID=Europe/Ljubljana:20260107T120000
DTEND;TZID=Europe/Ljubljana:20260107T140000
DTSTAMP:20260424T212303Z
UID:fs-AFLABS-URNIK:srecanje:16855-2026-01-07 12:00:00+01:00
DESCRIPTION:Predmet: Technical acoustics (THAM)\, Laboratory excercises (V
 L)\, [S2]\nLetniki: Energy engineering (MAG-2)\nIzvajalci: Luka Čurović\
 nProstor: Laboratory LDSTA SP-72
END:VEVENT
BEGIN:VEVENT
SUMMARY:Technical acoustics (THAM)\, Laboratory excercises (VL)\, [S3]
DTSTART;TZID=Europe/Ljubljana:20251217T140000
DTEND;TZID=Europe/Ljubljana:20251217T160000
DTSTAMP:20260424T212303Z
UID:fs-AFLABS-URNIK:srecanje:16856-2025-12-17 14:00:00+01:00
DESCRIPTION:Predmet: Technical acoustics (THAM)\, Laboratory excercises (V
 L)\, [S3]\nLetniki: Energy engineering (MAG-2)\nIzvajalci: Luka Čurović\
 nProstor: Laboratory LDSTA SP-72
END:VEVENT
BEGIN:VEVENT
SUMMARY:Technical acoustics (THAM)\, Laboratory excercises (VL)\, [S3]
DTSTART;TZID=Europe/Ljubljana:20251224T140000
DTEND;TZID=Europe/Ljubljana:20251224T160000
DTSTAMP:20260424T212303Z
UID:fs-AFLABS-URNIK:srecanje:16856-2025-12-24 14:00:00+01:00
DESCRIPTION:Predmet: Technical acoustics (THAM)\, Laboratory excercises (V
 L)\, [S3]\nLetniki: Energy engineering (MAG-2)\nIzvajalci: Luka Čurović\
 nProstor: Laboratory LDSTA SP-72
END:VEVENT
BEGIN:VEVENT
SUMMARY:Technical acoustics (THAM)\, Laboratory excercises (VL)\, [S3]
DTSTART;TZID=Europe/Ljubljana:20260107T140000
DTEND;TZID=Europe/Ljubljana:20260107T160000
DTSTAMP:20260424T212303Z
UID:fs-AFLABS-URNIK:srecanje:16856-2026-01-07 14:00:00+01:00
DESCRIPTION:Predmet: Technical acoustics (THAM)\, Laboratory excercises (V
 L)\, [S3]\nLetniki: Energy engineering (MAG-2)\nIzvajalci: Luka Čurović\
 nProstor: Laboratory LDSTA SP-72
END:VEVENT
BEGIN:VEVENT
SUMMARY:Technical acoustics (THAM)\, Laboratory excercises (VL)\, [S4]
DTSTART;TZID=Europe/Ljubljana:20260119T080000
DTEND;TZID=Europe/Ljubljana:20260119T100000
DTSTAMP:20260424T212303Z
UID:fs-AFLABS-URNIK:premaknjeno-srecanje:122852
ATTENDEE:Energy engineering (MAG-2)
CATEGORIES:Entry,Special
COLOR:forestgreen
DESCRIPTION:Predmet: Technical acoustics (THAM)\, Laboratory excercises (V
 L)\, [S4]\nLetniki: Energy engineering (MAG-2)\nIzvajalci: Luka Čurović\
 nProstor: Laboratory LDSTA SP-72
LOCATION:Laboratory LDSTA SP-72
ORGANIZER:Luka Čurović
RELATED-TO:fs-AFLABS-URNIK:srecanje:16857
X-WR-TIMEZONE:Europe/Ljubljana
END:VEVENT
BEGIN:VEVENT
SUMMARY:Technical acoustics (THAM)\, Laboratory excercises (VL)\, [S4]
DTSTART;TZID=Europe/Ljubljana:20251219T080000
DTEND;TZID=Europe/Ljubljana:20251219T100000
DTSTAMP:20260424T212303Z
UID:fs-AFLABS-URNIK:srecanje:16857-2025-12-19 08:00:00+01:00
DESCRIPTION:Predmet: Technical acoustics (THAM)\, Laboratory excercises (V
 L)\, [S4]\nLetniki: Energy engineering (MAG-2)\nIzvajalci: Luka Čurović\
 nProstor: Laboratory LDSTA SP-72
END:VEVENT
BEGIN:VEVENT
SUMMARY:Technical acoustics (THAM)\, Laboratory excercises (VL)\, [S4]
DTSTART;TZID=Europe/Ljubljana:20251226T080000
DTEND;TZID=Europe/Ljubljana:20251226T100000
DTSTAMP:20260424T212303Z
UID:fs-AFLABS-URNIK:srecanje:16857-2025-12-26 08:00:00+01:00
DESCRIPTION:Predmet: Technical acoustics (THAM)\, Laboratory excercises (V
 L)\, [S4]\nLetniki: Energy engineering (MAG-2)\nIzvajalci: Luka Čurović\
 nProstor: Laboratory LDSTA SP-72
END:VEVENT
BEGIN:VEVENT
SUMMARY:Technical acoustics (THAM)\, Laboratory excercises (VL)\, [S4]
DTSTART;TZID=Europe/Ljubljana:20260109T080000
DTEND;TZID=Europe/Ljubljana:20260109T100000
DTSTAMP:20260424T212303Z
UID:fs-AFLABS-URNIK:srecanje:16857-2026-01-09 08:00:00+01:00
DESCRIPTION:Predmet: Technical acoustics (THAM)\, Laboratory excercises (V
 L)\, [S4]\nLetniki: Energy engineering (MAG-2)\nIzvajalci: Luka Čurović\
 nProstor: Laboratory LDSTA SP-72
END:VEVENT
BEGIN:VEVENT
SUMMARY:Noise\, Vibrations and Acoustic Engineering (NVAE)\, Laboratory ex
 cercises (VL)\, [S1]
DTSTART;TZID=Europe/Ljubljana:20260119T160000
DTEND;TZID=Europe/Ljubljana:20260119T180000
DTSTAMP:20260424T212303Z
UID:fs-AFLABS-URNIK:premaknjeno-srecanje:128457
ATTENDEE:Erasmus (Erasmus)
CATEGORIES:Entry,Special
COLOR:forestgreen
DESCRIPTION:Predmet: Noise\, Vibrations and Acoustic Engineering (NVAE)\, 
 Laboratory excercises (VL)\, [S1]\nLetniki: Erasmus (Erasmus)\nIzvajalci: 
 Luka Čurović\nProstor: Laboratory LDSTA SP-72
LOCATION:Laboratory LDSTA SP-72
ORGANIZER:Luka Čurović
RELATED-TO:fs-AFLABS-URNIK:srecanje:17611
X-WR-TIMEZONE:Europe/Ljubljana
END:VEVENT
BEGIN:VEVENT
SUMMARY:Noise\, Vibrations and Acoustic Engineering (NVAE)\, Laboratory ex
 cercises (VL)\, [S1]
DTSTART;TZID=Europe/Ljubljana:20251219T160000
DTEND;TZID=Europe/Ljubljana:20251219T180000
DTSTAMP:20260424T212303Z
UID:fs-AFLABS-URNIK:srecanje:17611-2025-12-19 16:00:00+01:00
DESCRIPTION:Predmet: Noise\, Vibrations and Acoustic Engineering (NVAE)\, 
 Laboratory excercises (VL)\, [S1]\nLetniki: Erasmus (Erasmus)\nIzvajalci: 
 Luka Čurović\nProstor: Laboratory LDSTA SP-72
END:VEVENT
BEGIN:VEVENT
SUMMARY:Noise\, Vibrations and Acoustic Engineering (NVAE)\, Laboratory ex
 cercises (VL)\, [S1]
DTSTART;TZID=Europe/Ljubljana:20251226T160000
DTEND;TZID=Europe/Ljubljana:20251226T180000
DTSTAMP:20260424T212303Z
UID:fs-AFLABS-URNIK:srecanje:17611-2025-12-26 16:00:00+01:00
DESCRIPTION:Predmet: Noise\, Vibrations and Acoustic Engineering (NVAE)\, 
 Laboratory excercises (VL)\, [S1]\nLetniki: Erasmus (Erasmus)\nIzvajalci: 
 Luka Čurović\nProstor: Laboratory LDSTA SP-72
END:VEVENT
BEGIN:VEVENT
SUMMARY:Noise\, Vibrations and Acoustic Engineering (NVAE)\, Laboratory ex
 cercises (VL)\, [S1]
DTSTART;TZID=Europe/Ljubljana:20260109T160000
DTEND;TZID=Europe/Ljubljana:20260109T180000
DTSTAMP:20260424T212303Z
UID:fs-AFLABS-URNIK:srecanje:17611-2026-01-09 16:00:00+01:00
DESCRIPTION:Predmet: Noise\, Vibrations and Acoustic Engineering (NVAE)\, 
 Laboratory excercises (VL)\, [S1]\nLetniki: Erasmus (Erasmus)\nIzvajalci: 
 Luka Čurović\nProstor: Laboratory LDSTA SP-72
END:VEVENT
BEGIN:VEVENT
SUMMARY:Technical acoustics (THAM)\, Lecture exercises (VP)\, [S1]
DTSTART;TZID=Europe/Ljubljana:20260114T140000
DTEND;TZID=Europe/Ljubljana:20260114T160000
DTSTAMP:20260424T212303Z
UID:fs-AFLABS-URNIK:srecanje:15986-2026-01-14 14:00:00+01:00
DESCRIPTION:Predmet: Technical acoustics (THAM)\, Lecture exercises (VP)\,
  [S1]\nLetniki: Energy engineering (MAG-2)\nIzvajalci: Luka Čurović\nPro
 stor: Lecture hall IV/4
END:VEVENT
BEGIN:VEVENT
SUMMARY:Noise\, Vibrations and Acoustic Engineering (NVAE)\, Lecture exerc
 ises (VP)\, [S1]
DTSTART;TZID=Europe/Ljubljana:20260116T160000
DTEND;TZID=Europe/Ljubljana:20260116T180000
DTSTAMP:20260424T212303Z
UID:fs-AFLABS-URNIK:srecanje:17610-2026-01-16 16:00:00+01:00
DESCRIPTION:Predmet: Noise\, Vibrations and Acoustic Engineering (NVAE)\, 
 Lecture exercises (VP)\, [S1]\nLetniki: Erasmus (Erasmus)\nIzvajalci: Luka
  Čurović\nProstor: Lecture hall I/4A
END:VEVENT
BEGIN:VEVENT
SUMMARY:Introduction to acoustics (UVAP)\, Laboratory excercises (VL)\, [S
 3]
DTSTART;TZID=Europe/Ljubljana:20260223T113000
DTEND;TZID=Europe/Ljubljana:20260223T133000
DTSTAMP:20260424T212303Z
UID:fs-AFLABS-URNIK:srecanje:17053-2026-02-23 11:30:00+01:00
DESCRIPTION:Predmet: Introduction to acoustics (UVAP)\, Laboratory excerci
 ses (VL)\, [S3]\nLetniki: Energy engineering (PAP-2)\nIzvajalci: Luka Čur
 ović\, Jure Murovec\nProstor: Laboratory LDSTA SP-72
END:VEVENT
BEGIN:VEVENT
SUMMARY:Introduction to acoustics (UVAP)\, Laboratory excercises (VL)\, [S
 4]
DTSTART;TZID=Europe/Ljubljana:20260223T133000
DTEND;TZID=Europe/Ljubljana:20260223T153000
DTSTAMP:20260424T212303Z
UID:fs-AFLABS-URNIK:srecanje:17054-2026-02-23 13:30:00+01:00
DESCRIPTION:Predmet: Introduction to acoustics (UVAP)\, Laboratory excerci
 ses (VL)\, [S4]\nLetniki: Energy engineering (PAP-2)\nIzvajalci: Luka Čur
 ović\, Jure Murovec\nProstor: Laboratory LDSTA SP-72
END:VEVENT
END:VCALENDAR
