BEGIN:VCALENDAR
VERSION:2.0
PRODID:-//AFLabs urnik izvoz - fs//aflabs.si//SI
NAME:UL FS Urnik
X-WR-CALNAME:UL FS Urnik
DTSTAMP:20260424T175242Z
REFRESH-INTERVAL:PT1H
SOURCE:https://urnik.fs.uni-lj.si/en/teacher/667/?day=2025-10-06&export=1
URL:https://urnik.fs.uni-lj.si/en/teacher/667/?day=2025-10-06&export=1
X-PUBLISHED-TTL:PT1H
X-WR-TIMEZONE:Europe/Ljubljana
BEGIN:VTIMEZONE
TZID:Europe/Ljubljana
BEGIN:DAYLIGHT
DTSTART:20260329T020000
RDATE:20260329T020000
RDATE:20270328T020000
TZNAME:CEST
TZOFFSETFROM:+0100
TZOFFSETTO:+0200
END:DAYLIGHT
BEGIN:STANDARD
DTSTART:20261025T030000
RDATE:20261025T030000
RDATE:20271031T030000
TZNAME:CET
TZOFFSETFROM:+0200
TZOFFSETTO:+0100
END:STANDARD
END:VTIMEZONE
BEGIN:VEVENT
SUMMARY:Microprocessor control (MPKM)\, Lectures (P)
DTSTART;TZID=Europe/Ljubljana:20250930T140000
DTEND;TZID=Europe/Ljubljana:20250930T160000
DTSTAMP:20260424T175242Z
UID:fs-AFLABS-URNIK:srecanje:2373-2025-09-30 14:00:00+02:00
DESCRIPTION:Predmet: Microprocessor control (MPKM)\, Lectures (P)\nLetniki
 : Mechatronics and laser technology (MAG-1)\nIzvajalci: Janez Diaci\, Domi
 nik Kozjek\, Primož Podržaj\nProstor: Lecture hall III/4
END:VEVENT
BEGIN:VEVENT
SUMMARY:Microprocessor control (MPKM)\, Lectures (P)
DTSTART;TZID=Europe/Ljubljana:20251007T140000
DTEND;TZID=Europe/Ljubljana:20251007T160000
DTSTAMP:20260424T175242Z
UID:fs-AFLABS-URNIK:srecanje:2373-2025-10-07 14:00:00+02:00
DESCRIPTION:Predmet: Microprocessor control (MPKM)\, Lectures (P)\nLetniki
 : Mechatronics and laser technology (MAG-1)\nIzvajalci: Janez Diaci\, Domi
 nik Kozjek\, Primož Podržaj\nProstor: Lecture hall III/4
END:VEVENT
BEGIN:VEVENT
SUMMARY:Microprocessor control (MPKM)\, Lectures (P)
DTSTART;TZID=Europe/Ljubljana:20251014T140000
DTEND;TZID=Europe/Ljubljana:20251014T160000
DTSTAMP:20260424T175242Z
UID:fs-AFLABS-URNIK:srecanje:2373-2025-10-14 14:00:00+02:00
DESCRIPTION:Predmet: Microprocessor control (MPKM)\, Lectures (P)\nLetniki
 : Mechatronics and laser technology (MAG-1)\nIzvajalci: Janez Diaci\, Domi
 nik Kozjek\, Primož Podržaj\nProstor: Lecture hall III/4
END:VEVENT
BEGIN:VEVENT
SUMMARY:Microprocessor control (MPKM)\, Lectures (P)
DTSTART;TZID=Europe/Ljubljana:20251021T140000
DTEND;TZID=Europe/Ljubljana:20251021T160000
DTSTAMP:20260424T175242Z
UID:fs-AFLABS-URNIK:srecanje:2373-2025-10-21 14:00:00+02:00
DESCRIPTION:Predmet: Microprocessor control (MPKM)\, Lectures (P)\nLetniki
 : Mechatronics and laser technology (MAG-1)\nIzvajalci: Janez Diaci\, Domi
 nik Kozjek\, Primož Podržaj\nProstor: Lecture hall III/4
END:VEVENT
BEGIN:VEVENT
SUMMARY:Microprocessor control (MPKM)\, Lectures (P)
DTSTART;TZID=Europe/Ljubljana:20251028T140000
DTEND;TZID=Europe/Ljubljana:20251028T160000
DTSTAMP:20260424T175242Z
UID:fs-AFLABS-URNIK:srecanje:2373-2025-10-28 14:00:00+01:00
DESCRIPTION:Predmet: Microprocessor control (MPKM)\, Lectures (P)\nLetniki
 : Mechatronics and laser technology (MAG-1)\nIzvajalci: Janez Diaci\, Domi
 nik Kozjek\, Primož Podržaj\nProstor: Lecture hall III/4
END:VEVENT
BEGIN:VEVENT
SUMMARY:Microprocessor control (MPKM)\, Lectures (P)
DTSTART;TZID=Europe/Ljubljana:20251104T140000
DTEND;TZID=Europe/Ljubljana:20251104T160000
DTSTAMP:20260424T175242Z
UID:fs-AFLABS-URNIK:srecanje:2373-2025-11-04 14:00:00+01:00
DESCRIPTION:Predmet: Microprocessor control (MPKM)\, Lectures (P)\nLetniki
 : Mechatronics and laser technology (MAG-1)\nIzvajalci: Janez Diaci\, Domi
 nik Kozjek\, Primož Podržaj\nProstor: Lecture hall III/4
END:VEVENT
BEGIN:VEVENT
SUMMARY:Microprocessor control (MPKM)\, Lectures (P)
DTSTART;TZID=Europe/Ljubljana:20251111T140000
DTEND;TZID=Europe/Ljubljana:20251111T160000
DTSTAMP:20260424T175242Z
UID:fs-AFLABS-URNIK:srecanje:2373-2025-11-11 14:00:00+01:00
DESCRIPTION:Predmet: Microprocessor control (MPKM)\, Lectures (P)\nLetniki
 : Mechatronics and laser technology (MAG-1)\nIzvajalci: Janez Diaci\, Domi
 nik Kozjek\, Primož Podržaj\nProstor: Lecture hall III/4
END:VEVENT
BEGIN:VEVENT
SUMMARY:Microprocessor control (MPKM)\, Lectures (P)
DTSTART;TZID=Europe/Ljubljana:20251118T140000
DTEND;TZID=Europe/Ljubljana:20251118T160000
DTSTAMP:20260424T175242Z
UID:fs-AFLABS-URNIK:srecanje:2373-2025-11-18 14:00:00+01:00
DESCRIPTION:Predmet: Microprocessor control (MPKM)\, Lectures (P)\nLetniki
 : Mechatronics and laser technology (MAG-1)\nIzvajalci: Janez Diaci\, Domi
 nik Kozjek\, Primož Podržaj\nProstor: Lecture hall III/4
END:VEVENT
BEGIN:VEVENT
SUMMARY:Microprocessor control (MPKM)\, Lectures (P)
DTSTART;TZID=Europe/Ljubljana:20251125T140000
DTEND;TZID=Europe/Ljubljana:20251125T160000
DTSTAMP:20260424T175242Z
UID:fs-AFLABS-URNIK:srecanje:2373-2025-11-25 14:00:00+01:00
DESCRIPTION:Predmet: Microprocessor control (MPKM)\, Lectures (P)\nLetniki
 : Mechatronics and laser technology (MAG-1)\nIzvajalci: Janez Diaci\, Domi
 nik Kozjek\, Primož Podržaj\nProstor: Lecture hall III/4
END:VEVENT
BEGIN:VEVENT
SUMMARY:Microprocessor control (MPKM)\, Lectures (P)
DTSTART;TZID=Europe/Ljubljana:20251202T140000
DTEND;TZID=Europe/Ljubljana:20251202T160000
DTSTAMP:20260424T175242Z
UID:fs-AFLABS-URNIK:srecanje:2373-2025-12-02 14:00:00+01:00
DESCRIPTION:Predmet: Microprocessor control (MPKM)\, Lectures (P)\nLetniki
 : Mechatronics and laser technology (MAG-1)\nIzvajalci: Janez Diaci\, Domi
 nik Kozjek\, Primož Podržaj\nProstor: Lecture hall III/4
END:VEVENT
BEGIN:VEVENT
SUMMARY:Microprocessor control (MPKM)\, Lectures (P)
DTSTART;TZID=Europe/Ljubljana:20251209T140000
DTEND;TZID=Europe/Ljubljana:20251209T160000
DTSTAMP:20260424T175242Z
UID:fs-AFLABS-URNIK:srecanje:2373-2025-12-09 14:00:00+01:00
DESCRIPTION:Predmet: Microprocessor control (MPKM)\, Lectures (P)\nLetniki
 : Mechatronics and laser technology (MAG-1)\nIzvajalci: Janez Diaci\, Domi
 nik Kozjek\, Primož Podržaj\nProstor: Lecture hall III/4
END:VEVENT
BEGIN:VEVENT
SUMMARY:Microprocessor control (MPKM)\, Lectures (P)
DTSTART;TZID=Europe/Ljubljana:20251216T140000
DTEND;TZID=Europe/Ljubljana:20251216T160000
DTSTAMP:20260424T175242Z
UID:fs-AFLABS-URNIK:srecanje:2373-2025-12-16 14:00:00+01:00
DESCRIPTION:Predmet: Microprocessor control (MPKM)\, Lectures (P)\nLetniki
 : Mechatronics and laser technology (MAG-1)\nIzvajalci: Janez Diaci\, Domi
 nik Kozjek\, Primož Podržaj\nProstor: Lecture hall III/4
END:VEVENT
BEGIN:VEVENT
SUMMARY:Microprocessor control (MPKM)\, Lectures (P)
DTSTART;TZID=Europe/Ljubljana:20251223T140000
DTEND;TZID=Europe/Ljubljana:20251223T160000
DTSTAMP:20260424T175242Z
UID:fs-AFLABS-URNIK:srecanje:2373-2025-12-23 14:00:00+01:00
DESCRIPTION:Predmet: Microprocessor control (MPKM)\, Lectures (P)\nLetniki
 : Mechatronics and laser technology (MAG-1)\nIzvajalci: Janez Diaci\, Domi
 nik Kozjek\, Primož Podržaj\nProstor: Lecture hall III/4
END:VEVENT
BEGIN:VEVENT
SUMMARY:Microprocessor control (MPKM)\, Lectures (P)
DTSTART;TZID=Europe/Ljubljana:20260106T140000
DTEND;TZID=Europe/Ljubljana:20260106T160000
DTSTAMP:20260424T175242Z
UID:fs-AFLABS-URNIK:srecanje:2373-2026-01-06 14:00:00+01:00
DESCRIPTION:Predmet: Microprocessor control (MPKM)\, Lectures (P)\nLetniki
 : Mechatronics and laser technology (MAG-1)\nIzvajalci: Janez Diaci\, Domi
 nik Kozjek\, Primož Podržaj\nProstor: Lecture hall III/4
END:VEVENT
BEGIN:VEVENT
SUMMARY:Microprocessor control (MPKM)\, Lectures (P)
DTSTART;TZID=Europe/Ljubljana:20260113T140000
DTEND;TZID=Europe/Ljubljana:20260113T160000
DTSTAMP:20260424T175242Z
UID:fs-AFLABS-URNIK:srecanje:2373-2026-01-13 14:00:00+01:00
DESCRIPTION:Predmet: Microprocessor control (MPKM)\, Lectures (P)\nLetniki
 : Mechatronics and laser technology (MAG-1)\nIzvajalci: Janez Diaci\, Domi
 nik Kozjek\, Primož Podržaj\nProstor: Lecture hall III/4
END:VEVENT
BEGIN:VEVENT
SUMMARY:Mechatronics and control technology (MKTP)\, Lectures (P)
DTSTART;TZID=Europe/Ljubljana:20251002T113000
DTEND;TZID=Europe/Ljubljana:20251002T133000
DTSTAMP:20260424T175242Z
UID:fs-AFLABS-URNIK:srecanje:14045-2025-10-02 11:30:00+02:00
DESCRIPTION:Predmet: Mechatronics and control technology (MKTP)\, Lectures
  (P)\nLetniki: Aircraft design and maintenance (PAP-2)\, Airline transport
  pilot (PAP-2)\, Design of machines and devices (PAP-2)\, Energy engineeri
 ng (PAP-2)\, Mechatronics (PAP-2)\, Process engineering (PAP-2)\, Producti
 on engineering (PAP-2)\, Production technologies (PAP-2)\, Konstruiranje s
 trojev in naprav (PAP-2)\nIzvajalci: Drago Bračun\, Janez Diaci\nProstor:
  Lecture hall V/2
END:VEVENT
BEGIN:VEVENT
SUMMARY:Mechatronics and control technology (MKTP)\, Lectures (P)
DTSTART;TZID=Europe/Ljubljana:20251009T113000
DTEND;TZID=Europe/Ljubljana:20251009T133000
DTSTAMP:20260424T175242Z
UID:fs-AFLABS-URNIK:srecanje:14045-2025-10-09 11:30:00+02:00
DESCRIPTION:Predmet: Mechatronics and control technology (MKTP)\, Lectures
  (P)\nLetniki: Aircraft design and maintenance (PAP-2)\, Airline transport
  pilot (PAP-2)\, Design of machines and devices (PAP-2)\, Energy engineeri
 ng (PAP-2)\, Mechatronics (PAP-2)\, Process engineering (PAP-2)\, Producti
 on engineering (PAP-2)\, Production technologies (PAP-2)\, Konstruiranje s
 trojev in naprav (PAP-2)\nIzvajalci: Drago Bračun\, Janez Diaci\nProstor:
  Lecture hall V/2
END:VEVENT
BEGIN:VEVENT
SUMMARY:Mechatronics and control technology (MKTP)\, Lectures (P)
DTSTART;TZID=Europe/Ljubljana:20251016T113000
DTEND;TZID=Europe/Ljubljana:20251016T133000
DTSTAMP:20260424T175242Z
UID:fs-AFLABS-URNIK:srecanje:14045-2025-10-16 11:30:00+02:00
DESCRIPTION:Predmet: Mechatronics and control technology (MKTP)\, Lectures
  (P)\nLetniki: Aircraft design and maintenance (PAP-2)\, Airline transport
  pilot (PAP-2)\, Design of machines and devices (PAP-2)\, Energy engineeri
 ng (PAP-2)\, Mechatronics (PAP-2)\, Process engineering (PAP-2)\, Producti
 on engineering (PAP-2)\, Production technologies (PAP-2)\, Konstruiranje s
 trojev in naprav (PAP-2)\nIzvajalci: Drago Bračun\, Janez Diaci\nProstor:
  Lecture hall V/2
END:VEVENT
BEGIN:VEVENT
SUMMARY:Mechatronics and control technology (MKTP)\, Lectures (P)
DTSTART;TZID=Europe/Ljubljana:20251023T113000
DTEND;TZID=Europe/Ljubljana:20251023T133000
DTSTAMP:20260424T175242Z
UID:fs-AFLABS-URNIK:srecanje:14045-2025-10-23 11:30:00+02:00
DESCRIPTION:Predmet: Mechatronics and control technology (MKTP)\, Lectures
  (P)\nLetniki: Aircraft design and maintenance (PAP-2)\, Airline transport
  pilot (PAP-2)\, Design of machines and devices (PAP-2)\, Energy engineeri
 ng (PAP-2)\, Mechatronics (PAP-2)\, Process engineering (PAP-2)\, Producti
 on engineering (PAP-2)\, Production technologies (PAP-2)\, Konstruiranje s
 trojev in naprav (PAP-2)\nIzvajalci: Drago Bračun\, Janez Diaci\nProstor:
  Lecture hall V/2
END:VEVENT
BEGIN:VEVENT
SUMMARY:Mechatronics and control technology (MKTP)\, Lectures (P)
DTSTART;TZID=Europe/Ljubljana:20251030T113000
DTEND;TZID=Europe/Ljubljana:20251030T133000
DTSTAMP:20260424T175242Z
UID:fs-AFLABS-URNIK:srecanje:14045-2025-10-30 11:30:00+01:00
DESCRIPTION:Predmet: Mechatronics and control technology (MKTP)\, Lectures
  (P)\nLetniki: Aircraft design and maintenance (PAP-2)\, Airline transport
  pilot (PAP-2)\, Design of machines and devices (PAP-2)\, Energy engineeri
 ng (PAP-2)\, Mechatronics (PAP-2)\, Process engineering (PAP-2)\, Producti
 on engineering (PAP-2)\, Production technologies (PAP-2)\, Konstruiranje s
 trojev in naprav (PAP-2)\nIzvajalci: Drago Bračun\, Janez Diaci\nProstor:
  Lecture hall V/2
END:VEVENT
BEGIN:VEVENT
SUMMARY:Mechatronics and control technology (MKTP)\, Lectures (P)
DTSTART;TZID=Europe/Ljubljana:20251106T113000
DTEND;TZID=Europe/Ljubljana:20251106T133000
DTSTAMP:20260424T175242Z
UID:fs-AFLABS-URNIK:srecanje:14045-2025-11-06 11:30:00+01:00
DESCRIPTION:Predmet: Mechatronics and control technology (MKTP)\, Lectures
  (P)\nLetniki: Aircraft design and maintenance (PAP-2)\, Airline transport
  pilot (PAP-2)\, Design of machines and devices (PAP-2)\, Energy engineeri
 ng (PAP-2)\, Mechatronics (PAP-2)\, Process engineering (PAP-2)\, Producti
 on engineering (PAP-2)\, Production technologies (PAP-2)\, Konstruiranje s
 trojev in naprav (PAP-2)\nIzvajalci: Drago Bračun\, Janez Diaci\nProstor:
  Lecture hall V/2
END:VEVENT
BEGIN:VEVENT
SUMMARY:Mechatronics and control technology (MKTP)\, Lectures (P)
DTSTART;TZID=Europe/Ljubljana:20251113T113000
DTEND;TZID=Europe/Ljubljana:20251113T133000
DTSTAMP:20260424T175242Z
UID:fs-AFLABS-URNIK:srecanje:14045-2025-11-13 11:30:00+01:00
DESCRIPTION:Predmet: Mechatronics and control technology (MKTP)\, Lectures
  (P)\nLetniki: Aircraft design and maintenance (PAP-2)\, Airline transport
  pilot (PAP-2)\, Design of machines and devices (PAP-2)\, Energy engineeri
 ng (PAP-2)\, Mechatronics (PAP-2)\, Process engineering (PAP-2)\, Producti
 on engineering (PAP-2)\, Production technologies (PAP-2)\, Konstruiranje s
 trojev in naprav (PAP-2)\nIzvajalci: Drago Bračun\, Janez Diaci\nProstor:
  Lecture hall V/2
END:VEVENT
BEGIN:VEVENT
SUMMARY:Mechatronics and control technology (MKTP)\, Lectures (P)
DTSTART;TZID=Europe/Ljubljana:20251120T113000
DTEND;TZID=Europe/Ljubljana:20251120T133000
DTSTAMP:20260424T175242Z
UID:fs-AFLABS-URNIK:srecanje:14045-2025-11-20 11:30:00+01:00
DESCRIPTION:Predmet: Mechatronics and control technology (MKTP)\, Lectures
  (P)\nLetniki: Aircraft design and maintenance (PAP-2)\, Airline transport
  pilot (PAP-2)\, Design of machines and devices (PAP-2)\, Energy engineeri
 ng (PAP-2)\, Mechatronics (PAP-2)\, Process engineering (PAP-2)\, Producti
 on engineering (PAP-2)\, Production technologies (PAP-2)\, Konstruiranje s
 trojev in naprav (PAP-2)\nIzvajalci: Drago Bračun\, Janez Diaci\nProstor:
  Lecture hall V/2
END:VEVENT
BEGIN:VEVENT
SUMMARY:Mechatronics and control technology (MKTP)\, Lectures (P)
DTSTART;TZID=Europe/Ljubljana:20251127T113000
DTEND;TZID=Europe/Ljubljana:20251127T133000
DTSTAMP:20260424T175242Z
UID:fs-AFLABS-URNIK:srecanje:14045-2025-11-27 11:30:00+01:00
DESCRIPTION:Predmet: Mechatronics and control technology (MKTP)\, Lectures
  (P)\nLetniki: Aircraft design and maintenance (PAP-2)\, Airline transport
  pilot (PAP-2)\, Design of machines and devices (PAP-2)\, Energy engineeri
 ng (PAP-2)\, Mechatronics (PAP-2)\, Process engineering (PAP-2)\, Producti
 on engineering (PAP-2)\, Production technologies (PAP-2)\, Konstruiranje s
 trojev in naprav (PAP-2)\nIzvajalci: Drago Bračun\, Janez Diaci\nProstor:
  Lecture hall V/2
END:VEVENT
BEGIN:VEVENT
SUMMARY:Mechatronics and control technology (MKTP)\, Lectures (P)
DTSTART;TZID=Europe/Ljubljana:20251204T113000
DTEND;TZID=Europe/Ljubljana:20251204T133000
DTSTAMP:20260424T175242Z
UID:fs-AFLABS-URNIK:srecanje:14045-2025-12-04 11:30:00+01:00
DESCRIPTION:Predmet: Mechatronics and control technology (MKTP)\, Lectures
  (P)\nLetniki: Aircraft design and maintenance (PAP-2)\, Airline transport
  pilot (PAP-2)\, Design of machines and devices (PAP-2)\, Energy engineeri
 ng (PAP-2)\, Mechatronics (PAP-2)\, Process engineering (PAP-2)\, Producti
 on engineering (PAP-2)\, Production technologies (PAP-2)\, Konstruiranje s
 trojev in naprav (PAP-2)\nIzvajalci: Drago Bračun\, Janez Diaci\nProstor:
  Lecture hall V/2
END:VEVENT
BEGIN:VEVENT
SUMMARY:Mechatronics and control technology (MKTP)\, Lectures (P)
DTSTART;TZID=Europe/Ljubljana:20251211T113000
DTEND;TZID=Europe/Ljubljana:20251211T133000
DTSTAMP:20260424T175242Z
UID:fs-AFLABS-URNIK:srecanje:14045-2025-12-11 11:30:00+01:00
DESCRIPTION:Predmet: Mechatronics and control technology (MKTP)\, Lectures
  (P)\nLetniki: Aircraft design and maintenance (PAP-2)\, Airline transport
  pilot (PAP-2)\, Design of machines and devices (PAP-2)\, Energy engineeri
 ng (PAP-2)\, Mechatronics (PAP-2)\, Process engineering (PAP-2)\, Producti
 on engineering (PAP-2)\, Production technologies (PAP-2)\, Konstruiranje s
 trojev in naprav (PAP-2)\nIzvajalci: Drago Bračun\, Janez Diaci\nProstor:
  Lecture hall V/2
END:VEVENT
BEGIN:VEVENT
SUMMARY:Mechatronics and control technology (MKTP)\, Lectures (P)
DTSTART;TZID=Europe/Ljubljana:20251218T113000
DTEND;TZID=Europe/Ljubljana:20251218T133000
DTSTAMP:20260424T175242Z
UID:fs-AFLABS-URNIK:srecanje:14045-2025-12-18 11:30:00+01:00
DESCRIPTION:Predmet: Mechatronics and control technology (MKTP)\, Lectures
  (P)\nLetniki: Aircraft design and maintenance (PAP-2)\, Airline transport
  pilot (PAP-2)\, Design of machines and devices (PAP-2)\, Energy engineeri
 ng (PAP-2)\, Mechatronics (PAP-2)\, Process engineering (PAP-2)\, Producti
 on engineering (PAP-2)\, Production technologies (PAP-2)\, Konstruiranje s
 trojev in naprav (PAP-2)\nIzvajalci: Drago Bračun\, Janez Diaci\nProstor:
  Lecture hall V/2
END:VEVENT
BEGIN:VEVENT
SUMMARY:Mechatronics and control technology (MKTP)\, Lectures (P)
DTSTART;TZID=Europe/Ljubljana:20251225T113000
DTEND;TZID=Europe/Ljubljana:20251225T133000
DTSTAMP:20260424T175242Z
UID:fs-AFLABS-URNIK:srecanje:14045-2025-12-25 11:30:00+01:00
DESCRIPTION:Predmet: Mechatronics and control technology (MKTP)\, Lectures
  (P)\nLetniki: Aircraft design and maintenance (PAP-2)\, Airline transport
  pilot (PAP-2)\, Design of machines and devices (PAP-2)\, Energy engineeri
 ng (PAP-2)\, Mechatronics (PAP-2)\, Process engineering (PAP-2)\, Producti
 on engineering (PAP-2)\, Production technologies (PAP-2)\, Konstruiranje s
 trojev in naprav (PAP-2)\nIzvajalci: Drago Bračun\, Janez Diaci\nProstor:
  Lecture hall V/2
END:VEVENT
BEGIN:VEVENT
SUMMARY:Mechatronics and control technology (MKTP)\, Lectures (P)
DTSTART;TZID=Europe/Ljubljana:20260108T113000
DTEND;TZID=Europe/Ljubljana:20260108T133000
DTSTAMP:20260424T175242Z
UID:fs-AFLABS-URNIK:srecanje:14045-2026-01-08 11:30:00+01:00
DESCRIPTION:Predmet: Mechatronics and control technology (MKTP)\, Lectures
  (P)\nLetniki: Aircraft design and maintenance (PAP-2)\, Airline transport
  pilot (PAP-2)\, Design of machines and devices (PAP-2)\, Energy engineeri
 ng (PAP-2)\, Mechatronics (PAP-2)\, Process engineering (PAP-2)\, Producti
 on engineering (PAP-2)\, Production technologies (PAP-2)\, Konstruiranje s
 trojev in naprav (PAP-2)\nIzvajalci: Drago Bračun\, Janez Diaci\nProstor:
  Lecture hall V/2
END:VEVENT
BEGIN:VEVENT
SUMMARY:Mechatronics and control technology (MKTP)\, Lectures (P)
DTSTART;TZID=Europe/Ljubljana:20260115T113000
DTEND;TZID=Europe/Ljubljana:20260115T133000
DTSTAMP:20260424T175242Z
UID:fs-AFLABS-URNIK:srecanje:14045-2026-01-15 11:30:00+01:00
DESCRIPTION:Predmet: Mechatronics and control technology (MKTP)\, Lectures
  (P)\nLetniki: Aircraft design and maintenance (PAP-2)\, Airline transport
  pilot (PAP-2)\, Design of machines and devices (PAP-2)\, Energy engineeri
 ng (PAP-2)\, Mechatronics (PAP-2)\, Process engineering (PAP-2)\, Producti
 on engineering (PAP-2)\, Production technologies (PAP-2)\, Konstruiranje s
 trojev in naprav (PAP-2)\nIzvajalci: Drago Bračun\, Janez Diaci\nProstor:
  Lecture hall V/2
END:VEVENT
END:VCALENDAR
