BEGIN:VCALENDAR
VERSION:2.0
PRODID:-//AFLabs urnik izvoz - fs//aflabs.si//SI
NAME:UL FS Urnik
X-WR-CALNAME:UL FS Urnik
DTSTAMP:20260423T033958Z
REFRESH-INTERVAL:PT1H
SOURCE:https://urnik.fs.uni-lj.si/en/teacher/676/?day=2024-11-04&export=1
URL:https://urnik.fs.uni-lj.si/en/teacher/676/?day=2024-11-04&export=1
X-PUBLISHED-TTL:PT1H
X-WR-TIMEZONE:Europe/Ljubljana
BEGIN:VTIMEZONE
TZID:Europe/Ljubljana
BEGIN:DAYLIGHT
DTSTART:20260329T020000
RDATE:20260329T020000
RDATE:20270328T020000
TZNAME:CEST
TZOFFSETFROM:+0100
TZOFFSETTO:+0200
END:DAYLIGHT
BEGIN:STANDARD
DTSTART:20261025T030000
RDATE:20261025T030000
RDATE:20271031T030000
TZNAME:CET
TZOFFSETFROM:+0200
TZOFFSETTO:+0100
END:STANDARD
END:VTIMEZONE
BEGIN:VEVENT
SUMMARY:Integral transformations and Fourier analysis (ITFR)\, Lectures (P
 )
DTSTART;TZID=Europe/Ljubljana:20241007T140000
DTEND;TZID=Europe/Ljubljana:20241007T170000
DTSTAMP:20260423T033958Z
UID:fs-AFLABS-URNIK:srecanje:6671-2024-10-07 14:00:00+02:00
DESCRIPTION:Predmet: Integral transformations and Fourier analysis (ITFR)\
 , Lectures (P)\nLetniki: RRP-2 (RRP-2)\nIzvajalci: Boštjan Gabrovšek\, A
 ljoša Peperko\, Darja Rupnik Poklukar\, Janez Žerovnik\nProstor: Lecture
  hall V/2
END:VEVENT
BEGIN:VEVENT
SUMMARY:Integral transformations and Fourier analysis (ITFR)\, Lectures (P
 )
DTSTART;TZID=Europe/Ljubljana:20241014T140000
DTEND;TZID=Europe/Ljubljana:20241014T170000
DTSTAMP:20260423T033958Z
UID:fs-AFLABS-URNIK:srecanje:6671-2024-10-14 14:00:00+02:00
DESCRIPTION:Predmet: Integral transformations and Fourier analysis (ITFR)\
 , Lectures (P)\nLetniki: RRP-2 (RRP-2)\nIzvajalci: Boštjan Gabrovšek\, A
 ljoša Peperko\, Darja Rupnik Poklukar\, Janez Žerovnik\nProstor: Lecture
  hall V/2
END:VEVENT
BEGIN:VEVENT
SUMMARY:Integral transformations and Fourier analysis (ITFR)\, Lectures (P
 )
DTSTART;TZID=Europe/Ljubljana:20241021T140000
DTEND;TZID=Europe/Ljubljana:20241021T170000
DTSTAMP:20260423T033958Z
UID:fs-AFLABS-URNIK:srecanje:6671-2024-10-21 14:00:00+02:00
DESCRIPTION:Predmet: Integral transformations and Fourier analysis (ITFR)\
 , Lectures (P)\nLetniki: RRP-2 (RRP-2)\nIzvajalci: Boštjan Gabrovšek\, A
 ljoša Peperko\, Darja Rupnik Poklukar\, Janez Žerovnik\nProstor: Lecture
  hall V/2
END:VEVENT
BEGIN:VEVENT
SUMMARY:Integral transformations and Fourier analysis (ITFR)\, Lectures (P
 )
DTSTART;TZID=Europe/Ljubljana:20241104T140000
DTEND;TZID=Europe/Ljubljana:20241104T170000
DTSTAMP:20260423T033958Z
UID:fs-AFLABS-URNIK:srecanje:6671-2024-11-04 14:00:00+01:00
DESCRIPTION:Predmet: Integral transformations and Fourier analysis (ITFR)\
 , Lectures (P)\nLetniki: RRP-2 (RRP-2)\nIzvajalci: Boštjan Gabrovšek\, A
 ljoša Peperko\, Darja Rupnik Poklukar\, Janez Žerovnik\nProstor: Lecture
  hall V/2
END:VEVENT
BEGIN:VEVENT
SUMMARY:Integral transformations and Fourier analysis (ITFR)\, Lectures (P
 )
DTSTART;TZID=Europe/Ljubljana:20241111T140000
DTEND;TZID=Europe/Ljubljana:20241111T170000
DTSTAMP:20260423T033958Z
UID:fs-AFLABS-URNIK:srecanje:6671-2024-11-11 14:00:00+01:00
DESCRIPTION:Predmet: Integral transformations and Fourier analysis (ITFR)\
 , Lectures (P)\nLetniki: RRP-2 (RRP-2)\nIzvajalci: Boštjan Gabrovšek\, A
 ljoša Peperko\, Darja Rupnik Poklukar\, Janez Žerovnik\nProstor: Lecture
  hall V/2
END:VEVENT
BEGIN:VEVENT
SUMMARY:Integral transformations and Fourier analysis (ITFR)\, Lectures (P
 )
DTSTART;TZID=Europe/Ljubljana:20241118T140000
DTEND;TZID=Europe/Ljubljana:20241118T170000
DTSTAMP:20260423T033958Z
UID:fs-AFLABS-URNIK:srecanje:6671-2024-11-18 14:00:00+01:00
DESCRIPTION:Predmet: Integral transformations and Fourier analysis (ITFR)\
 , Lectures (P)\nLetniki: RRP-2 (RRP-2)\nIzvajalci: Boštjan Gabrovšek\, A
 ljoša Peperko\, Darja Rupnik Poklukar\, Janez Žerovnik\nProstor: Lecture
  hall V/2
END:VEVENT
BEGIN:VEVENT
SUMMARY:Integral transformations and Fourier analysis (ITFR)\, Lectures (P
 )
DTSTART;TZID=Europe/Ljubljana:20241125T140000
DTEND;TZID=Europe/Ljubljana:20241125T170000
DTSTAMP:20260423T033958Z
UID:fs-AFLABS-URNIK:srecanje:6671-2024-11-25 14:00:00+01:00
DESCRIPTION:Predmet: Integral transformations and Fourier analysis (ITFR)\
 , Lectures (P)\nLetniki: RRP-2 (RRP-2)\nIzvajalci: Boštjan Gabrovšek\, A
 ljoša Peperko\, Darja Rupnik Poklukar\, Janez Žerovnik\nProstor: Lecture
  hall V/2
END:VEVENT
BEGIN:VEVENT
SUMMARY:Integral transformations and Fourier analysis (ITFR)\, Lectures (P
 )
DTSTART;TZID=Europe/Ljubljana:20241202T140000
DTEND;TZID=Europe/Ljubljana:20241202T170000
DTSTAMP:20260423T033958Z
UID:fs-AFLABS-URNIK:srecanje:6671-2024-12-02 14:00:00+01:00
DESCRIPTION:Predmet: Integral transformations and Fourier analysis (ITFR)\
 , Lectures (P)\nLetniki: RRP-2 (RRP-2)\nIzvajalci: Boštjan Gabrovšek\, A
 ljoša Peperko\, Darja Rupnik Poklukar\, Janez Žerovnik\nProstor: Lecture
  hall V/2
END:VEVENT
BEGIN:VEVENT
SUMMARY:Integral transformations and Fourier analysis (ITFR)\, Lectures (P
 )
DTSTART;TZID=Europe/Ljubljana:20241209T140000
DTEND;TZID=Europe/Ljubljana:20241209T170000
DTSTAMP:20260423T033958Z
UID:fs-AFLABS-URNIK:srecanje:6671-2024-12-09 14:00:00+01:00
DESCRIPTION:Predmet: Integral transformations and Fourier analysis (ITFR)\
 , Lectures (P)\nLetniki: RRP-2 (RRP-2)\nIzvajalci: Boštjan Gabrovšek\, A
 ljoša Peperko\, Darja Rupnik Poklukar\, Janez Žerovnik\nProstor: Lecture
  hall V/2
END:VEVENT
BEGIN:VEVENT
SUMMARY:Integral transformations and Fourier analysis (ITFR)\, Lectures (P
 )
DTSTART;TZID=Europe/Ljubljana:20241216T140000
DTEND;TZID=Europe/Ljubljana:20241216T170000
DTSTAMP:20260423T033958Z
UID:fs-AFLABS-URNIK:srecanje:6671-2024-12-16 14:00:00+01:00
DESCRIPTION:Predmet: Integral transformations and Fourier analysis (ITFR)\
 , Lectures (P)\nLetniki: RRP-2 (RRP-2)\nIzvajalci: Boštjan Gabrovšek\, A
 ljoša Peperko\, Darja Rupnik Poklukar\, Janez Žerovnik\nProstor: Lecture
  hall V/2
END:VEVENT
BEGIN:VEVENT
SUMMARY:Integral transformations and Fourier analysis (ITFR)\, Lectures (P
 )
DTSTART;TZID=Europe/Ljubljana:20241223T140000
DTEND;TZID=Europe/Ljubljana:20241223T170000
DTSTAMP:20260423T033958Z
UID:fs-AFLABS-URNIK:srecanje:6671-2024-12-23 14:00:00+01:00
DESCRIPTION:Predmet: Integral transformations and Fourier analysis (ITFR)\
 , Lectures (P)\nLetniki: RRP-2 (RRP-2)\nIzvajalci: Boštjan Gabrovšek\, A
 ljoša Peperko\, Darja Rupnik Poklukar\, Janez Žerovnik\nProstor: Lecture
  hall V/2
END:VEVENT
BEGIN:VEVENT
SUMMARY:Integral transformations and Fourier analysis (ITFR)\, Lectures (P
 )
DTSTART;TZID=Europe/Ljubljana:20250106T140000
DTEND;TZID=Europe/Ljubljana:20250106T170000
DTSTAMP:20260423T033958Z
UID:fs-AFLABS-URNIK:srecanje:6671-2025-01-06 14:00:00+01:00
DESCRIPTION:Predmet: Integral transformations and Fourier analysis (ITFR)\
 , Lectures (P)\nLetniki: RRP-2 (RRP-2)\nIzvajalci: Boštjan Gabrovšek\, A
 ljoša Peperko\, Darja Rupnik Poklukar\, Janez Žerovnik\nProstor: Lecture
  hall V/2
END:VEVENT
BEGIN:VEVENT
SUMMARY:Integral transformations and Fourier analysis (ITFR)\, Lectures (P
 )
DTSTART;TZID=Europe/Ljubljana:20250113T140000
DTEND;TZID=Europe/Ljubljana:20250113T170000
DTSTAMP:20260423T033958Z
UID:fs-AFLABS-URNIK:srecanje:6671-2025-01-13 14:00:00+01:00
DESCRIPTION:Predmet: Integral transformations and Fourier analysis (ITFR)\
 , Lectures (P)\nLetniki: RRP-2 (RRP-2)\nIzvajalci: Boštjan Gabrovšek\, A
 ljoša Peperko\, Darja Rupnik Poklukar\, Janez Žerovnik\nProstor: Lecture
  hall V/2
END:VEVENT
BEGIN:VEVENT
SUMMARY:Integral transformations and Fourier analysis (ITFR)\, Lectures (P
 )
DTSTART;TZID=Europe/Ljubljana:20250120T140000
DTEND;TZID=Europe/Ljubljana:20250120T170000
DTSTAMP:20260423T033958Z
UID:fs-AFLABS-URNIK:srecanje:6671-2025-01-20 14:00:00+01:00
DESCRIPTION:Predmet: Integral transformations and Fourier analysis (ITFR)\
 , Lectures (P)\nLetniki: RRP-2 (RRP-2)\nIzvajalci: Boštjan Gabrovšek\, A
 ljoša Peperko\, Darja Rupnik Poklukar\, Janez Žerovnik\nProstor: Lecture
  hall V/2
END:VEVENT
END:VCALENDAR
