BEGIN:VCALENDAR
VERSION:2.0
PRODID:-//AFLabs urnik izvoz - fs//aflabs.si//SI
NAME:UL FS Urnik
X-WR-CALNAME:UL FS Urnik
DTSTAMP:20260424T180643Z
REFRESH-INTERVAL:PT1H
SOURCE:https://urnik.fs.uni-lj.si/en/teacher/680/?day=2025-09-01&export=1
URL:https://urnik.fs.uni-lj.si/en/teacher/680/?day=2025-09-01&export=1
X-PUBLISHED-TTL:PT1H
X-WR-TIMEZONE:Europe/Ljubljana
BEGIN:VTIMEZONE
TZID:Europe/Ljubljana
BEGIN:DAYLIGHT
DTSTART:20260329T020000
RDATE:20260329T020000
RDATE:20270328T020000
TZNAME:CEST
TZOFFSETFROM:+0100
TZOFFSETTO:+0200
END:DAYLIGHT
BEGIN:STANDARD
DTSTART:20261025T030000
RDATE:20261025T030000
RDATE:20271031T030000
TZNAME:CET
TZOFFSETFROM:+0200
TZOFFSETTO:+0100
END:STANDARD
END:VTIMEZONE
BEGIN:VEVENT
SUMMARY:Design of advanced systems (KNSM)\, Lecture exercises (VP)\, [S1]
DTSTART;TZID=Europe/Ljubljana:20250930T160000
DTEND;TZID=Europe/Ljubljana:20250930T180000
DTSTAMP:20260424T180643Z
UID:fs-AFLABS-URNIK:srecanje:15949-2025-09-30 16:00:00+02:00
DESCRIPTION:Predmet: Design of advanced systems (KNSM)\, Lecture exercises
  (VP)\, [S1]\nLetniki: Engineering design (MAG-1)\nIzvajalci: Aleš Gosar\
 nProstor: Lecture hall V/2
END:VEVENT
BEGIN:VEVENT
SUMMARY:Design of advanced systems (KNSM)\, Laboratory excercises (VL)\, [
 S1]
DTSTART;TZID=Europe/Ljubljana:20251006T120000
DTEND;TZID=Europe/Ljubljana:20251006T140000
DTSTAMP:20260424T180643Z
UID:fs-AFLABS-URNIK:srecanje:16642-2025-10-06 12:00:00+02:00
DESCRIPTION:Predmet: Design of advanced systems (KNSM)\, Laboratory excerc
 ises (VL)\, [S1]\nLetniki: Engineering design (MAG-1)\nIzvajalci: Aleš Go
 sar\nProstor: Laboratory LAVEK IV/6
END:VEVENT
END:VCALENDAR
