BEGIN:VCALENDAR
VERSION:2.0
PRODID:-//AFLabs urnik izvoz - fs//aflabs.si//SI
NAME:UL FS Urnik
X-WR-CALNAME:UL FS Urnik
DTSTAMP:20260423T053504Z
REFRESH-INTERVAL:PT1H
SOURCE:https://urnik.fs.uni-lj.si/en/teacher/681/?day=2025-04-14&export=1
URL:https://urnik.fs.uni-lj.si/en/teacher/681/?day=2025-04-14&export=1
X-PUBLISHED-TTL:PT1H
X-WR-TIMEZONE:Europe/Ljubljana
BEGIN:VTIMEZONE
TZID:Europe/Ljubljana
BEGIN:DAYLIGHT
DTSTART:20260329T020000
RDATE:20260329T020000
RDATE:20270328T020000
TZNAME:CEST
TZOFFSETFROM:+0100
TZOFFSETTO:+0200
END:DAYLIGHT
BEGIN:STANDARD
DTSTART:20261025T030000
RDATE:20261025T030000
RDATE:20271031T030000
TZNAME:CET
TZOFFSETFROM:+0200
TZOFFSETTO:+0100
END:STANDARD
END:VTIMEZONE
BEGIN:VEVENT
SUMMARY:Control and statistical supervision in manufacturing (KSNP)\, Lect
 ures (P)
DTSTART;TZID=Europe/Ljubljana:20250217T153000
DTEND;TZID=Europe/Ljubljana:20250217T173000
DTSTAMP:20260423T053504Z
UID:fs-AFLABS-URNIK:srecanje:9602-2025-02-17 15:30:00+01:00
DESCRIPTION:Predmet: Control and statistical supervision in manufacturing 
 (KSNP)\, Lectures (P)\nLetniki: Production engineering (PAP-2)\nIzvajalci:
  Drago Bračun\, Edvard Govekar\nProstor: Lecture hall III/3B
END:VEVENT
BEGIN:VEVENT
SUMMARY:Control and statistical supervision in manufacturing (KSNP)\, Lect
 ures (P)
DTSTART;TZID=Europe/Ljubljana:20250224T153000
DTEND;TZID=Europe/Ljubljana:20250224T173000
DTSTAMP:20260423T053504Z
UID:fs-AFLABS-URNIK:srecanje:9602-2025-02-24 15:30:00+01:00
DESCRIPTION:Predmet: Control and statistical supervision in manufacturing 
 (KSNP)\, Lectures (P)\nLetniki: Production engineering (PAP-2)\nIzvajalci:
  Drago Bračun\, Edvard Govekar\nProstor: Lecture hall III/3B
END:VEVENT
BEGIN:VEVENT
SUMMARY:Control and statistical supervision in manufacturing (KSNP)\, Lect
 ures (P)
DTSTART;TZID=Europe/Ljubljana:20250303T153000
DTEND;TZID=Europe/Ljubljana:20250303T173000
DTSTAMP:20260423T053504Z
UID:fs-AFLABS-URNIK:srecanje:9602-2025-03-03 15:30:00+01:00
DESCRIPTION:Predmet: Control and statistical supervision in manufacturing 
 (KSNP)\, Lectures (P)\nLetniki: Production engineering (PAP-2)\nIzvajalci:
  Drago Bračun\, Edvard Govekar\nProstor: Lecture hall III/3B
END:VEVENT
BEGIN:VEVENT
SUMMARY:Control and statistical supervision in manufacturing (KSNP)\, Lect
 ures (P)
DTSTART;TZID=Europe/Ljubljana:20250310T153000
DTEND;TZID=Europe/Ljubljana:20250310T173000
DTSTAMP:20260423T053504Z
UID:fs-AFLABS-URNIK:srecanje:9602-2025-03-10 15:30:00+01:00
DESCRIPTION:Predmet: Control and statistical supervision in manufacturing 
 (KSNP)\, Lectures (P)\nLetniki: Production engineering (PAP-2)\nIzvajalci:
  Drago Bračun\, Edvard Govekar\nProstor: Lecture hall III/3B
END:VEVENT
BEGIN:VEVENT
SUMMARY:Control and statistical supervision in manufacturing (KSNP)\, Lect
 ures (P)
DTSTART;TZID=Europe/Ljubljana:20250317T153000
DTEND;TZID=Europe/Ljubljana:20250317T173000
DTSTAMP:20260423T053504Z
UID:fs-AFLABS-URNIK:srecanje:9602-2025-03-17 15:30:00+01:00
DESCRIPTION:Predmet: Control and statistical supervision in manufacturing 
 (KSNP)\, Lectures (P)\nLetniki: Production engineering (PAP-2)\nIzvajalci:
  Drago Bračun\, Edvard Govekar\nProstor: Lecture hall III/3B
END:VEVENT
BEGIN:VEVENT
SUMMARY:Control and statistical supervision in manufacturing (KSNP)\, Lect
 ures (P)
DTSTART;TZID=Europe/Ljubljana:20250324T153000
DTEND;TZID=Europe/Ljubljana:20250324T173000
DTSTAMP:20260423T053504Z
UID:fs-AFLABS-URNIK:srecanje:9602-2025-03-24 15:30:00+01:00
DESCRIPTION:Predmet: Control and statistical supervision in manufacturing 
 (KSNP)\, Lectures (P)\nLetniki: Production engineering (PAP-2)\nIzvajalci:
  Drago Bračun\, Edvard Govekar\nProstor: Lecture hall III/3B
END:VEVENT
BEGIN:VEVENT
SUMMARY:Control and statistical supervision in manufacturing (KSNP)\, Lect
 ures (P)
DTSTART;TZID=Europe/Ljubljana:20250331T153000
DTEND;TZID=Europe/Ljubljana:20250331T173000
DTSTAMP:20260423T053504Z
UID:fs-AFLABS-URNIK:srecanje:9602-2025-03-31 15:30:00+02:00
DESCRIPTION:Predmet: Control and statistical supervision in manufacturing 
 (KSNP)\, Lectures (P)\nLetniki: Production engineering (PAP-2)\nIzvajalci:
  Drago Bračun\, Edvard Govekar\nProstor: Lecture hall III/3B
END:VEVENT
BEGIN:VEVENT
SUMMARY:Control and statistical supervision in manufacturing (KSNP)\, Lect
 ures (P)
DTSTART;TZID=Europe/Ljubljana:20250407T153000
DTEND;TZID=Europe/Ljubljana:20250407T173000
DTSTAMP:20260423T053504Z
UID:fs-AFLABS-URNIK:srecanje:9602-2025-04-07 15:30:00+02:00
DESCRIPTION:Predmet: Control and statistical supervision in manufacturing 
 (KSNP)\, Lectures (P)\nLetniki: Production engineering (PAP-2)\nIzvajalci:
  Drago Bračun\, Edvard Govekar\nProstor: Lecture hall III/3B
END:VEVENT
BEGIN:VEVENT
SUMMARY:Control and statistical supervision in manufacturing (KSNP)\, Lect
 ures (P)
DTSTART;TZID=Europe/Ljubljana:20250414T153000
DTEND;TZID=Europe/Ljubljana:20250414T173000
DTSTAMP:20260423T053504Z
UID:fs-AFLABS-URNIK:srecanje:9602-2025-04-14 15:30:00+02:00
DESCRIPTION:Predmet: Control and statistical supervision in manufacturing 
 (KSNP)\, Lectures (P)\nLetniki: Production engineering (PAP-2)\nIzvajalci:
  Drago Bračun\, Edvard Govekar\nProstor: Lecture hall III/3B
END:VEVENT
BEGIN:VEVENT
SUMMARY:Control and statistical supervision in manufacturing (KSNP)\, Lect
 ures (P)
DTSTART;TZID=Europe/Ljubljana:20250421T153000
DTEND;TZID=Europe/Ljubljana:20250421T173000
DTSTAMP:20260423T053504Z
UID:fs-AFLABS-URNIK:srecanje:9602-2025-04-21 15:30:00+02:00
DESCRIPTION:Predmet: Control and statistical supervision in manufacturing 
 (KSNP)\, Lectures (P)\nLetniki: Production engineering (PAP-2)\nIzvajalci:
  Drago Bračun\, Edvard Govekar\nProstor: Lecture hall III/3B
END:VEVENT
BEGIN:VEVENT
SUMMARY:Control and statistical supervision in manufacturing (KSNP)\, Lect
 ures (P)
DTSTART;TZID=Europe/Ljubljana:20250428T153000
DTEND;TZID=Europe/Ljubljana:20250428T173000
DTSTAMP:20260423T053504Z
UID:fs-AFLABS-URNIK:srecanje:9602-2025-04-28 15:30:00+02:00
DESCRIPTION:Predmet: Control and statistical supervision in manufacturing 
 (KSNP)\, Lectures (P)\nLetniki: Production engineering (PAP-2)\nIzvajalci:
  Drago Bračun\, Edvard Govekar\nProstor: Lecture hall III/3B
END:VEVENT
BEGIN:VEVENT
SUMMARY:Control and statistical supervision in manufacturing (KSNP)\, Lect
 ures (P)
DTSTART;TZID=Europe/Ljubljana:20250505T153000
DTEND;TZID=Europe/Ljubljana:20250505T173000
DTSTAMP:20260423T053504Z
UID:fs-AFLABS-URNIK:srecanje:9602-2025-05-05 15:30:00+02:00
DESCRIPTION:Predmet: Control and statistical supervision in manufacturing 
 (KSNP)\, Lectures (P)\nLetniki: Production engineering (PAP-2)\nIzvajalci:
  Drago Bračun\, Edvard Govekar\nProstor: Lecture hall III/3B
END:VEVENT
BEGIN:VEVENT
SUMMARY:Control and statistical supervision in manufacturing (KSNP)\, Lect
 ures (P)
DTSTART;TZID=Europe/Ljubljana:20250512T153000
DTEND;TZID=Europe/Ljubljana:20250512T173000
DTSTAMP:20260423T053504Z
UID:fs-AFLABS-URNIK:srecanje:9602-2025-05-12 15:30:00+02:00
DESCRIPTION:Predmet: Control and statistical supervision in manufacturing 
 (KSNP)\, Lectures (P)\nLetniki: Production engineering (PAP-2)\nIzvajalci:
  Drago Bračun\, Edvard Govekar\nProstor: Lecture hall III/3B
END:VEVENT
BEGIN:VEVENT
SUMMARY:Control and statistical supervision in manufacturing (KSNP)\, Lect
 ures (P)
DTSTART;TZID=Europe/Ljubljana:20250519T153000
DTEND;TZID=Europe/Ljubljana:20250519T173000
DTSTAMP:20260423T053504Z
UID:fs-AFLABS-URNIK:srecanje:9602-2025-05-19 15:30:00+02:00
DESCRIPTION:Predmet: Control and statistical supervision in manufacturing 
 (KSNP)\, Lectures (P)\nLetniki: Production engineering (PAP-2)\nIzvajalci:
  Drago Bračun\, Edvard Govekar\nProstor: Lecture hall III/3B
END:VEVENT
BEGIN:VEVENT
SUMMARY:Control and statistical supervision in manufacturing (KSNP)\, Lect
 ures (P)
DTSTART;TZID=Europe/Ljubljana:20250526T153000
DTEND;TZID=Europe/Ljubljana:20250526T173000
DTSTAMP:20260423T053504Z
UID:fs-AFLABS-URNIK:srecanje:9602-2025-05-26 15:30:00+02:00
DESCRIPTION:Predmet: Control and statistical supervision in manufacturing 
 (KSNP)\, Lectures (P)\nLetniki: Production engineering (PAP-2)\nIzvajalci:
  Drago Bračun\, Edvard Govekar\nProstor: Lecture hall III/3B
END:VEVENT
BEGIN:VEVENT
SUMMARY:Data processing and validation (OVPR)\, Lectures (P)
DTSTART;TZID=Europe/Ljubljana:20250219T120000
DTEND;TZID=Europe/Ljubljana:20250219T140000
DTSTAMP:20260423T053504Z
UID:fs-AFLABS-URNIK:srecanje:9838-2025-02-19 12:00:00+01:00
DESCRIPTION:Predmet: Data processing and validation (OVPR)\, Lectures (P)\
 nLetniki: RRP-3 (RRP-3)\nIzvajalci: Edvard Govekar\nProstor: Lecture hall 
 IV/4
END:VEVENT
BEGIN:VEVENT
SUMMARY:Data processing and validation (OVPR)\, Lectures (P)
DTSTART;TZID=Europe/Ljubljana:20250226T120000
DTEND;TZID=Europe/Ljubljana:20250226T140000
DTSTAMP:20260423T053504Z
UID:fs-AFLABS-URNIK:srecanje:9839-2025-02-26 12:00:00+01:00
DESCRIPTION:Predmet: Data processing and validation (OVPR)\, Lectures (P)\
 nLetniki: RRP-3 (RRP-3)\nIzvajalci: Edvard Govekar\nProstor: Lecture hall 
 IV/4
END:VEVENT
BEGIN:VEVENT
SUMMARY:Data processing and validation (OVPR)\, Lectures (P)
DTSTART;TZID=Europe/Ljubljana:20250305T120000
DTEND;TZID=Europe/Ljubljana:20250305T140000
DTSTAMP:20260423T053504Z
UID:fs-AFLABS-URNIK:srecanje:9839-2025-03-05 12:00:00+01:00
DESCRIPTION:Predmet: Data processing and validation (OVPR)\, Lectures (P)\
 nLetniki: RRP-3 (RRP-3)\nIzvajalci: Edvard Govekar\nProstor: Lecture hall 
 IV/4
END:VEVENT
BEGIN:VEVENT
SUMMARY:Data processing and validation (OVPR)\, Lectures (P)
DTSTART;TZID=Europe/Ljubljana:20250312T120000
DTEND;TZID=Europe/Ljubljana:20250312T140000
DTSTAMP:20260423T053504Z
UID:fs-AFLABS-URNIK:srecanje:9839-2025-03-12 12:00:00+01:00
DESCRIPTION:Predmet: Data processing and validation (OVPR)\, Lectures (P)\
 nLetniki: RRP-3 (RRP-3)\nIzvajalci: Edvard Govekar\nProstor: Lecture hall 
 IV/4
END:VEVENT
BEGIN:VEVENT
SUMMARY:Data processing and validation (OVPR)\, Lectures (P)
DTSTART;TZID=Europe/Ljubljana:20250319T120000
DTEND;TZID=Europe/Ljubljana:20250319T140000
DTSTAMP:20260423T053504Z
UID:fs-AFLABS-URNIK:srecanje:9839-2025-03-19 12:00:00+01:00
DESCRIPTION:Predmet: Data processing and validation (OVPR)\, Lectures (P)\
 nLetniki: RRP-3 (RRP-3)\nIzvajalci: Edvard Govekar\nProstor: Lecture hall 
 IV/4
END:VEVENT
BEGIN:VEVENT
SUMMARY:Data processing and validation (OVPR)\, Lectures (P)
DTSTART;TZID=Europe/Ljubljana:20250326T120000
DTEND;TZID=Europe/Ljubljana:20250326T140000
DTSTAMP:20260423T053504Z
UID:fs-AFLABS-URNIK:srecanje:9839-2025-03-26 12:00:00+01:00
DESCRIPTION:Predmet: Data processing and validation (OVPR)\, Lectures (P)\
 nLetniki: RRP-3 (RRP-3)\nIzvajalci: Edvard Govekar\nProstor: Lecture hall 
 IV/4
END:VEVENT
BEGIN:VEVENT
SUMMARY:Data processing and validation (OVPR)\, Lectures (P)
DTSTART;TZID=Europe/Ljubljana:20250402T120000
DTEND;TZID=Europe/Ljubljana:20250402T140000
DTSTAMP:20260423T053504Z
UID:fs-AFLABS-URNIK:srecanje:9839-2025-04-02 12:00:00+02:00
DESCRIPTION:Predmet: Data processing and validation (OVPR)\, Lectures (P)\
 nLetniki: RRP-3 (RRP-3)\nIzvajalci: Edvard Govekar\nProstor: Lecture hall 
 IV/4
END:VEVENT
BEGIN:VEVENT
SUMMARY:Data processing and validation (OVPR)\, Lectures (P)
DTSTART;TZID=Europe/Ljubljana:20250409T120000
DTEND;TZID=Europe/Ljubljana:20250409T140000
DTSTAMP:20260423T053504Z
UID:fs-AFLABS-URNIK:srecanje:9839-2025-04-09 12:00:00+02:00
DESCRIPTION:Predmet: Data processing and validation (OVPR)\, Lectures (P)\
 nLetniki: RRP-3 (RRP-3)\nIzvajalci: Edvard Govekar\nProstor: Lecture hall 
 IV/4
END:VEVENT
BEGIN:VEVENT
SUMMARY:Data processing and validation (OVPR)\, Lectures (P)
DTSTART;TZID=Europe/Ljubljana:20250416T120000
DTEND;TZID=Europe/Ljubljana:20250416T140000
DTSTAMP:20260423T053504Z
UID:fs-AFLABS-URNIK:srecanje:9839-2025-04-16 12:00:00+02:00
DESCRIPTION:Predmet: Data processing and validation (OVPR)\, Lectures (P)\
 nLetniki: RRP-3 (RRP-3)\nIzvajalci: Edvard Govekar\nProstor: Lecture hall 
 IV/4
END:VEVENT
BEGIN:VEVENT
SUMMARY:Data processing and validation (OVPR)\, Lectures (P)
DTSTART;TZID=Europe/Ljubljana:20250423T120000
DTEND;TZID=Europe/Ljubljana:20250423T140000
DTSTAMP:20260423T053504Z
UID:fs-AFLABS-URNIK:srecanje:9839-2025-04-23 12:00:00+02:00
DESCRIPTION:Predmet: Data processing and validation (OVPR)\, Lectures (P)\
 nLetniki: RRP-3 (RRP-3)\nIzvajalci: Edvard Govekar\nProstor: Lecture hall 
 IV/4
END:VEVENT
BEGIN:VEVENT
SUMMARY:Data processing and validation (OVPR)\, Lectures (P)
DTSTART;TZID=Europe/Ljubljana:20250430T120000
DTEND;TZID=Europe/Ljubljana:20250430T140000
DTSTAMP:20260423T053504Z
UID:fs-AFLABS-URNIK:srecanje:9839-2025-04-30 12:00:00+02:00
DESCRIPTION:Predmet: Data processing and validation (OVPR)\, Lectures (P)\
 nLetniki: RRP-3 (RRP-3)\nIzvajalci: Edvard Govekar\nProstor: Lecture hall 
 IV/4
END:VEVENT
BEGIN:VEVENT
SUMMARY:Data processing and validation (OVPR)\, Lectures (P)
DTSTART;TZID=Europe/Ljubljana:20250507T120000
DTEND;TZID=Europe/Ljubljana:20250507T140000
DTSTAMP:20260423T053504Z
UID:fs-AFLABS-URNIK:srecanje:9839-2025-05-07 12:00:00+02:00
DESCRIPTION:Predmet: Data processing and validation (OVPR)\, Lectures (P)\
 nLetniki: RRP-3 (RRP-3)\nIzvajalci: Edvard Govekar\nProstor: Lecture hall 
 IV/4
END:VEVENT
BEGIN:VEVENT
SUMMARY:Data processing and validation (OVPR)\, Lectures (P)
DTSTART;TZID=Europe/Ljubljana:20250514T120000
DTEND;TZID=Europe/Ljubljana:20250514T140000
DTSTAMP:20260423T053504Z
UID:fs-AFLABS-URNIK:srecanje:9839-2025-05-14 12:00:00+02:00
DESCRIPTION:Predmet: Data processing and validation (OVPR)\, Lectures (P)\
 nLetniki: RRP-3 (RRP-3)\nIzvajalci: Edvard Govekar\nProstor: Lecture hall 
 IV/4
END:VEVENT
BEGIN:VEVENT
SUMMARY:Data processing and validation (OVPR)\, Lectures (P)
DTSTART;TZID=Europe/Ljubljana:20250521T120000
DTEND;TZID=Europe/Ljubljana:20250521T140000
DTSTAMP:20260423T053504Z
UID:fs-AFLABS-URNIK:srecanje:9839-2025-05-21 12:00:00+02:00
DESCRIPTION:Predmet: Data processing and validation (OVPR)\, Lectures (P)\
 nLetniki: RRP-3 (RRP-3)\nIzvajalci: Edvard Govekar\nProstor: Lecture hall 
 IV/4
END:VEVENT
BEGIN:VEVENT
SUMMARY:Data processing and validation (OVPR)\, Lectures (P)
DTSTART;TZID=Europe/Ljubljana:20250528T120000
DTEND;TZID=Europe/Ljubljana:20250528T140000
DTSTAMP:20260423T053504Z
UID:fs-AFLABS-URNIK:srecanje:9839-2025-05-28 12:00:00+02:00
DESCRIPTION:Predmet: Data processing and validation (OVPR)\, Lectures (P)\
 nLetniki: RRP-3 (RRP-3)\nIzvajalci: Edvard Govekar\nProstor: Lecture hall 
 IV/4
END:VEVENT
BEGIN:VEVENT
SUMMARY:sestanek
DTSTART;TZID=Europe/Ljubljana:20250429T100000
DTEND;TZID=Europe/Ljubljana:20250429T110000
DTSTAMP:20260423T053504Z
UID:fs-AFLABS-URNIK:rezervacija:9952
CATEGORIES:Reservation
COLOR:royalblue
DESCRIPTION:Predmeti: \nLetniki: \nIzvajalci: Edvard Govekar\nProstori: Co
 nference room
LOCATION:Conference room
ORGANIZER:Edvard Govekar
X-WR-TIMEZONE:Europe/Ljubljana
END:VEVENT
END:VCALENDAR
