BEGIN:VCALENDAR
VERSION:2.0
PRODID:-//AFLabs urnik izvoz - fs//aflabs.si//SI
NAME:UL FS Urnik
X-WR-CALNAME:UL FS Urnik
DTSTAMP:20260424T130554Z
REFRESH-INTERVAL:PT1H
SOURCE:https://urnik.fs.uni-lj.si/en/teacher/681/?day=2026-01-26&export=1
URL:https://urnik.fs.uni-lj.si/en/teacher/681/?day=2026-01-26&export=1
X-PUBLISHED-TTL:PT1H
X-WR-TIMEZONE:Europe/Ljubljana
BEGIN:VTIMEZONE
TZID:Europe/Ljubljana
BEGIN:DAYLIGHT
DTSTART:20260329T020000
RDATE:20260329T020000
RDATE:20270328T020000
TZNAME:CEST
TZOFFSETFROM:+0100
TZOFFSETTO:+0200
END:DAYLIGHT
BEGIN:STANDARD
DTSTART:20261025T030000
RDATE:20261025T030000
RDATE:20271031T030000
TZNAME:CET
TZOFFSETFROM:+0200
TZOFFSETTO:+0100
END:STANDARD
END:VTIMEZONE
BEGIN:VEVENT
SUMMARY:Control and statistical supervision in manufacturing (KSNP)\, Lect
 ures (P)
DTSTART;TZID=Europe/Ljubljana:20260216T153000
DTEND;TZID=Europe/Ljubljana:20260216T173000
DTSTAMP:20260424T130554Z
UID:fs-AFLABS-URNIK:srecanje:9602-2026-02-16 15:30:00+01:00
DESCRIPTION:Predmet: Control and statistical supervision in manufacturing 
 (KSNP)\, Lectures (P)\nLetniki: Production engineering (PAP-2)\nIzvajalci:
  Drago Bračun\, Edvard Govekar\nProstor: Lecture hall III/3B
END:VEVENT
BEGIN:VEVENT
SUMMARY:Control and statistical supervision in manufacturing (KSNP)\, Lect
 ures (P)
DTSTART;TZID=Europe/Ljubljana:20260223T153000
DTEND;TZID=Europe/Ljubljana:20260223T173000
DTSTAMP:20260424T130554Z
UID:fs-AFLABS-URNIK:srecanje:9602-2026-02-23 15:30:00+01:00
DESCRIPTION:Predmet: Control and statistical supervision in manufacturing 
 (KSNP)\, Lectures (P)\nLetniki: Production engineering (PAP-2)\nIzvajalci:
  Drago Bračun\, Edvard Govekar\nProstor: Lecture hall III/3B
END:VEVENT
BEGIN:VEVENT
SUMMARY:Control and statistical supervision in manufacturing (KSNP)\, Lect
 ures (P)
DTSTART;TZID=Europe/Ljubljana:20260302T153000
DTEND;TZID=Europe/Ljubljana:20260302T173000
DTSTAMP:20260424T130554Z
UID:fs-AFLABS-URNIK:srecanje:9602-2026-03-02 15:30:00+01:00
DESCRIPTION:Predmet: Control and statistical supervision in manufacturing 
 (KSNP)\, Lectures (P)\nLetniki: Production engineering (PAP-2)\nIzvajalci:
  Drago Bračun\, Edvard Govekar\nProstor: Lecture hall III/3B
END:VEVENT
BEGIN:VEVENT
SUMMARY:Data processing and validation (OVPR)\, Lectures (P)
DTSTART;TZID=Europe/Ljubljana:20260218T130000
DTEND;TZID=Europe/Ljubljana:20260218T150000
DTSTAMP:20260424T130554Z
UID:fs-AFLABS-URNIK:srecanje:16321-2026-02-18 13:00:00+01:00
DESCRIPTION:Predmet: Data processing and validation (OVPR)\, Lectures (P)\
 nLetniki: RRP-3 (RRP-3)\nIzvajalci: Edvard Govekar\nProstor: Lecture hall 
 III/4
END:VEVENT
BEGIN:VEVENT
SUMMARY:Data processing and validation (OVPR)\, Lectures (P)
DTSTART;TZID=Europe/Ljubljana:20260225T130000
DTEND;TZID=Europe/Ljubljana:20260225T150000
DTSTAMP:20260424T130554Z
UID:fs-AFLABS-URNIK:srecanje:16321-2026-02-25 13:00:00+01:00
DESCRIPTION:Predmet: Data processing and validation (OVPR)\, Lectures (P)\
 nLetniki: RRP-3 (RRP-3)\nIzvajalci: Edvard Govekar\nProstor: Lecture hall 
 III/4
END:VEVENT
BEGIN:VEVENT
SUMMARY:Izpit: Additive Technologies
DTSTART;TZID=Europe/Ljubljana:20260122T160000
DTEND;TZID=Europe/Ljubljana:20260122T190000
DTSTAMP:20260424T130554Z
UID:fs-AFLABS-URNIK:rezervacija:12046
ATTENDEE:Erasmus (Erasmus)
CATEGORIES:Reservation
COLOR:royalblue
DESCRIPTION:Predmeti: Additive Technologies (ADTE)\nLetniki: Erasmus (Eras
 mus)\nIzvajalci: Edvard Govekar\nProstori: Lecture hall IV/4
LOCATION:Lecture hall IV/4
ORGANIZER:Edvard Govekar
X-WR-TIMEZONE:Europe/Ljubljana
END:VEVENT
BEGIN:VEVENT
SUMMARY:Izpit: Aditivne tehnologije
DTSTART;TZID=Europe/Ljubljana:20260122T160000
DTEND;TZID=Europe/Ljubljana:20260122T190000
DTSTAMP:20260424T130554Z
UID:fs-AFLABS-URNIK:rezervacija:12047
ATTENDEE:Production engineering (MAG-2)
CATEGORIES:Reservation
COLOR:royalblue
DESCRIPTION:Predmeti: Additive technologies (ADTM)\nLetniki: Production en
 gineering (MAG-2)\nIzvajalci: Edvard Govekar\nProstori: Lecture hall IV/4
LOCATION:Lecture hall IV/4
ORGANIZER:Edvard Govekar
X-WR-TIMEZONE:Europe/Ljubljana
END:VEVENT
BEGIN:VEVENT
SUMMARY:Izpit: Additive Technologies
DTSTART;TZID=Europe/Ljubljana:20260205T080000
DTEND;TZID=Europe/Ljubljana:20260205T110000
DTSTAMP:20260424T130554Z
UID:fs-AFLABS-URNIK:rezervacija:12551
ATTENDEE:Erasmus (Erasmus)
CATEGORIES:Reservation
COLOR:royalblue
DESCRIPTION:Predmeti: Additive Technologies (ADTE)\nLetniki: Erasmus (Eras
 mus)\nIzvajalci: Edvard Govekar\nProstori: Lecture hall III/4
LOCATION:Lecture hall III/4
ORGANIZER:Edvard Govekar
X-WR-TIMEZONE:Europe/Ljubljana
END:VEVENT
BEGIN:VEVENT
SUMMARY:Izpit: Aditivne tehnologije
DTSTART;TZID=Europe/Ljubljana:20260205T080000
DTEND;TZID=Europe/Ljubljana:20260205T110000
DTSTAMP:20260424T130554Z
UID:fs-AFLABS-URNIK:rezervacija:12552
ATTENDEE:Production engineering (MAG-2)
CATEGORIES:Reservation
COLOR:royalblue
DESCRIPTION:Predmeti: Additive technologies (ADTM)\nLetniki: Production en
 gineering (MAG-2)\nIzvajalci: Edvard Govekar\nProstori: Lecture hall III/4
LOCATION:Lecture hall III/4
ORGANIZER:Edvard Govekar
X-WR-TIMEZONE:Europe/Ljubljana
END:VEVENT
BEGIN:VEVENT
SUMMARY:Izpit: Aditivne tehnologije
DTSTART;TZID=Europe/Ljubljana:20260122T160000
DTEND;TZID=Europe/Ljubljana:20260122T190000
DTSTAMP:20260424T130554Z
UID:fs-AFLABS-URNIK:rezervacija:12869
ATTENDEE:Production engineering (MAG-2)
CATEGORIES:Reservation
COLOR:royalblue
DESCRIPTION:Predmeti: Additive technologies (ADTM)\nLetniki: Production en
 gineering (MAG-2)\nIzvajalci: Edvard Govekar\nProstori: Lecture hall IV/4
LOCATION:Lecture hall IV/4
ORGANIZER:Edvard Govekar
X-WR-TIMEZONE:Europe/Ljubljana
END:VEVENT
BEGIN:VEVENT
SUMMARY:Izpit: Aditivne tehnologije
DTSTART;TZID=Europe/Ljubljana:20260205T080000
DTEND;TZID=Europe/Ljubljana:20260205T110000
DTSTAMP:20260424T130554Z
UID:fs-AFLABS-URNIK:rezervacija:12871
ATTENDEE:Production engineering (MAG-2)
CATEGORIES:Reservation
COLOR:royalblue
DESCRIPTION:Predmeti: Additive technologies (ADTM)\nLetniki: Production en
 gineering (MAG-2)\nIzvajalci: Edvard Govekar\nProstori: Lecture hall III/4
LOCATION:Lecture hall III/4
ORGANIZER:Edvard Govekar
X-WR-TIMEZONE:Europe/Ljubljana
END:VEVENT
END:VCALENDAR
