BEGIN:VCALENDAR
VERSION:2.0
PRODID:-//AFLabs urnik izvoz - fs//aflabs.si//SI
NAME:UL FS Urnik
X-WR-CALNAME:UL FS Urnik
DTSTAMP:20260419T172253Z
REFRESH-INTERVAL:PT1H
SOURCE:https://urnik.fs.uni-lj.si/en/teacher/683/?day=2024-07-08&export=1
URL:https://urnik.fs.uni-lj.si/en/teacher/683/?day=2024-07-08&export=1
X-PUBLISHED-TTL:PT1H
X-WR-TIMEZONE:Europe/Ljubljana
BEGIN:VTIMEZONE
TZID:Europe/Ljubljana
BEGIN:DAYLIGHT
DTSTART:20260329T020000
RDATE:20260329T020000
RDATE:20270328T020000
TZNAME:CEST
TZOFFSETFROM:+0100
TZOFFSETTO:+0200
END:DAYLIGHT
BEGIN:STANDARD
DTSTART:20261025T030000
RDATE:20261025T030000
RDATE:20271031T030000
TZNAME:CET
TZOFFSETFROM:+0200
TZOFFSETTO:+0100
END:STANDARD
END:VTIMEZONE
BEGIN:VEVENT
SUMMARY:Zagovori NAV2
DTSTART;TZID=Europe/Ljubljana:20240605T140000
DTEND;TZID=Europe/Ljubljana:20240605T160000
DTSTAMP:20260419T172253Z
UID:fs-AFLABS-URNIK:rezervacija:3495
ATTENDEE:Airline transport pilot (PAP-3)
ATTENDEE:Letalstvo - Prometni pilot letala/helikopterja (PAP-3)
CATEGORIES:Reservation
COLOR:royalblue
DESCRIPTION:Predmeti: Air navigaton 2 (LN2P)\, Aircraft navigation 2 (3139
 )\nLetniki: Airline transport pilot (PAP-3)\, Letalstvo - Prometni pilot l
 etala/helikopterja (PAP-3)\nIzvajalci: Andrej Grebenšek\nProstori: Lectur
 e hall II/3A
LOCATION:Lecture hall II/3A
ORGANIZER:Andrej Grebenšek
X-WR-TIMEZONE:Europe/Ljubljana
END:VEVENT
BEGIN:VEVENT
SUMMARY:Zagovori LN2
DTSTART;TZID=Europe/Ljubljana:20240610T080000
DTEND;TZID=Europe/Ljubljana:20240610T100000
DTSTAMP:20260419T172253Z
UID:fs-AFLABS-URNIK:rezervacija:3512
ATTENDEE:Airline transport pilot (PAP-3)
ATTENDEE:Letalstvo - Prometni pilot letala/helikopterja (PAP-3)
CATEGORIES:Reservation
COLOR:royalblue
DESCRIPTION:Predmeti: Air navigaton 2 (LN2P)\, Aircraft navigation 2 (3139
 )\nLetniki: Airline transport pilot (PAP-3)\, Letalstvo - Prometni pilot l
 etala/helikopterja (PAP-3)\nIzvajalci: Andrej Grebenšek\nProstori: Lectur
 e hall II/3A
LOCATION:Lecture hall II/3A
ORGANIZER:Andrej Grebenšek
X-WR-TIMEZONE:Europe/Ljubljana
END:VEVENT
BEGIN:VEVENT
SUMMARY:Izpit: Sistemi na letalu
DTSTART;TZID=Europe/Ljubljana:20240604T090000
DTEND;TZID=Europe/Ljubljana:20240604T110000
DTSTAMP:20260419T172253Z
UID:fs-AFLABS-URNIK:rezervacija:4915
ATTENDEE:Aircraft design and maintenance (PAP-3)
ATTENDEE:Airline transport pilot (PAP-3)
CATEGORIES:Reservation
COLOR:royalblue
DESCRIPTION:Predmeti: Aircraft systems (SNLP)\nLetniki: Aircraft design an
 d maintenance (PAP-3)\, Airline transport pilot (PAP-3)\nIzvajalci: Andrej
  Grebenšek\nProstori: Lecture hall II/2
LOCATION:Lecture hall II/2
ORGANIZER:Andrej Grebenšek
X-WR-TIMEZONE:Europe/Ljubljana
END:VEVENT
BEGIN:VEVENT
SUMMARY:Izpit: Sistemi na letalu (3085)
DTSTART;TZID=Europe/Ljubljana:20240604T090000
DTEND;TZID=Europe/Ljubljana:20240604T110000
DTSTAMP:20260419T172253Z
UID:fs-AFLABS-URNIK:rezervacija:4916
CATEGORIES:Reservation
COLOR:royalblue
DESCRIPTION:Predmeti: \nLetniki: \nIzvajalci: Andrej Grebenšek\nProstori:
  Lecture hall II/2
LOCATION:Lecture hall II/2
ORGANIZER:Andrej Grebenšek
X-WR-TIMEZONE:Europe/Ljubljana
END:VEVENT
BEGIN:VEVENT
SUMMARY:Izpit: Letalski instrumenti (3027)
DTSTART;TZID=Europe/Ljubljana:20240606T090000
DTEND;TZID=Europe/Ljubljana:20240606T110000
DTSTAMP:20260419T172253Z
UID:fs-AFLABS-URNIK:rezervacija:4958
CATEGORIES:Reservation
COLOR:royalblue
DESCRIPTION:Predmeti: \nLetniki: \nIzvajalci: Andrej Grebenšek\nProstori:
  Lecture hall II/2
LOCATION:Lecture hall II/2
ORGANIZER:Andrej Grebenšek
X-WR-TIMEZONE:Europe/Ljubljana
END:VEVENT
BEGIN:VEVENT
SUMMARY:Izpit: Letalski instrumenti
DTSTART;TZID=Europe/Ljubljana:20240606T090000
DTEND;TZID=Europe/Ljubljana:20240606T110000
DTSTAMP:20260419T172253Z
UID:fs-AFLABS-URNIK:rezervacija:4959
ATTENDEE:Aircraft design and maintenance (PAP-2)
ATTENDEE:Airline transport pilot (PAP-2)
CATEGORIES:Reservation
COLOR:royalblue
DESCRIPTION:Predmeti: Aircraft instrumentation (LTIP)\nLetniki: Aircraft d
 esign and maintenance (PAP-2)\, Airline transport pilot (PAP-2)\nIzvajalci
 : Andrej Grebenšek\nProstori: Lecture hall II/2
LOCATION:Lecture hall II/2
ORGANIZER:Andrej Grebenšek
X-WR-TIMEZONE:Europe/Ljubljana
END:VEVENT
BEGIN:VEVENT
SUMMARY:Izpit: Letalska navigacija 2
DTSTART;TZID=Europe/Ljubljana:20240610T090000
DTEND;TZID=Europe/Ljubljana:20240610T110000
DTSTAMP:20260419T172253Z
UID:fs-AFLABS-URNIK:rezervacija:5016
ATTENDEE:Airline transport pilot (PAP-3)
CATEGORIES:Reservation
COLOR:royalblue
DESCRIPTION:Predmeti: Air navigaton 2 (LN2P)\nLetniki: Airline transport p
 ilot (PAP-3)\nIzvajalci: Andrej Grebenšek\nProstori: Lecture hall II/2
LOCATION:Lecture hall II/2
ORGANIZER:Andrej Grebenšek
X-WR-TIMEZONE:Europe/Ljubljana
END:VEVENT
BEGIN:VEVENT
SUMMARY:Izpit: Aeromehanika in letalske konstrukcije
DTSTART;TZID=Europe/Ljubljana:20240613T130000
DTEND;TZID=Europe/Ljubljana:20240613T150000
DTSTAMP:20260419T172253Z
UID:fs-AFLABS-URNIK:rezervacija:5092
ATTENDEE:Aircraft design and maintenance (PAP-2)
ATTENDEE:Airline transport pilot (PAP-2)
CATEGORIES:Reservation
COLOR:royalblue
DESCRIPTION:Predmeti: Aeromechanics and airframes (ALKP)\nLetniki: Aircraf
 t design and maintenance (PAP-2)\, Airline transport pilot (PAP-2)\nIzvaja
 lci: Andrej Grebenšek\nProstori: Lecture hall II/5
LOCATION:Lecture hall II/5
ORGANIZER:Andrej Grebenšek
X-WR-TIMEZONE:Europe/Ljubljana
END:VEVENT
BEGIN:VEVENT
SUMMARY:Izpit: Letalska navigacija 1
DTSTART;TZID=Europe/Ljubljana:20240618T090000
DTEND;TZID=Europe/Ljubljana:20240618T110000
DTSTAMP:20260419T172253Z
UID:fs-AFLABS-URNIK:rezervacija:5162
ATTENDEE:Airline transport pilot (PAP-3)
CATEGORIES:Reservation
COLOR:royalblue
DESCRIPTION:Predmeti: Air navigaton 1 (LN1P)\nLetniki: Airline transport p
 ilot (PAP-3)\nIzvajalci: Andrej Grebenšek\nProstori: Lecture hall II/2
LOCATION:Lecture hall II/2
ORGANIZER:Andrej Grebenšek
X-WR-TIMEZONE:Europe/Ljubljana
END:VEVENT
BEGIN:VEVENT
SUMMARY:Izpit: Letalska navigacija 1 (3087)
DTSTART;TZID=Europe/Ljubljana:20240618T090000
DTEND;TZID=Europe/Ljubljana:20240618T110000
DTSTAMP:20260419T172253Z
UID:fs-AFLABS-URNIK:rezervacija:5163
CATEGORIES:Reservation
COLOR:royalblue
DESCRIPTION:Predmeti: \nLetniki: \nIzvajalci: Andrej Grebenšek\nProstori:
  Lecture hall II/2
LOCATION:Lecture hall II/2
ORGANIZER:Andrej Grebenšek
X-WR-TIMEZONE:Europe/Ljubljana
END:VEVENT
BEGIN:VEVENT
SUMMARY:Izpit: Letalska aeromehanika in letalske konstrukcije (3044)
DTSTART;TZID=Europe/Ljubljana:20240619T080000
DTEND;TZID=Europe/Ljubljana:20240619T100000
DTSTAMP:20260419T172253Z
UID:fs-AFLABS-URNIK:rezervacija:5184
CATEGORIES:Reservation
COLOR:royalblue
DESCRIPTION:Predmeti: \nLetniki: \nIzvajalci: Andrej Grebenšek\nProstori:
  Lecture hall II/2
LOCATION:Lecture hall II/2
ORGANIZER:Andrej Grebenšek
X-WR-TIMEZONE:Europe/Ljubljana
END:VEVENT
BEGIN:VEVENT
SUMMARY:Izpit: Letalski instrumenti
DTSTART;TZID=Europe/Ljubljana:20240620T090000
DTEND;TZID=Europe/Ljubljana:20240620T110000
DTSTAMP:20260419T172253Z
UID:fs-AFLABS-URNIK:rezervacija:5214
ATTENDEE:Aircraft design and maintenance (PAP-2)
ATTENDEE:Airline transport pilot (PAP-2)
CATEGORIES:Reservation
COLOR:royalblue
DESCRIPTION:Predmeti: Aircraft instrumentation (LTIP)\nLetniki: Aircraft d
 esign and maintenance (PAP-2)\, Airline transport pilot (PAP-2)\nIzvajalci
 : Andrej Grebenšek\nProstori: Lecture hall II/2
LOCATION:Lecture hall II/2
ORGANIZER:Andrej Grebenšek
X-WR-TIMEZONE:Europe/Ljubljana
END:VEVENT
BEGIN:VEVENT
SUMMARY:Izpit: Letalska navigacija 2
DTSTART;TZID=Europe/Ljubljana:20240624T100000
DTEND;TZID=Europe/Ljubljana:20240624T120000
DTSTAMP:20260419T172253Z
UID:fs-AFLABS-URNIK:rezervacija:5269
ATTENDEE:Airline transport pilot (PAP-3)
CATEGORIES:Reservation
COLOR:royalblue
DESCRIPTION:Predmeti: Air navigaton 2 (LN2P)\nLetniki: Airline transport p
 ilot (PAP-3)\nIzvajalci: Andrej Grebenšek\nProstori: Lecture hall II/2
LOCATION:Lecture hall II/2
ORGANIZER:Andrej Grebenšek
X-WR-TIMEZONE:Europe/Ljubljana
END:VEVENT
BEGIN:VEVENT
SUMMARY:Izpit: Letalska navigacija 2 (3139)
DTSTART;TZID=Europe/Ljubljana:20240624T100000
DTEND;TZID=Europe/Ljubljana:20240624T120000
DTSTAMP:20260419T172253Z
UID:fs-AFLABS-URNIK:rezervacija:5270
CATEGORIES:Reservation
COLOR:royalblue
DESCRIPTION:Predmeti: \nLetniki: \nIzvajalci: Andrej Grebenšek\nProstori:
  Lecture hall II/2
LOCATION:Lecture hall II/2
ORGANIZER:Andrej Grebenšek
X-WR-TIMEZONE:Europe/Ljubljana
END:VEVENT
BEGIN:VEVENT
SUMMARY:Izpit: Aeromehanika in letalske konstrukcije
DTSTART;TZID=Europe/Ljubljana:20240627T080000
DTEND;TZID=Europe/Ljubljana:20240627T100000
DTSTAMP:20260419T172253Z
UID:fs-AFLABS-URNIK:rezervacija:5335
ATTENDEE:Aircraft design and maintenance (PAP-2)
ATTENDEE:Airline transport pilot (PAP-2)
CATEGORIES:Reservation
COLOR:royalblue
DESCRIPTION:Predmeti: Aeromechanics and airframes (ALKP)\nLetniki: Aircraf
 t design and maintenance (PAP-2)\, Airline transport pilot (PAP-2)\nIzvaja
 lci: Andrej Grebenšek\nProstori: Lecture hall IV/3A
LOCATION:Lecture hall IV/3A
ORGANIZER:Andrej Grebenšek
X-WR-TIMEZONE:Europe/Ljubljana
END:VEVENT
BEGIN:VEVENT
SUMMARY:Izpit: Sistemi na letalu
DTSTART;TZID=Europe/Ljubljana:20240812T090000
DTEND;TZID=Europe/Ljubljana:20240812T110000
DTSTAMP:20260419T172253Z
UID:fs-AFLABS-URNIK:rezervacija:5387
ATTENDEE:Aircraft design and maintenance (PAP-3)
ATTENDEE:Airline transport pilot (PAP-3)
CATEGORIES:Reservation
COLOR:royalblue
DESCRIPTION:Predmeti: Aircraft systems (SNLP)\nLetniki: Aircraft design an
 d maintenance (PAP-3)\, Airline transport pilot (PAP-3)\nIzvajalci: Andrej
  Grebenšek\nProstori: Lecture hall II/5
LOCATION:Lecture hall II/5
ORGANIZER:Andrej Grebenšek
X-WR-TIMEZONE:Europe/Ljubljana
END:VEVENT
BEGIN:VEVENT
SUMMARY:Izpit: Sistemi na letalu (3085)
DTSTART;TZID=Europe/Ljubljana:20240812T090000
DTEND;TZID=Europe/Ljubljana:20240812T110000
DTSTAMP:20260419T172253Z
UID:fs-AFLABS-URNIK:rezervacija:5388
CATEGORIES:Reservation
COLOR:royalblue
DESCRIPTION:Predmeti: \nLetniki: \nIzvajalci: Andrej Grebenšek\nProstori:
  Lecture hall II/5
LOCATION:Lecture hall II/5
ORGANIZER:Andrej Grebenšek
X-WR-TIMEZONE:Europe/Ljubljana
END:VEVENT
END:VCALENDAR
