BEGIN:VCALENDAR
VERSION:2.0
PRODID:-//AFLabs urnik izvoz - fs//aflabs.si//SI
NAME:UL FS Urnik
X-WR-CALNAME:UL FS Urnik
DTSTAMP:20260420T002113Z
REFRESH-INTERVAL:PT1H
SOURCE:https://urnik.fs.uni-lj.si/en/teacher/683/?day=2025-04-07&export=1
URL:https://urnik.fs.uni-lj.si/en/teacher/683/?day=2025-04-07&export=1
X-PUBLISHED-TTL:PT1H
X-WR-TIMEZONE:Europe/Ljubljana
BEGIN:VTIMEZONE
TZID:Europe/Ljubljana
BEGIN:DAYLIGHT
DTSTART:20260329T020000
RDATE:20260329T020000
RDATE:20270328T020000
TZNAME:CEST
TZOFFSETFROM:+0100
TZOFFSETTO:+0200
END:DAYLIGHT
BEGIN:STANDARD
DTSTART:20261025T030000
RDATE:20261025T030000
RDATE:20271031T030000
TZNAME:CET
TZOFFSETFROM:+0200
TZOFFSETTO:+0100
END:STANDARD
END:VTIMEZONE
BEGIN:VEVENT
SUMMARY:Air navigaton 2 (LN2P)\, Lectures (P)
DTSTART;TZID=Europe/Ljubljana:20250217T073000
DTEND;TZID=Europe/Ljubljana:20250217T100000
DTSTAMP:20260420T002113Z
UID:fs-AFLABS-URNIK:srecanje:8153-2025-02-17 07:30:00+01:00
DESCRIPTION:Predmet: Air navigaton 2 (LN2P)\, Lectures (P)\nLetniki: Airli
 ne transport pilot (PAP-3)\nIzvajalci: Andrej Grebenšek\nProstor: Lecture
  hall II/3B
END:VEVENT
BEGIN:VEVENT
SUMMARY:Air navigaton 2 (LN2P)\, Lectures (P)
DTSTART;TZID=Europe/Ljubljana:20250224T073000
DTEND;TZID=Europe/Ljubljana:20250224T100000
DTSTAMP:20260420T002113Z
UID:fs-AFLABS-URNIK:srecanje:9646-2025-02-24 07:30:00+01:00
DESCRIPTION:Predmet: Air navigaton 2 (LN2P)\, Lectures (P)\nLetniki: Airli
 ne transport pilot (PAP-3)\nIzvajalci: Andrej Grebenšek\nProstor: Lecture
  hall II/3A
END:VEVENT
BEGIN:VEVENT
SUMMARY:Air navigaton 2 (LN2P)\, Lectures (P)
DTSTART;TZID=Europe/Ljubljana:20250303T073000
DTEND;TZID=Europe/Ljubljana:20250303T100000
DTSTAMP:20260420T002113Z
UID:fs-AFLABS-URNIK:srecanje:9646-2025-03-03 07:30:00+01:00
DESCRIPTION:Predmet: Air navigaton 2 (LN2P)\, Lectures (P)\nLetniki: Airli
 ne transport pilot (PAP-3)\nIzvajalci: Andrej Grebenšek\nProstor: Lecture
  hall II/3A
END:VEVENT
BEGIN:VEVENT
SUMMARY:Air navigaton 2 (LN2P)\, Lectures (P)
DTSTART;TZID=Europe/Ljubljana:20250310T073000
DTEND;TZID=Europe/Ljubljana:20250310T100000
DTSTAMP:20260420T002113Z
UID:fs-AFLABS-URNIK:srecanje:9646-2025-03-10 07:30:00+01:00
DESCRIPTION:Predmet: Air navigaton 2 (LN2P)\, Lectures (P)\nLetniki: Airli
 ne transport pilot (PAP-3)\nIzvajalci: Andrej Grebenšek\nProstor: Lecture
  hall II/3A
END:VEVENT
BEGIN:VEVENT
SUMMARY:Air navigaton 2 (LN2P)\, Lectures (P)
DTSTART;TZID=Europe/Ljubljana:20250317T073000
DTEND;TZID=Europe/Ljubljana:20250317T100000
DTSTAMP:20260420T002113Z
UID:fs-AFLABS-URNIK:srecanje:9646-2025-03-17 07:30:00+01:00
DESCRIPTION:Predmet: Air navigaton 2 (LN2P)\, Lectures (P)\nLetniki: Airli
 ne transport pilot (PAP-3)\nIzvajalci: Andrej Grebenšek\nProstor: Lecture
  hall II/3A
END:VEVENT
BEGIN:VEVENT
SUMMARY:Air navigaton 2 (LN2P)\, Lectures (P)
DTSTART;TZID=Europe/Ljubljana:20250324T073000
DTEND;TZID=Europe/Ljubljana:20250324T100000
DTSTAMP:20260420T002113Z
UID:fs-AFLABS-URNIK:srecanje:9646-2025-03-24 07:30:00+01:00
DESCRIPTION:Predmet: Air navigaton 2 (LN2P)\, Lectures (P)\nLetniki: Airli
 ne transport pilot (PAP-3)\nIzvajalci: Andrej Grebenšek\nProstor: Lecture
  hall II/3A
END:VEVENT
BEGIN:VEVENT
SUMMARY:Air navigaton 2 (LN2P)\, Lectures (P)
DTSTART;TZID=Europe/Ljubljana:20250331T073000
DTEND;TZID=Europe/Ljubljana:20250331T100000
DTSTAMP:20260420T002113Z
UID:fs-AFLABS-URNIK:srecanje:9646-2025-03-31 07:30:00+02:00
DESCRIPTION:Predmet: Air navigaton 2 (LN2P)\, Lectures (P)\nLetniki: Airli
 ne transport pilot (PAP-3)\nIzvajalci: Andrej Grebenšek\nProstor: Lecture
  hall II/3A
END:VEVENT
BEGIN:VEVENT
SUMMARY:Air navigaton 2 (LN2P)\, Lectures (P)
DTSTART;TZID=Europe/Ljubljana:20250407T073000
DTEND;TZID=Europe/Ljubljana:20250407T100000
DTSTAMP:20260420T002113Z
UID:fs-AFLABS-URNIK:srecanje:9646-2025-04-07 07:30:00+02:00
DESCRIPTION:Predmet: Air navigaton 2 (LN2P)\, Lectures (P)\nLetniki: Airli
 ne transport pilot (PAP-3)\nIzvajalci: Andrej Grebenšek\nProstor: Lecture
  hall II/3A
END:VEVENT
BEGIN:VEVENT
SUMMARY:Air navigaton 2 (LN2P)\, Lectures (P)
DTSTART;TZID=Europe/Ljubljana:20250414T073000
DTEND;TZID=Europe/Ljubljana:20250414T100000
DTSTAMP:20260420T002113Z
UID:fs-AFLABS-URNIK:srecanje:9646-2025-04-14 07:30:00+02:00
DESCRIPTION:Predmet: Air navigaton 2 (LN2P)\, Lectures (P)\nLetniki: Airli
 ne transport pilot (PAP-3)\nIzvajalci: Andrej Grebenšek\nProstor: Lecture
  hall II/3A
END:VEVENT
BEGIN:VEVENT
SUMMARY:Air navigaton 2 (LN2P)\, Lectures (P)
DTSTART;TZID=Europe/Ljubljana:20250421T073000
DTEND;TZID=Europe/Ljubljana:20250421T100000
DTSTAMP:20260420T002113Z
UID:fs-AFLABS-URNIK:srecanje:9646-2025-04-21 07:30:00+02:00
DESCRIPTION:Predmet: Air navigaton 2 (LN2P)\, Lectures (P)\nLetniki: Airli
 ne transport pilot (PAP-3)\nIzvajalci: Andrej Grebenšek\nProstor: Lecture
  hall II/3A
END:VEVENT
BEGIN:VEVENT
SUMMARY:Air navigaton 2 (LN2P)\, Lectures (P)
DTSTART;TZID=Europe/Ljubljana:20250428T073000
DTEND;TZID=Europe/Ljubljana:20250428T100000
DTSTAMP:20260420T002113Z
UID:fs-AFLABS-URNIK:srecanje:9646-2025-04-28 07:30:00+02:00
DESCRIPTION:Predmet: Air navigaton 2 (LN2P)\, Lectures (P)\nLetniki: Airli
 ne transport pilot (PAP-3)\nIzvajalci: Andrej Grebenšek\nProstor: Lecture
  hall II/3A
END:VEVENT
BEGIN:VEVENT
SUMMARY:Air navigaton 2 (LN2P)\, Lectures (P)
DTSTART;TZID=Europe/Ljubljana:20250505T073000
DTEND;TZID=Europe/Ljubljana:20250505T100000
DTSTAMP:20260420T002113Z
UID:fs-AFLABS-URNIK:srecanje:9646-2025-05-05 07:30:00+02:00
DESCRIPTION:Predmet: Air navigaton 2 (LN2P)\, Lectures (P)\nLetniki: Airli
 ne transport pilot (PAP-3)\nIzvajalci: Andrej Grebenšek\nProstor: Lecture
  hall II/3A
END:VEVENT
BEGIN:VEVENT
SUMMARY:Air navigaton 2 (LN2P)\, Lectures (P)
DTSTART;TZID=Europe/Ljubljana:20250512T073000
DTEND;TZID=Europe/Ljubljana:20250512T100000
DTSTAMP:20260420T002113Z
UID:fs-AFLABS-URNIK:srecanje:9646-2025-05-12 07:30:00+02:00
DESCRIPTION:Predmet: Air navigaton 2 (LN2P)\, Lectures (P)\nLetniki: Airli
 ne transport pilot (PAP-3)\nIzvajalci: Andrej Grebenšek\nProstor: Lecture
  hall II/3A
END:VEVENT
BEGIN:VEVENT
SUMMARY:Air navigaton 2 (LN2P)\, Lectures (P)
DTSTART;TZID=Europe/Ljubljana:20250519T073000
DTEND;TZID=Europe/Ljubljana:20250519T100000
DTSTAMP:20260420T002113Z
UID:fs-AFLABS-URNIK:srecanje:9646-2025-05-19 07:30:00+02:00
DESCRIPTION:Predmet: Air navigaton 2 (LN2P)\, Lectures (P)\nLetniki: Airli
 ne transport pilot (PAP-3)\nIzvajalci: Andrej Grebenšek\nProstor: Lecture
  hall II/3A
END:VEVENT
BEGIN:VEVENT
SUMMARY:Air navigaton 2 (LN2P)\, Lectures (P)
DTSTART;TZID=Europe/Ljubljana:20250526T073000
DTEND;TZID=Europe/Ljubljana:20250526T100000
DTSTAMP:20260420T002113Z
UID:fs-AFLABS-URNIK:srecanje:9646-2025-05-26 07:30:00+02:00
DESCRIPTION:Predmet: Air navigaton 2 (LN2P)\, Lectures (P)\nLetniki: Airli
 ne transport pilot (PAP-3)\nIzvajalci: Andrej Grebenšek\nProstor: Lecture
  hall II/3A
END:VEVENT
BEGIN:VEVENT
SUMMARY:Letalska navigacija 2 zagovori
DTSTART;TZID=Europe/Ljubljana:20250522T083000
DTEND;TZID=Europe/Ljubljana:20250522T100000
DTSTAMP:20260420T002113Z
UID:fs-AFLABS-URNIK:rezervacija:10129
ATTENDEE:Airline transport pilot (PAP-3)
CATEGORIES:Reservation
COLOR:royalblue
DESCRIPTION:Predmeti: Air navigaton 2 (LN2P)\nLetniki: Airline transport p
 ilot (PAP-3)\nIzvajalci: Andrej Grebenšek\nProstori: Lecture hall II/3B
LOCATION:Lecture hall II/3B
ORGANIZER:Andrej Grebenšek
X-WR-TIMEZONE:Europe/Ljubljana
END:VEVENT
END:VCALENDAR
