BEGIN:VCALENDAR
VERSION:2.0
PRODID:-//AFLabs urnik izvoz - fs//aflabs.si//SI
NAME:UL FS Urnik
X-WR-CALNAME:UL FS Urnik
DTSTAMP:20260420T071252Z
REFRESH-INTERVAL:PT1H
SOURCE:https://urnik.fs.uni-lj.si/en/teacher/683/?day=2025-07-07&export=1
URL:https://urnik.fs.uni-lj.si/en/teacher/683/?day=2025-07-07&export=1
X-PUBLISHED-TTL:PT1H
X-WR-TIMEZONE:Europe/Ljubljana
BEGIN:VTIMEZONE
TZID:Europe/Ljubljana
BEGIN:DAYLIGHT
DTSTART:20260329T020000
RDATE:20260329T020000
RDATE:20270328T020000
TZNAME:CEST
TZOFFSETFROM:+0100
TZOFFSETTO:+0200
END:DAYLIGHT
BEGIN:STANDARD
DTSTART:20261025T030000
RDATE:20261025T030000
RDATE:20271031T030000
TZNAME:CET
TZOFFSETFROM:+0200
TZOFFSETTO:+0100
END:STANDARD
END:VTIMEZONE
BEGIN:VEVENT
SUMMARY:Izpit: Aeromehanika in letalske konstrukcije (3080-V) [dve oceni]
DTSTART;TZID=Europe/Ljubljana:20250612T130000
DTEND;TZID=Europe/Ljubljana:20250612T150000
DTSTAMP:20260420T071252Z
UID:fs-AFLABS-URNIK:rezervacija:6395
CATEGORIES:Reservation
COLOR:royalblue
DESCRIPTION:Predmeti: \nLetniki: \nIzvajalci: Andrej Grebenšek\nProstori:
  Lecture hall II/5
LOCATION:Lecture hall II/5
ORGANIZER:Andrej Grebenšek
X-WR-TIMEZONE:Europe/Ljubljana
END:VEVENT
BEGIN:VEVENT
SUMMARY:Izpit: Aeromehanika in letalske konstrukcije (3080-V) [dve oceni]
DTSTART;TZID=Europe/Ljubljana:20250626T080000
DTEND;TZID=Europe/Ljubljana:20250626T100000
DTSTAMP:20260420T071252Z
UID:fs-AFLABS-URNIK:rezervacija:6396
CATEGORIES:Reservation
COLOR:royalblue
DESCRIPTION:Predmeti: \nLetniki: \nIzvajalci: Andrej Grebenšek\nProstori:
  Lecture hall IV/3A
LOCATION:Lecture hall IV/3A
ORGANIZER:Andrej Grebenšek
X-WR-TIMEZONE:Europe/Ljubljana
END:VEVENT
BEGIN:VEVENT
SUMMARY:Izpit: Letalska aeromehanika in letalske konstrukcije (3044)
DTSTART;TZID=Europe/Ljubljana:20250618T080000
DTEND;TZID=Europe/Ljubljana:20250618T100000
DTSTAMP:20260420T071252Z
UID:fs-AFLABS-URNIK:rezervacija:6856
CATEGORIES:Reservation
COLOR:royalblue
DESCRIPTION:Predmeti: \nLetniki: \nIzvajalci: Andrej Grebenšek\nProstori:
  Lecture hall II/4
LOCATION:Lecture hall II/4
ORGANIZER:Andrej Grebenšek
X-WR-TIMEZONE:Europe/Ljubljana
END:VEVENT
BEGIN:VEVENT
SUMMARY:Izpit: Letalska frazeologija (3087-V) [dve oceni]
DTSTART;TZID=Europe/Ljubljana:20250619T130000
DTEND;TZID=Europe/Ljubljana:20250619T150000
DTSTAMP:20260420T071252Z
UID:fs-AFLABS-URNIK:rezervacija:6860
CATEGORIES:Reservation
COLOR:royalblue
DESCRIPTION:Predmeti: \nLetniki: \nIzvajalci: Andrej Grebenšek\nProstori:
  Lecture hall IV/3A
LOCATION:Lecture hall IV/3A
ORGANIZER:Andrej Grebenšek
X-WR-TIMEZONE:Europe/Ljubljana
END:VEVENT
BEGIN:VEVENT
SUMMARY:Izpit: Letalska navigacija 1 (3086-V) [dve oceni]
DTSTART;TZID=Europe/Ljubljana:20250617T090000
DTEND;TZID=Europe/Ljubljana:20250617T110000
DTSTAMP:20260420T071252Z
UID:fs-AFLABS-URNIK:rezervacija:6879
CATEGORIES:Reservation
COLOR:royalblue
DESCRIPTION:Predmeti: \nLetniki: \nIzvajalci: Andrej Grebenšek\nProstori:
  Lecture hall II/4
LOCATION:Lecture hall II/4
ORGANIZER:Andrej Grebenšek
X-WR-TIMEZONE:Europe/Ljubljana
END:VEVENT
BEGIN:VEVENT
SUMMARY:Izpit: Letalska navigacija 1 (3087)
DTSTART;TZID=Europe/Ljubljana:20250617T090000
DTEND;TZID=Europe/Ljubljana:20250617T110000
DTSTAMP:20260420T071252Z
UID:fs-AFLABS-URNIK:rezervacija:6882
CATEGORIES:Reservation
COLOR:royalblue
DESCRIPTION:Predmeti: \nLetniki: \nIzvajalci: Andrej Grebenšek\nProstori:
  Lecture hall II/4
LOCATION:Lecture hall II/4
ORGANIZER:Andrej Grebenšek
X-WR-TIMEZONE:Europe/Ljubljana
END:VEVENT
BEGIN:VEVENT
SUMMARY:Izpit: Letalska navigacija 2 (3088-V) [dve oceni]
DTSTART;TZID=Europe/Ljubljana:20250609T090000
DTEND;TZID=Europe/Ljubljana:20250609T110000
DTSTAMP:20260420T071252Z
UID:fs-AFLABS-URNIK:rezervacija:6884
CATEGORIES:Reservation
COLOR:royalblue
DESCRIPTION:Predmeti: \nLetniki: \nIzvajalci: Andrej Grebenšek\nProstori:
  Lecture hall II/2
LOCATION:Lecture hall II/2
ORGANIZER:Andrej Grebenšek
X-WR-TIMEZONE:Europe/Ljubljana
END:VEVENT
BEGIN:VEVENT
SUMMARY:Izpit: Letalska navigacija 2 (3088-V) [dve oceni]
DTSTART;TZID=Europe/Ljubljana:20250623T100000
DTEND;TZID=Europe/Ljubljana:20250623T120000
DTSTAMP:20260420T071252Z
UID:fs-AFLABS-URNIK:rezervacija:6885
CATEGORIES:Reservation
COLOR:royalblue
DESCRIPTION:Predmeti: \nLetniki: \nIzvajalci: Andrej Grebenšek\nProstori:
  Lecture hall II/2
LOCATION:Lecture hall II/2
ORGANIZER:Andrej Grebenšek
X-WR-TIMEZONE:Europe/Ljubljana
END:VEVENT
BEGIN:VEVENT
SUMMARY:Izpit: Letalska navigacija 2 (3139)
DTSTART;TZID=Europe/Ljubljana:20250623T100000
DTEND;TZID=Europe/Ljubljana:20250623T120000
DTSTAMP:20260420T071252Z
UID:fs-AFLABS-URNIK:rezervacija:6888
CATEGORIES:Reservation
COLOR:royalblue
DESCRIPTION:Predmeti: \nLetniki: \nIzvajalci: Andrej Grebenšek\nProstori:
  Lecture hall II/2
LOCATION:Lecture hall II/2
ORGANIZER:Andrej Grebenšek
X-WR-TIMEZONE:Europe/Ljubljana
END:VEVENT
BEGIN:VEVENT
SUMMARY:Izpit: Letalski instrumenti (3027)
DTSTART;TZID=Europe/Ljubljana:20250605T090000
DTEND;TZID=Europe/Ljubljana:20250605T110000
DTSTAMP:20260420T071252Z
UID:fs-AFLABS-URNIK:rezervacija:6891
CATEGORIES:Reservation
COLOR:royalblue
DESCRIPTION:Predmeti: \nLetniki: \nIzvajalci: Andrej Grebenšek\nProstori:
  Lecture hall II/2
LOCATION:Lecture hall II/2
ORGANIZER:Andrej Grebenšek
X-WR-TIMEZONE:Europe/Ljubljana
END:VEVENT
BEGIN:VEVENT
SUMMARY:Izpit: Letalski instrumenti (3078-V) [dve oceni]
DTSTART;TZID=Europe/Ljubljana:20250605T090000
DTEND;TZID=Europe/Ljubljana:20250605T110000
DTSTAMP:20260420T071252Z
UID:fs-AFLABS-URNIK:rezervacija:6893
CATEGORIES:Reservation
COLOR:royalblue
DESCRIPTION:Predmeti: \nLetniki: \nIzvajalci: Andrej Grebenšek\nProstori:
  Lecture hall II/2
LOCATION:Lecture hall II/2
ORGANIZER:Andrej Grebenšek
X-WR-TIMEZONE:Europe/Ljubljana
END:VEVENT
BEGIN:VEVENT
SUMMARY:Izpit: Letalski instrumenti (3078-V) [dve oceni]
DTSTART;TZID=Europe/Ljubljana:20250619T090000
DTEND;TZID=Europe/Ljubljana:20250619T110000
DTSTAMP:20260420T071252Z
UID:fs-AFLABS-URNIK:rezervacija:6894
CATEGORIES:Reservation
COLOR:royalblue
DESCRIPTION:Predmeti: \nLetniki: \nIzvajalci: Andrej Grebenšek\nProstori:
  Lecture hall II/4
LOCATION:Lecture hall II/4
ORGANIZER:Andrej Grebenšek
X-WR-TIMEZONE:Europe/Ljubljana
END:VEVENT
BEGIN:VEVENT
SUMMARY:Izpit: Sistemi na letalu (3083-V) [dve oceni]
DTSTART;TZID=Europe/Ljubljana:20250603T090000
DTEND;TZID=Europe/Ljubljana:20250603T110000
DTSTAMP:20260420T071252Z
UID:fs-AFLABS-URNIK:rezervacija:7514
CATEGORIES:Reservation
COLOR:royalblue
DESCRIPTION:Predmeti: \nLetniki: \nIzvajalci: Andrej Grebenšek\nProstori:
  Lecture hall II/2
LOCATION:Lecture hall II/2
ORGANIZER:Andrej Grebenšek
X-WR-TIMEZONE:Europe/Ljubljana
END:VEVENT
BEGIN:VEVENT
SUMMARY:Izpit: Sistemi na letalu (3083-V) [dve oceni]
DTSTART;TZID=Europe/Ljubljana:20250811T090000
DTEND;TZID=Europe/Ljubljana:20250811T110000
DTSTAMP:20260420T071252Z
UID:fs-AFLABS-URNIK:rezervacija:7515
CATEGORIES:Reservation
COLOR:royalblue
DESCRIPTION:Predmeti: \nLetniki: \nIzvajalci: Andrej Grebenšek\nProstori:
  Lecture hall II/5
LOCATION:Lecture hall II/5
ORGANIZER:Andrej Grebenšek
X-WR-TIMEZONE:Europe/Ljubljana
END:VEVENT
BEGIN:VEVENT
SUMMARY:Izpit: Sistemi na letalu (3085)
DTSTART;TZID=Europe/Ljubljana:20250603T090000
DTEND;TZID=Europe/Ljubljana:20250603T110000
DTSTAMP:20260420T071252Z
UID:fs-AFLABS-URNIK:rezervacija:7517
CATEGORIES:Reservation
COLOR:royalblue
DESCRIPTION:Predmeti: \nLetniki: \nIzvajalci: Andrej Grebenšek\nProstori:
  Lecture hall II/2
LOCATION:Lecture hall II/2
ORGANIZER:Andrej Grebenšek
X-WR-TIMEZONE:Europe/Ljubljana
END:VEVENT
BEGIN:VEVENT
SUMMARY:Izpit: Sistemi na letalu (3085)
DTSTART;TZID=Europe/Ljubljana:20250811T090000
DTEND;TZID=Europe/Ljubljana:20250811T110000
DTSTAMP:20260420T071252Z
UID:fs-AFLABS-URNIK:rezervacija:7518
CATEGORIES:Reservation
COLOR:royalblue
DESCRIPTION:Predmeti: \nLetniki: \nIzvajalci: Andrej Grebenšek\nProstori:
  Lecture hall II/5
LOCATION:Lecture hall II/5
ORGANIZER:Andrej Grebenšek
X-WR-TIMEZONE:Europe/Ljubljana
END:VEVENT
BEGIN:VEVENT
SUMMARY:Zagovori NAV2
DTSTART;TZID=Europe/Ljubljana:20250603T130000
DTEND;TZID=Europe/Ljubljana:20250603T153000
DTSTAMP:20260420T071252Z
UID:fs-AFLABS-URNIK:rezervacija:10206
ATTENDEE:Airline transport pilot (PAP-3)
CATEGORIES:Reservation
COLOR:royalblue
DESCRIPTION:Predmeti: Air navigaton 2 (LN2P)\nLetniki: Airline transport p
 ilot (PAP-3)\nIzvajalci: Andrej Grebenšek\nProstori: Lecture hall II/3A
LOCATION:Lecture hall II/3A
ORGANIZER:Andrej Grebenšek
X-WR-TIMEZONE:Europe/Ljubljana
END:VEVENT
END:VCALENDAR
