BEGIN:VCALENDAR
VERSION:2.0
PRODID:-//AFLabs urnik izvoz - fs//aflabs.si//SI
NAME:UL FS Urnik
X-WR-CALNAME:UL FS Urnik
DTSTAMP:20260423T224556Z
REFRESH-INTERVAL:PT1H
SOURCE:https://urnik.fs.uni-lj.si/en/teacher/683/?day=2025-12-08&export=1
URL:https://urnik.fs.uni-lj.si/en/teacher/683/?day=2025-12-08&export=1
X-PUBLISHED-TTL:PT1H
X-WR-TIMEZONE:Europe/Ljubljana
BEGIN:VTIMEZONE
TZID:Europe/Ljubljana
BEGIN:DAYLIGHT
DTSTART:20260329T020000
RDATE:20260329T020000
RDATE:20270328T020000
TZNAME:CEST
TZOFFSETFROM:+0100
TZOFFSETTO:+0200
END:DAYLIGHT
BEGIN:STANDARD
DTSTART:20261025T030000
RDATE:20261025T030000
RDATE:20271031T030000
TZNAME:CET
TZOFFSETFROM:+0200
TZOFFSETTO:+0100
END:STANDARD
END:VTIMEZONE
BEGIN:VEVENT
SUMMARY:Aircraft systems (SNLP)\, Lectures (P)
DTSTART;TZID=Europe/Ljubljana:20250930T100000
DTEND;TZID=Europe/Ljubljana:20250930T113000
DTSTAMP:20260423T224556Z
UID:fs-AFLABS-URNIK:srecanje:16029-2025-09-30 10:00:00+02:00
DESCRIPTION:Predmet: Aircraft systems (SNLP)\, Lectures (P)\nLetniki: Airc
 raft design and maintenance (PAP-3)\, Airline transport pilot (PAP-3)\nIzv
 ajalci: Andrej Grebenšek\nProstor: Computer lecture room SP-24
END:VEVENT
BEGIN:VEVENT
SUMMARY:Aircraft systems (SNLP)\, Lectures (P)
DTSTART;TZID=Europe/Ljubljana:20251007T100000
DTEND;TZID=Europe/Ljubljana:20251007T113000
DTSTAMP:20260423T224556Z
UID:fs-AFLABS-URNIK:srecanje:16029-2025-10-07 10:00:00+02:00
DESCRIPTION:Predmet: Aircraft systems (SNLP)\, Lectures (P)\nLetniki: Airc
 raft design and maintenance (PAP-3)\, Airline transport pilot (PAP-3)\nIzv
 ajalci: Andrej Grebenšek\nProstor: Computer lecture room SP-24
END:VEVENT
BEGIN:VEVENT
SUMMARY:Aircraft systems (SNLP)\, Lectures (P)
DTSTART;TZID=Europe/Ljubljana:20251014T100000
DTEND;TZID=Europe/Ljubljana:20251014T113000
DTSTAMP:20260423T224556Z
UID:fs-AFLABS-URNIK:srecanje:16029-2025-10-14 10:00:00+02:00
DESCRIPTION:Predmet: Aircraft systems (SNLP)\, Lectures (P)\nLetniki: Airc
 raft design and maintenance (PAP-3)\, Airline transport pilot (PAP-3)\nIzv
 ajalci: Andrej Grebenšek\nProstor: Computer lecture room SP-24
END:VEVENT
BEGIN:VEVENT
SUMMARY:Aircraft systems (SNLP)\, Lectures (P)
DTSTART;TZID=Europe/Ljubljana:20251021T100000
DTEND;TZID=Europe/Ljubljana:20251021T113000
DTSTAMP:20260423T224556Z
UID:fs-AFLABS-URNIK:srecanje:16029-2025-10-21 10:00:00+02:00
DESCRIPTION:Predmet: Aircraft systems (SNLP)\, Lectures (P)\nLetniki: Airc
 raft design and maintenance (PAP-3)\, Airline transport pilot (PAP-3)\nIzv
 ajalci: Andrej Grebenšek\nProstor: Computer lecture room SP-24
END:VEVENT
BEGIN:VEVENT
SUMMARY:Aircraft systems (SNLP)\, Lectures (P)
DTSTART;TZID=Europe/Ljubljana:20251028T100000
DTEND;TZID=Europe/Ljubljana:20251028T113000
DTSTAMP:20260423T224556Z
UID:fs-AFLABS-URNIK:srecanje:16029-2025-10-28 10:00:00+01:00
DESCRIPTION:Predmet: Aircraft systems (SNLP)\, Lectures (P)\nLetniki: Airc
 raft design and maintenance (PAP-3)\, Airline transport pilot (PAP-3)\nIzv
 ajalci: Andrej Grebenšek\nProstor: Computer lecture room SP-24
END:VEVENT
BEGIN:VEVENT
SUMMARY:Aircraft systems (SNLP)\, Lectures (P)
DTSTART;TZID=Europe/Ljubljana:20251104T100000
DTEND;TZID=Europe/Ljubljana:20251104T113000
DTSTAMP:20260423T224556Z
UID:fs-AFLABS-URNIK:srecanje:16029-2025-11-04 10:00:00+01:00
DESCRIPTION:Predmet: Aircraft systems (SNLP)\, Lectures (P)\nLetniki: Airc
 raft design and maintenance (PAP-3)\, Airline transport pilot (PAP-3)\nIzv
 ajalci: Andrej Grebenšek\nProstor: Computer lecture room SP-24
END:VEVENT
BEGIN:VEVENT
SUMMARY:Aircraft systems (SNLP)\, Lectures (P)
DTSTART;TZID=Europe/Ljubljana:20251111T100000
DTEND;TZID=Europe/Ljubljana:20251111T113000
DTSTAMP:20260423T224556Z
UID:fs-AFLABS-URNIK:srecanje:16029-2025-11-11 10:00:00+01:00
DESCRIPTION:Predmet: Aircraft systems (SNLP)\, Lectures (P)\nLetniki: Airc
 raft design and maintenance (PAP-3)\, Airline transport pilot (PAP-3)\nIzv
 ajalci: Andrej Grebenšek\nProstor: Computer lecture room SP-24
END:VEVENT
BEGIN:VEVENT
SUMMARY:Aircraft systems (SNLP)\, Lectures (P)
DTSTART;TZID=Europe/Ljubljana:20251118T100000
DTEND;TZID=Europe/Ljubljana:20251118T113000
DTSTAMP:20260423T224556Z
UID:fs-AFLABS-URNIK:srecanje:16029-2025-11-18 10:00:00+01:00
DESCRIPTION:Predmet: Aircraft systems (SNLP)\, Lectures (P)\nLetniki: Airc
 raft design and maintenance (PAP-3)\, Airline transport pilot (PAP-3)\nIzv
 ajalci: Andrej Grebenšek\nProstor: Computer lecture room SP-24
END:VEVENT
BEGIN:VEVENT
SUMMARY:Aircraft systems (SNLP)\, Lectures (P)
DTSTART;TZID=Europe/Ljubljana:20251125T100000
DTEND;TZID=Europe/Ljubljana:20251125T113000
DTSTAMP:20260423T224556Z
UID:fs-AFLABS-URNIK:srecanje:16029-2025-11-25 10:00:00+01:00
DESCRIPTION:Predmet: Aircraft systems (SNLP)\, Lectures (P)\nLetniki: Airc
 raft design and maintenance (PAP-3)\, Airline transport pilot (PAP-3)\nIzv
 ajalci: Andrej Grebenšek\nProstor: Computer lecture room SP-24
END:VEVENT
BEGIN:VEVENT
SUMMARY:Aircraft systems (SNLP)\, Lectures (P)
DTSTART;TZID=Europe/Ljubljana:20251202T100000
DTEND;TZID=Europe/Ljubljana:20251202T113000
DTSTAMP:20260423T224556Z
UID:fs-AFLABS-URNIK:srecanje:16029-2025-12-02 10:00:00+01:00
DESCRIPTION:Predmet: Aircraft systems (SNLP)\, Lectures (P)\nLetniki: Airc
 raft design and maintenance (PAP-3)\, Airline transport pilot (PAP-3)\nIzv
 ajalci: Andrej Grebenšek\nProstor: Computer lecture room SP-24
END:VEVENT
BEGIN:VEVENT
SUMMARY:Aircraft systems (SNLP)\, Lectures (P)
DTSTART;TZID=Europe/Ljubljana:20251209T100000
DTEND;TZID=Europe/Ljubljana:20251209T113000
DTSTAMP:20260423T224556Z
UID:fs-AFLABS-URNIK:srecanje:16029-2025-12-09 10:00:00+01:00
DESCRIPTION:Predmet: Aircraft systems (SNLP)\, Lectures (P)\nLetniki: Airc
 raft design and maintenance (PAP-3)\, Airline transport pilot (PAP-3)\nIzv
 ajalci: Andrej Grebenšek\nProstor: Computer lecture room SP-24
END:VEVENT
BEGIN:VEVENT
SUMMARY:Aircraft systems (SNLP)\, Lectures (P)
DTSTART;TZID=Europe/Ljubljana:20251216T100000
DTEND;TZID=Europe/Ljubljana:20251216T113000
DTSTAMP:20260423T224556Z
UID:fs-AFLABS-URNIK:srecanje:16029-2025-12-16 10:00:00+01:00
DESCRIPTION:Predmet: Aircraft systems (SNLP)\, Lectures (P)\nLetniki: Airc
 raft design and maintenance (PAP-3)\, Airline transport pilot (PAP-3)\nIzv
 ajalci: Andrej Grebenšek\nProstor: Computer lecture room SP-24
END:VEVENT
BEGIN:VEVENT
SUMMARY:Aircraft systems (SNLP)\, Lectures (P)
DTSTART;TZID=Europe/Ljubljana:20251223T100000
DTEND;TZID=Europe/Ljubljana:20251223T113000
DTSTAMP:20260423T224556Z
UID:fs-AFLABS-URNIK:srecanje:16029-2025-12-23 10:00:00+01:00
DESCRIPTION:Predmet: Aircraft systems (SNLP)\, Lectures (P)\nLetniki: Airc
 raft design and maintenance (PAP-3)\, Airline transport pilot (PAP-3)\nIzv
 ajalci: Andrej Grebenšek\nProstor: Computer lecture room SP-24
END:VEVENT
BEGIN:VEVENT
SUMMARY:Aircraft systems (SNLP)\, Lectures (P)
DTSTART;TZID=Europe/Ljubljana:20260106T100000
DTEND;TZID=Europe/Ljubljana:20260106T113000
DTSTAMP:20260423T224556Z
UID:fs-AFLABS-URNIK:srecanje:16029-2026-01-06 10:00:00+01:00
DESCRIPTION:Predmet: Aircraft systems (SNLP)\, Lectures (P)\nLetniki: Airc
 raft design and maintenance (PAP-3)\, Airline transport pilot (PAP-3)\nIzv
 ajalci: Andrej Grebenšek\nProstor: Computer lecture room SP-24
END:VEVENT
BEGIN:VEVENT
SUMMARY:Aircraft systems (SNLP)\, Lectures (P)
DTSTART;TZID=Europe/Ljubljana:20260113T100000
DTEND;TZID=Europe/Ljubljana:20260113T113000
DTSTAMP:20260423T224556Z
UID:fs-AFLABS-URNIK:srecanje:16029-2026-01-13 10:00:00+01:00
DESCRIPTION:Predmet: Aircraft systems (SNLP)\, Lectures (P)\nLetniki: Airc
 raft design and maintenance (PAP-3)\, Airline transport pilot (PAP-3)\nIzv
 ajalci: Andrej Grebenšek\nProstor: Computer lecture room SP-24
END:VEVENT
BEGIN:VEVENT
SUMMARY:Aeronautical phraseology (LTFP)\, Lecture exercises (VP)\, [S1]
DTSTART;TZID=Europe/Ljubljana:20251001T133000
DTEND;TZID=Europe/Ljubljana:20251001T153000
DTSTAMP:20260423T224556Z
UID:fs-AFLABS-URNIK:srecanje:16065-2025-10-01 13:30:00+02:00
DESCRIPTION:Predmet: Aeronautical phraseology (LTFP)\, Lecture exercises (
 VP)\, [S1]\nLetniki: Airline transport pilot (PAP-3)\nIzvajalci: Andrej Gr
 ebenšek\, Peter Pipp\nProstor: Lecture hall IV/3B
END:VEVENT
BEGIN:VEVENT
SUMMARY:Aeronautical phraseology (LTFP)\, Lecture exercises (VP)\, [S1]
DTSTART;TZID=Europe/Ljubljana:20251008T133000
DTEND;TZID=Europe/Ljubljana:20251008T153000
DTSTAMP:20260423T224556Z
UID:fs-AFLABS-URNIK:srecanje:16065-2025-10-08 13:30:00+02:00
DESCRIPTION:Predmet: Aeronautical phraseology (LTFP)\, Lecture exercises (
 VP)\, [S1]\nLetniki: Airline transport pilot (PAP-3)\nIzvajalci: Andrej Gr
 ebenšek\, Peter Pipp\nProstor: Lecture hall IV/3B
END:VEVENT
BEGIN:VEVENT
SUMMARY:Aeronautical phraseology (LTFP)\, Lecture exercises (VP)\, [S1]
DTSTART;TZID=Europe/Ljubljana:20251015T133000
DTEND;TZID=Europe/Ljubljana:20251015T153000
DTSTAMP:20260423T224556Z
UID:fs-AFLABS-URNIK:srecanje:16065-2025-10-15 13:30:00+02:00
DESCRIPTION:Predmet: Aeronautical phraseology (LTFP)\, Lecture exercises (
 VP)\, [S1]\nLetniki: Airline transport pilot (PAP-3)\nIzvajalci: Andrej Gr
 ebenšek\, Peter Pipp\nProstor: Lecture hall IV/3B
END:VEVENT
BEGIN:VEVENT
SUMMARY:Aeronautical phraseology (LTFP)\, Lecture exercises (VP)\, [S1]
DTSTART;TZID=Europe/Ljubljana:20251022T133000
DTEND;TZID=Europe/Ljubljana:20251022T153000
DTSTAMP:20260423T224556Z
UID:fs-AFLABS-URNIK:srecanje:16065-2025-10-22 13:30:00+02:00
DESCRIPTION:Predmet: Aeronautical phraseology (LTFP)\, Lecture exercises (
 VP)\, [S1]\nLetniki: Airline transport pilot (PAP-3)\nIzvajalci: Andrej Gr
 ebenšek\, Peter Pipp\nProstor: Lecture hall IV/3B
END:VEVENT
BEGIN:VEVENT
SUMMARY:Aeronautical phraseology (LTFP)\, Lecture exercises (VP)\, [S1]
DTSTART;TZID=Europe/Ljubljana:20251029T133000
DTEND;TZID=Europe/Ljubljana:20251029T153000
DTSTAMP:20260423T224556Z
UID:fs-AFLABS-URNIK:srecanje:16065-2025-10-29 13:30:00+01:00
DESCRIPTION:Predmet: Aeronautical phraseology (LTFP)\, Lecture exercises (
 VP)\, [S1]\nLetniki: Airline transport pilot (PAP-3)\nIzvajalci: Andrej Gr
 ebenšek\, Peter Pipp\nProstor: Lecture hall IV/3B
END:VEVENT
BEGIN:VEVENT
SUMMARY:Aeronautical phraseology (LTFP)\, Lecture exercises (VP)\, [S1]
DTSTART;TZID=Europe/Ljubljana:20251105T133000
DTEND;TZID=Europe/Ljubljana:20251105T153000
DTSTAMP:20260423T224556Z
UID:fs-AFLABS-URNIK:srecanje:16065-2025-11-05 13:30:00+01:00
DESCRIPTION:Predmet: Aeronautical phraseology (LTFP)\, Lecture exercises (
 VP)\, [S1]\nLetniki: Airline transport pilot (PAP-3)\nIzvajalci: Andrej Gr
 ebenšek\, Peter Pipp\nProstor: Lecture hall IV/3B
END:VEVENT
BEGIN:VEVENT
SUMMARY:Aeronautical phraseology (LTFP)\, Lecture exercises (VP)\, [S1]
DTSTART;TZID=Europe/Ljubljana:20251112T133000
DTEND;TZID=Europe/Ljubljana:20251112T153000
DTSTAMP:20260423T224556Z
UID:fs-AFLABS-URNIK:srecanje:16065-2025-11-12 13:30:00+01:00
DESCRIPTION:Predmet: Aeronautical phraseology (LTFP)\, Lecture exercises (
 VP)\, [S1]\nLetniki: Airline transport pilot (PAP-3)\nIzvajalci: Andrej Gr
 ebenšek\, Peter Pipp\nProstor: Lecture hall IV/3B
END:VEVENT
BEGIN:VEVENT
SUMMARY:Aeronautical phraseology (LTFP)\, Lecture exercises (VP)\, [S1]
DTSTART;TZID=Europe/Ljubljana:20251119T133000
DTEND;TZID=Europe/Ljubljana:20251119T153000
DTSTAMP:20260423T224556Z
UID:fs-AFLABS-URNIK:srecanje:16065-2025-11-19 13:30:00+01:00
DESCRIPTION:Predmet: Aeronautical phraseology (LTFP)\, Lecture exercises (
 VP)\, [S1]\nLetniki: Airline transport pilot (PAP-3)\nIzvajalci: Andrej Gr
 ebenšek\, Peter Pipp\nProstor: Lecture hall IV/3B
END:VEVENT
BEGIN:VEVENT
SUMMARY:Aeronautical phraseology (LTFP)\, Lecture exercises (VP)\, [S1]
DTSTART;TZID=Europe/Ljubljana:20251126T133000
DTEND;TZID=Europe/Ljubljana:20251126T153000
DTSTAMP:20260423T224556Z
UID:fs-AFLABS-URNIK:srecanje:16065-2025-11-26 13:30:00+01:00
DESCRIPTION:Predmet: Aeronautical phraseology (LTFP)\, Lecture exercises (
 VP)\, [S1]\nLetniki: Airline transport pilot (PAP-3)\nIzvajalci: Andrej Gr
 ebenšek\, Peter Pipp\nProstor: Lecture hall IV/3B
END:VEVENT
BEGIN:VEVENT
SUMMARY:Aeronautical phraseology (LTFP)\, Lecture exercises (VP)\, [S1]
DTSTART;TZID=Europe/Ljubljana:20251203T133000
DTEND;TZID=Europe/Ljubljana:20251203T153000
DTSTAMP:20260423T224556Z
UID:fs-AFLABS-URNIK:srecanje:16065-2025-12-03 13:30:00+01:00
DESCRIPTION:Predmet: Aeronautical phraseology (LTFP)\, Lecture exercises (
 VP)\, [S1]\nLetniki: Airline transport pilot (PAP-3)\nIzvajalci: Andrej Gr
 ebenšek\, Peter Pipp\nProstor: Lecture hall IV/3B
END:VEVENT
BEGIN:VEVENT
SUMMARY:Aeronautical phraseology (LTFP)\, Lecture exercises (VP)\, [S1]
DTSTART;TZID=Europe/Ljubljana:20251210T133000
DTEND;TZID=Europe/Ljubljana:20251210T153000
DTSTAMP:20260423T224556Z
UID:fs-AFLABS-URNIK:srecanje:16065-2025-12-10 13:30:00+01:00
DESCRIPTION:Predmet: Aeronautical phraseology (LTFP)\, Lecture exercises (
 VP)\, [S1]\nLetniki: Airline transport pilot (PAP-3)\nIzvajalci: Andrej Gr
 ebenšek\, Peter Pipp\nProstor: Lecture hall IV/3B
END:VEVENT
BEGIN:VEVENT
SUMMARY:Aeronautical phraseology (LTFP)\, Lecture exercises (VP)\, [S1]
DTSTART;TZID=Europe/Ljubljana:20251217T133000
DTEND;TZID=Europe/Ljubljana:20251217T153000
DTSTAMP:20260423T224556Z
UID:fs-AFLABS-URNIK:srecanje:16065-2025-12-17 13:30:00+01:00
DESCRIPTION:Predmet: Aeronautical phraseology (LTFP)\, Lecture exercises (
 VP)\, [S1]\nLetniki: Airline transport pilot (PAP-3)\nIzvajalci: Andrej Gr
 ebenšek\, Peter Pipp\nProstor: Lecture hall IV/3B
END:VEVENT
BEGIN:VEVENT
SUMMARY:Aeronautical phraseology (LTFP)\, Lecture exercises (VP)\, [S1]
DTSTART;TZID=Europe/Ljubljana:20251224T133000
DTEND;TZID=Europe/Ljubljana:20251224T153000
DTSTAMP:20260423T224556Z
UID:fs-AFLABS-URNIK:srecanje:16065-2025-12-24 13:30:00+01:00
DESCRIPTION:Predmet: Aeronautical phraseology (LTFP)\, Lecture exercises (
 VP)\, [S1]\nLetniki: Airline transport pilot (PAP-3)\nIzvajalci: Andrej Gr
 ebenšek\, Peter Pipp\nProstor: Lecture hall IV/3B
END:VEVENT
BEGIN:VEVENT
SUMMARY:Aeronautical phraseology (LTFP)\, Lecture exercises (VP)\, [S1]
DTSTART;TZID=Europe/Ljubljana:20260107T133000
DTEND;TZID=Europe/Ljubljana:20260107T153000
DTSTAMP:20260423T224556Z
UID:fs-AFLABS-URNIK:srecanje:16065-2026-01-07 13:30:00+01:00
DESCRIPTION:Predmet: Aeronautical phraseology (LTFP)\, Lecture exercises (
 VP)\, [S1]\nLetniki: Airline transport pilot (PAP-3)\nIzvajalci: Andrej Gr
 ebenšek\, Peter Pipp\nProstor: Lecture hall IV/3B
END:VEVENT
BEGIN:VEVENT
SUMMARY:Aeronautical phraseology (LTFP)\, Lecture exercises (VP)\, [S1]
DTSTART;TZID=Europe/Ljubljana:20260114T133000
DTEND;TZID=Europe/Ljubljana:20260114T153000
DTSTAMP:20260423T224556Z
UID:fs-AFLABS-URNIK:srecanje:16065-2026-01-14 13:30:00+01:00
DESCRIPTION:Predmet: Aeronautical phraseology (LTFP)\, Lecture exercises (
 VP)\, [S1]\nLetniki: Airline transport pilot (PAP-3)\nIzvajalci: Andrej Gr
 ebenšek\, Peter Pipp\nProstor: Lecture hall IV/3B
END:VEVENT
BEGIN:VEVENT
SUMMARY:Air navigaton 1 (LN1P)\, Lectures (P)
DTSTART;TZID=Europe/Ljubljana:20251002T073000
DTEND;TZID=Europe/Ljubljana:20251002T113000
DTSTAMP:20260423T224556Z
UID:fs-AFLABS-URNIK:srecanje:16032-2025-10-02 07:30:00+02:00
DESCRIPTION:Predmet: Air navigaton 1 (LN1P)\, Lectures (P)\nLetniki: Airli
 ne transport pilot (PAP-3)\nIzvajalci: Andrej Grebenšek\nProstor: Lecture
  hall III/3B
END:VEVENT
BEGIN:VEVENT
SUMMARY:Air navigaton 1 (LN1P)\, Lectures (P)
DTSTART;TZID=Europe/Ljubljana:20251009T073000
DTEND;TZID=Europe/Ljubljana:20251009T113000
DTSTAMP:20260423T224556Z
UID:fs-AFLABS-URNIK:srecanje:16032-2025-10-09 07:30:00+02:00
DESCRIPTION:Predmet: Air navigaton 1 (LN1P)\, Lectures (P)\nLetniki: Airli
 ne transport pilot (PAP-3)\nIzvajalci: Andrej Grebenšek\nProstor: Lecture
  hall III/3B
END:VEVENT
BEGIN:VEVENT
SUMMARY:Air navigaton 1 (LN1P)\, Lectures (P)
DTSTART;TZID=Europe/Ljubljana:20251016T073000
DTEND;TZID=Europe/Ljubljana:20251016T113000
DTSTAMP:20260423T224556Z
UID:fs-AFLABS-URNIK:srecanje:16032-2025-10-16 07:30:00+02:00
DESCRIPTION:Predmet: Air navigaton 1 (LN1P)\, Lectures (P)\nLetniki: Airli
 ne transport pilot (PAP-3)\nIzvajalci: Andrej Grebenšek\nProstor: Lecture
  hall III/3B
END:VEVENT
BEGIN:VEVENT
SUMMARY:Air navigaton 1 (LN1P)\, Lectures (P)
DTSTART;TZID=Europe/Ljubljana:20251023T073000
DTEND;TZID=Europe/Ljubljana:20251023T113000
DTSTAMP:20260423T224556Z
UID:fs-AFLABS-URNIK:srecanje:16032-2025-10-23 07:30:00+02:00
DESCRIPTION:Predmet: Air navigaton 1 (LN1P)\, Lectures (P)\nLetniki: Airli
 ne transport pilot (PAP-3)\nIzvajalci: Andrej Grebenšek\nProstor: Lecture
  hall III/3B
END:VEVENT
BEGIN:VEVENT
SUMMARY:Air navigaton 1 (LN1P)\, Lectures (P)
DTSTART;TZID=Europe/Ljubljana:20251030T073000
DTEND;TZID=Europe/Ljubljana:20251030T113000
DTSTAMP:20260423T224556Z
UID:fs-AFLABS-URNIK:srecanje:16032-2025-10-30 07:30:00+01:00
DESCRIPTION:Predmet: Air navigaton 1 (LN1P)\, Lectures (P)\nLetniki: Airli
 ne transport pilot (PAP-3)\nIzvajalci: Andrej Grebenšek\nProstor: Lecture
  hall III/3B
END:VEVENT
BEGIN:VEVENT
SUMMARY:Air navigaton 1 (LN1P)\, Lectures (P)
DTSTART;TZID=Europe/Ljubljana:20251106T073000
DTEND;TZID=Europe/Ljubljana:20251106T113000
DTSTAMP:20260423T224556Z
UID:fs-AFLABS-URNIK:srecanje:16032-2025-11-06 07:30:00+01:00
DESCRIPTION:Predmet: Air navigaton 1 (LN1P)\, Lectures (P)\nLetniki: Airli
 ne transport pilot (PAP-3)\nIzvajalci: Andrej Grebenšek\nProstor: Lecture
  hall III/3B
END:VEVENT
BEGIN:VEVENT
SUMMARY:Air navigaton 1 (LN1P)\, Lectures (P)
DTSTART;TZID=Europe/Ljubljana:20251113T073000
DTEND;TZID=Europe/Ljubljana:20251113T113000
DTSTAMP:20260423T224556Z
UID:fs-AFLABS-URNIK:srecanje:16032-2025-11-13 07:30:00+01:00
DESCRIPTION:Predmet: Air navigaton 1 (LN1P)\, Lectures (P)\nLetniki: Airli
 ne transport pilot (PAP-3)\nIzvajalci: Andrej Grebenšek\nProstor: Lecture
  hall III/3B
END:VEVENT
BEGIN:VEVENT
SUMMARY:Air navigaton 1 (LN1P)\, Lectures (P)
DTSTART;TZID=Europe/Ljubljana:20251120T073000
DTEND;TZID=Europe/Ljubljana:20251120T113000
DTSTAMP:20260423T224556Z
UID:fs-AFLABS-URNIK:srecanje:16032-2025-11-20 07:30:00+01:00
DESCRIPTION:Predmet: Air navigaton 1 (LN1P)\, Lectures (P)\nLetniki: Airli
 ne transport pilot (PAP-3)\nIzvajalci: Andrej Grebenšek\nProstor: Lecture
  hall III/3B
END:VEVENT
BEGIN:VEVENT
SUMMARY:Air navigaton 1 (LN1P)\, Lectures (P)
DTSTART;TZID=Europe/Ljubljana:20251127T073000
DTEND;TZID=Europe/Ljubljana:20251127T113000
DTSTAMP:20260423T224556Z
UID:fs-AFLABS-URNIK:srecanje:16032-2025-11-27 07:30:00+01:00
DESCRIPTION:Predmet: Air navigaton 1 (LN1P)\, Lectures (P)\nLetniki: Airli
 ne transport pilot (PAP-3)\nIzvajalci: Andrej Grebenšek\nProstor: Lecture
  hall III/3B
END:VEVENT
BEGIN:VEVENT
SUMMARY:Air navigaton 1 (LN1P)\, Lectures (P)
DTSTART;TZID=Europe/Ljubljana:20251204T073000
DTEND;TZID=Europe/Ljubljana:20251204T113000
DTSTAMP:20260423T224556Z
UID:fs-AFLABS-URNIK:srecanje:16032-2025-12-04 07:30:00+01:00
DESCRIPTION:Predmet: Air navigaton 1 (LN1P)\, Lectures (P)\nLetniki: Airli
 ne transport pilot (PAP-3)\nIzvajalci: Andrej Grebenšek\nProstor: Lecture
  hall III/3B
END:VEVENT
BEGIN:VEVENT
SUMMARY:Air navigaton 1 (LN1P)\, Lectures (P)
DTSTART;TZID=Europe/Ljubljana:20251211T073000
DTEND;TZID=Europe/Ljubljana:20251211T113000
DTSTAMP:20260423T224556Z
UID:fs-AFLABS-URNIK:srecanje:16032-2025-12-11 07:30:00+01:00
DESCRIPTION:Predmet: Air navigaton 1 (LN1P)\, Lectures (P)\nLetniki: Airli
 ne transport pilot (PAP-3)\nIzvajalci: Andrej Grebenšek\nProstor: Lecture
  hall III/3B
END:VEVENT
BEGIN:VEVENT
SUMMARY:Air navigaton 1 (LN1P)\, Lectures (P)
DTSTART;TZID=Europe/Ljubljana:20251218T073000
DTEND;TZID=Europe/Ljubljana:20251218T113000
DTSTAMP:20260423T224556Z
UID:fs-AFLABS-URNIK:srecanje:16032-2025-12-18 07:30:00+01:00
DESCRIPTION:Predmet: Air navigaton 1 (LN1P)\, Lectures (P)\nLetniki: Airli
 ne transport pilot (PAP-3)\nIzvajalci: Andrej Grebenšek\nProstor: Lecture
  hall III/3B
END:VEVENT
BEGIN:VEVENT
SUMMARY:Air navigaton 1 (LN1P)\, Lectures (P)
DTSTART;TZID=Europe/Ljubljana:20251225T073000
DTEND;TZID=Europe/Ljubljana:20251225T113000
DTSTAMP:20260423T224556Z
UID:fs-AFLABS-URNIK:srecanje:16032-2025-12-25 07:30:00+01:00
DESCRIPTION:Predmet: Air navigaton 1 (LN1P)\, Lectures (P)\nLetniki: Airli
 ne transport pilot (PAP-3)\nIzvajalci: Andrej Grebenšek\nProstor: Lecture
  hall III/3B
END:VEVENT
BEGIN:VEVENT
SUMMARY:Air navigaton 1 (LN1P)\, Lectures (P)
DTSTART;TZID=Europe/Ljubljana:20260108T073000
DTEND;TZID=Europe/Ljubljana:20260108T113000
DTSTAMP:20260423T224556Z
UID:fs-AFLABS-URNIK:srecanje:16032-2026-01-08 07:30:00+01:00
DESCRIPTION:Predmet: Air navigaton 1 (LN1P)\, Lectures (P)\nLetniki: Airli
 ne transport pilot (PAP-3)\nIzvajalci: Andrej Grebenšek\nProstor: Lecture
  hall III/3B
END:VEVENT
BEGIN:VEVENT
SUMMARY:Air navigaton 1 (LN1P)\, Lectures (P)
DTSTART;TZID=Europe/Ljubljana:20260115T073000
DTEND;TZID=Europe/Ljubljana:20260115T113000
DTSTAMP:20260423T224556Z
UID:fs-AFLABS-URNIK:srecanje:16032-2026-01-15 07:30:00+01:00
DESCRIPTION:Predmet: Air navigaton 1 (LN1P)\, Lectures (P)\nLetniki: Airli
 ne transport pilot (PAP-3)\nIzvajalci: Andrej Grebenšek\nProstor: Lecture
  hall III/3B
END:VEVENT
BEGIN:VEVENT
SUMMARY:Letalska frazeologija
DTSTART;TZID=Europe/Ljubljana:20251008T153000
DTEND;TZID=Europe/Ljubljana:20251008T170000
DTSTAMP:20260423T224556Z
UID:fs-AFLABS-URNIK:rezervacija:11131
ATTENDEE:Letalstvo - Prometni pilot letala/helikopterja (PAP-3)
CATEGORIES:Reservation
COLOR:royalblue
DESCRIPTION:Predmeti: Aviation phraseology (3136)\nLetniki: Letalstvo - Pr
 ometni pilot letala/helikopterja (PAP-3)\nIzvajalci: Andrej Grebenšek\nPr
 ostori: Lecture hall IV/3B
LOCATION:Lecture hall IV/3B
ORGANIZER:Andrej Grebenšek
X-WR-TIMEZONE:Europe/Ljubljana
END:VEVENT
BEGIN:VEVENT
SUMMARY:Letalske komunikacije
DTSTART;TZID=Europe/Ljubljana:20251015T153000
DTEND;TZID=Europe/Ljubljana:20251015T170000
DTSTAMP:20260423T224556Z
UID:fs-AFLABS-URNIK:rezervacija:11302
ATTENDEE:Airline transport pilot (PAP-3)
ATTENDEE:Letalstvo - Prometni pilot letala/helikopterja (PAP-3)
CATEGORIES:Reservation
COLOR:royalblue
DESCRIPTION:Predmeti: Aviation phraseology (3136)\, Aeronautical phraseolo
 gy (LTFP)\nLetniki: Airline transport pilot (PAP-3)\, Letalstvo - Prometni
  pilot letala/helikopterja (PAP-3)\nIzvajalci: Andrej Grebenšek\nProstori
 : Lecture hall IV/3B
LOCATION:Lecture hall IV/3B
ORGANIZER:Andrej Grebenšek
X-WR-TIMEZONE:Europe/Ljubljana
END:VEVENT
BEGIN:VEVENT
SUMMARY:Letalske komunikacije
DTSTART;TZID=Europe/Ljubljana:20251022T153000
DTEND;TZID=Europe/Ljubljana:20251022T170000
DTSTAMP:20260423T224556Z
UID:fs-AFLABS-URNIK:rezervacija:11392
ATTENDEE:Airline transport pilot (PAP-3)
CATEGORIES:Reservation
COLOR:royalblue
DESCRIPTION:Predmeti: Aeronautical phraseology (LTFP)\nLetniki: Airline tr
 ansport pilot (PAP-3)\nIzvajalci: Andrej Grebenšek\nProstori: Lecture hal
 l IV/3B
LOCATION:Lecture hall IV/3B
ORGANIZER:Andrej Grebenšek
X-WR-TIMEZONE:Europe/Ljubljana
END:VEVENT
END:VCALENDAR
