BEGIN:VCALENDAR
VERSION:2.0
PRODID:-//AFLabs urnik izvoz - fs//aflabs.si//SI
NAME:UL FS Urnik
X-WR-CALNAME:UL FS Urnik
DTSTAMP:20260424T175242Z
REFRESH-INTERVAL:PT1H
SOURCE:https://urnik.fs.uni-lj.si/en/teacher/691/?day=2024-06-24&export=1
URL:https://urnik.fs.uni-lj.si/en/teacher/691/?day=2024-06-24&export=1
X-PUBLISHED-TTL:PT1H
X-WR-TIMEZONE:Europe/Ljubljana
BEGIN:VTIMEZONE
TZID:Europe/Ljubljana
BEGIN:DAYLIGHT
DTSTART:20260329T020000
RDATE:20260329T020000
RDATE:20270328T020000
TZNAME:CEST
TZOFFSETFROM:+0100
TZOFFSETTO:+0200
END:DAYLIGHT
BEGIN:STANDARD
DTSTART:20261025T030000
RDATE:20261025T030000
RDATE:20271031T030000
TZNAME:CET
TZOFFSETFROM:+0200
TZOFFSETTO:+0100
END:STANDARD
END:VTIMEZONE
BEGIN:VEVENT
SUMMARY:Predstavitev smeri PAP
DTSTART;TZID=Europe/Ljubljana:20240605T160000
DTEND;TZID=Europe/Ljubljana:20240605T200000
DTSTAMP:20260424T175242Z
UID:fs-AFLABS-URNIK:rezervacija:4817
CATEGORIES:Reservation
COLOR:royalblue
DESCRIPTION:Predmeti: \nLetniki: \nIzvajalci: Miroslav Halilovič\, Franci
  Pušavec\nProstori: Lecture hall III/4
LOCATION:Lecture hall III/4
ORGANIZER:Miroslav Halilovič, Franci Pušavec
X-WR-TIMEZONE:Europe/Ljubljana
END:VEVENT
BEGIN:VEVENT
SUMMARY:Izpit: Analiza konstrukcij z MKE
DTSTART;TZID=Europe/Ljubljana:20240606T080000
DTEND;TZID=Europe/Ljubljana:20240606T140000
DTSTAMP:20260424T175242Z
UID:fs-AFLABS-URNIK:rezervacija:4960
ATTENDEE:Mechanics (MAG-1)
CATEGORIES:Reservation
COLOR:royalblue
DESCRIPTION:Predmeti: FEM structural analysis (AKMM)\nLetniki: Mechanics (
 MAG-1)\nIzvajalci: Miroslav Halilovič\nProstori: Computer lecture room LA
 DISK  I/4B\, Computer lecture room LNMS II/1
LOCATION:Computer lecture room LADISK  I/4B\, Computer lecture room LNMS I
 I/1
ORGANIZER:Miroslav Halilovič
X-WR-TIMEZONE:Europe/Ljubljana
END:VEVENT
BEGIN:VEVENT
SUMMARY:Izpit: FEM Structural Analysis (6037-M)
DTSTART;TZID=Europe/Ljubljana:20240606T080000
DTEND;TZID=Europe/Ljubljana:20240606T140000
DTSTAMP:20260424T175242Z
UID:fs-AFLABS-URNIK:rezervacija:4961
CATEGORIES:Reservation
COLOR:royalblue
DESCRIPTION:Predmeti: \nLetniki: \nIzvajalci: Miroslav Halilovič\nProstor
 i: Computer lecture room LADISK  I/4B\, Computer lecture room LNMS II/1
LOCATION:Computer lecture room LADISK  I/4B\, Computer lecture room LNMS I
 I/1
ORGANIZER:Miroslav Halilovič
X-WR-TIMEZONE:Europe/Ljubljana
END:VEVENT
BEGIN:VEVENT
SUMMARY:Izpit: Mehanika konstrukcij (6252)
DTSTART;TZID=Europe/Ljubljana:20240607T080000
DTEND;TZID=Europe/Ljubljana:20240607T110000
DTSTAMP:20260424T175242Z
UID:fs-AFLABS-URNIK:rezervacija:4985
CATEGORIES:Reservation
COLOR:royalblue
DESCRIPTION:Predmeti: \nLetniki: \nIzvajalci: Miroslav Halilovič\nProstor
 i: Computer lecture room LNMS II/1
LOCATION:Computer lecture room LNMS II/1
ORGANIZER:Miroslav Halilovič
X-WR-TIMEZONE:Europe/Ljubljana
END:VEVENT
BEGIN:VEVENT
SUMMARY:Izpit: Numerično modeliranje tehnoloških procesov
DTSTART;TZID=Europe/Ljubljana:20240607T080000
DTEND;TZID=Europe/Ljubljana:20240607T110000
DTSTAMP:20260424T175242Z
UID:fs-AFLABS-URNIK:rezervacija:4986
ATTENDEE:Mechanics (MAG-2)
CATEGORIES:Reservation
COLOR:royalblue
DESCRIPTION:Predmeti: Numerical modelling of technological processes (NMTM
 )\nLetniki: Mechanics (MAG-2)\nIzvajalci: Miroslav Halilovič\nProstori: L
 ecture hall III/3A
LOCATION:Lecture hall III/3A
ORGANIZER:Miroslav Halilovič
X-WR-TIMEZONE:Europe/Ljubljana
END:VEVENT
BEGIN:VEVENT
SUMMARY:Izpit: Plastomehanika (6101)
DTSTART;TZID=Europe/Ljubljana:20240613T080000
DTEND;TZID=Europe/Ljubljana:20240613T110000
DTSTAMP:20260424T175242Z
UID:fs-AFLABS-URNIK:rezervacija:5093
CATEGORIES:Reservation
COLOR:royalblue
DESCRIPTION:Predmeti: \nLetniki: \nIzvajalci: Miroslav Halilovič\nProstor
 i: Lecture hall III/4
LOCATION:Lecture hall III/4
ORGANIZER:Miroslav Halilovič
X-WR-TIMEZONE:Europe/Ljubljana
END:VEVENT
BEGIN:VEVENT
SUMMARY:Izpit: Plastomehanika (6101) - 1. letnik
DTSTART;TZID=Europe/Ljubljana:20240613T080000
DTEND;TZID=Europe/Ljubljana:20240613T110000
DTSTAMP:20260424T175242Z
UID:fs-AFLABS-URNIK:rezervacija:5094
CATEGORIES:Reservation
COLOR:royalblue
DESCRIPTION:Predmeti: \nLetniki: \nIzvajalci: Miroslav Halilovič\nProstor
 i: Lecture hall III/4
LOCATION:Lecture hall III/4
ORGANIZER:Miroslav Halilovič
X-WR-TIMEZONE:Europe/Ljubljana
END:VEVENT
BEGIN:VEVENT
SUMMARY:Izpit: Analiza konstrukcij z MKE
DTSTART;TZID=Europe/Ljubljana:20240620T080000
DTEND;TZID=Europe/Ljubljana:20240620T140000
DTSTAMP:20260424T175242Z
UID:fs-AFLABS-URNIK:rezervacija:5215
ATTENDEE:Mechanics (MAG-1)
CATEGORIES:Reservation
COLOR:royalblue
DESCRIPTION:Predmeti: FEM structural analysis (AKMM)\nLetniki: Mechanics (
 MAG-1)\nIzvajalci: Miroslav Halilovič\nProstori: Computer lecture room LA
 DISK  I/4B\, Computer lecture room LNMS II/1
LOCATION:Computer lecture room LADISK  I/4B\, Computer lecture room LNMS I
 I/1
ORGANIZER:Miroslav Halilovič
X-WR-TIMEZONE:Europe/Ljubljana
END:VEVENT
BEGIN:VEVENT
SUMMARY:Izpit: FEM Structural Analysis (6037-M)
DTSTART;TZID=Europe/Ljubljana:20240620T080000
DTEND;TZID=Europe/Ljubljana:20240620T140000
DTSTAMP:20260424T175242Z
UID:fs-AFLABS-URNIK:rezervacija:5216
CATEGORIES:Reservation
COLOR:royalblue
DESCRIPTION:Predmeti: \nLetniki: \nIzvajalci: Miroslav Halilovič\nProstor
 i: Computer lecture room LADISK  I/4B\, Computer lecture room LNMS II/1
LOCATION:Computer lecture room LADISK  I/4B\, Computer lecture room LNMS I
 I/1
ORGANIZER:Miroslav Halilovič
X-WR-TIMEZONE:Europe/Ljubljana
END:VEVENT
BEGIN:VEVENT
SUMMARY:Izpit: Tehniška mehanika 1 (3008)
DTSTART;TZID=Europe/Ljubljana:20240624T080000
DTEND;TZID=Europe/Ljubljana:20240624T110000
DTSTAMP:20260424T175242Z
UID:fs-AFLABS-URNIK:rezervacija:5271
CATEGORIES:Reservation
COLOR:royalblue
DESCRIPTION:Predmeti: \nLetniki: \nIzvajalci: Miroslav Halilovič\nProstor
 i: Lecture hall II/3A\, Lecture hall II/3B\, Lecture hall III/3A\, Lecture
  hall III/3B\, Lecture hall IV/3A\, Lecture hall IV/3B
LOCATION:Lecture hall II/3A\, Lecture hall II/3B\, Lecture hall III/3A\, L
 ecture hall III/3B\, Lecture hall IV/3A\, Lecture hall IV/3B
ORGANIZER:Miroslav Halilovič
X-WR-TIMEZONE:Europe/Ljubljana
END:VEVENT
END:VCALENDAR
