BEGIN:VCALENDAR
VERSION:2.0
PRODID:-//AFLabs urnik izvoz - fs//aflabs.si//SI
NAME:UL FS Urnik
X-WR-CALNAME:UL FS Urnik
DTSTAMP:20260426T024344Z
REFRESH-INTERVAL:PT1H
SOURCE:https://urnik.fs.uni-lj.si/en/teacher/691/?day=2024-08-19&export=1
URL:https://urnik.fs.uni-lj.si/en/teacher/691/?day=2024-08-19&export=1
X-PUBLISHED-TTL:PT1H
X-WR-TIMEZONE:Europe/Ljubljana
BEGIN:VTIMEZONE
TZID:Europe/Ljubljana
BEGIN:DAYLIGHT
DTSTART:20260329T020000
RDATE:20260329T020000
RDATE:20270328T020000
TZNAME:CEST
TZOFFSETFROM:+0100
TZOFFSETTO:+0200
END:DAYLIGHT
BEGIN:STANDARD
DTSTART:20261025T030000
RDATE:20261025T030000
RDATE:20271031T030000
TZNAME:CET
TZOFFSETFROM:+0200
TZOFFSETTO:+0100
END:STANDARD
END:VTIMEZONE
BEGIN:VEVENT
SUMMARY:Izpit: Analiza konstrukcij z MKE
DTSTART;TZID=Europe/Ljubljana:20240813T080000
DTEND;TZID=Europe/Ljubljana:20240813T140000
DTSTAMP:20260426T024344Z
UID:fs-AFLABS-URNIK:rezervacija:5414
ATTENDEE:Mechanics (MAG-1)
CATEGORIES:Reservation
COLOR:royalblue
DESCRIPTION:Predmeti: FEM structural analysis (AKMM)\nLetniki: Mechanics (
 MAG-1)\nIzvajalci: Miroslav Halilovič\nProstori: Computer lecture room LA
 DISK  I/4B\, Computer lecture room LNMS II/1
LOCATION:Computer lecture room LADISK  I/4B\, Computer lecture room LNMS I
 I/1
ORGANIZER:Miroslav Halilovič
X-WR-TIMEZONE:Europe/Ljubljana
END:VEVENT
BEGIN:VEVENT
SUMMARY:Izpit: FEM Structural Analysis (6037-M)
DTSTART;TZID=Europe/Ljubljana:20240813T080000
DTEND;TZID=Europe/Ljubljana:20240813T140000
DTSTAMP:20260426T024344Z
UID:fs-AFLABS-URNIK:rezervacija:5415
CATEGORIES:Reservation
COLOR:royalblue
DESCRIPTION:Predmeti: \nLetniki: \nIzvajalci: Miroslav Halilovič\nProstor
 i: Computer lecture room LADISK  I/4B\, Computer lecture room LNMS II/1
LOCATION:Computer lecture room LADISK  I/4B\, Computer lecture room LNMS I
 I/1
ORGANIZER:Miroslav Halilovič
X-WR-TIMEZONE:Europe/Ljubljana
END:VEVENT
BEGIN:VEVENT
SUMMARY:Izpit: Mehanika konstrukcij (6252)
DTSTART;TZID=Europe/Ljubljana:20240814T080000
DTEND;TZID=Europe/Ljubljana:20240814T110000
DTSTAMP:20260426T024344Z
UID:fs-AFLABS-URNIK:rezervacija:5445
CATEGORIES:Reservation
COLOR:royalblue
DESCRIPTION:Predmeti: \nLetniki: \nIzvajalci: Miroslav Halilovič\nProstor
 i: Computer lecture room LNMS II/1
LOCATION:Computer lecture room LNMS II/1
ORGANIZER:Miroslav Halilovič
X-WR-TIMEZONE:Europe/Ljubljana
END:VEVENT
BEGIN:VEVENT
SUMMARY:Izpit: Numerično modeliranje tehnoloških procesov
DTSTART;TZID=Europe/Ljubljana:20240816T080000
DTEND;TZID=Europe/Ljubljana:20240816T110000
DTSTAMP:20260426T024344Z
UID:fs-AFLABS-URNIK:rezervacija:5478
ATTENDEE:Mechanics (MAG-2)
CATEGORIES:Reservation
COLOR:royalblue
DESCRIPTION:Predmeti: Numerical modelling of technological processes (NMTM
 )\nLetniki: Mechanics (MAG-2)\nIzvajalci: Miroslav Halilovič\nProstori: L
 ecture hall III/3A
LOCATION:Lecture hall III/3A
ORGANIZER:Miroslav Halilovič
X-WR-TIMEZONE:Europe/Ljubljana
END:VEVENT
BEGIN:VEVENT
SUMMARY:Izpit: Mechanics of structural elements (6036-M)
DTSTART;TZID=Europe/Ljubljana:20240819T080000
DTEND;TZID=Europe/Ljubljana:20240819T100000
DTSTAMP:20260426T024344Z
UID:fs-AFLABS-URNIK:rezervacija:5511
CATEGORIES:Reservation
COLOR:royalblue
DESCRIPTION:Predmeti: \nLetniki: \nIzvajalci: Miroslav Halilovič\nProstor
 i: Computer lecture room LNMS II/1
LOCATION:Computer lecture room LNMS II/1
ORGANIZER:Miroslav Halilovič
X-WR-TIMEZONE:Europe/Ljubljana
END:VEVENT
BEGIN:VEVENT
SUMMARY:Izpit: Mehanika konstrukcijskih elementov
DTSTART;TZID=Europe/Ljubljana:20240819T080000
DTEND;TZID=Europe/Ljubljana:20240819T100000
DTSTAMP:20260426T024344Z
UID:fs-AFLABS-URNIK:rezervacija:5512
ATTENDEE:Mechanics (MAG-1)
CATEGORIES:Reservation
COLOR:royalblue
DESCRIPTION:Predmeti: Mechanics of structural elements (MKEM)\nLetniki: Me
 chanics (MAG-1)\nIzvajalci: Miroslav Halilovič\nProstori: Computer lectur
 e room LNMS II/1
LOCATION:Computer lecture room LNMS II/1
ORGANIZER:Miroslav Halilovič
X-WR-TIMEZONE:Europe/Ljubljana
END:VEVENT
BEGIN:VEVENT
SUMMARY:Izpit: Statika in trdnost
DTSTART;TZID=Europe/Ljubljana:20240819T080000
DTEND;TZID=Europe/Ljubljana:20240819T110000
DTSTAMP:20260426T024344Z
UID:fs-AFLABS-URNIK:rezervacija:5513
ATTENDEE:PAP-1 (PAP-1)
CATEGORIES:Reservation
COLOR:royalblue
DESCRIPTION:Predmeti: Statics and strength of materials (STTP)\nLetniki: P
 AP-1 (PAP-1)\nIzvajalci: Miroslav Halilovič\nProstori: Lecture hall II/3A
 \, Lecture hall II/3B\, Lecture hall III/3A\, Lecture hall III/3B\, Lectur
 e hall IV/3A\, Lecture hall IV/3B
LOCATION:Lecture hall II/3A\, Lecture hall II/3B\, Lecture hall III/3A\, L
 ecture hall III/3B\, Lecture hall IV/3A\, Lecture hall IV/3B
ORGANIZER:Miroslav Halilovič
X-WR-TIMEZONE:Europe/Ljubljana
END:VEVENT
BEGIN:VEVENT
SUMMARY:Izpit: Tehniška mehanika 1 (3008)
DTSTART;TZID=Europe/Ljubljana:20240819T080000
DTEND;TZID=Europe/Ljubljana:20240819T110000
DTSTAMP:20260426T024344Z
UID:fs-AFLABS-URNIK:rezervacija:5514
CATEGORIES:Reservation
COLOR:royalblue
DESCRIPTION:Predmeti: \nLetniki: \nIzvajalci: Miroslav Halilovič\nProstor
 i: Lecture hall II/3A\, Lecture hall II/3B\, Lecture hall III/3A\, Lecture
  hall III/3B\, Lecture hall IV/3A\, Lecture hall IV/3B
LOCATION:Lecture hall II/3A\, Lecture hall II/3B\, Lecture hall III/3A\, L
 ecture hall III/3B\, Lecture hall IV/3A\, Lecture hall IV/3B
ORGANIZER:Miroslav Halilovič
X-WR-TIMEZONE:Europe/Ljubljana
END:VEVENT
BEGIN:VEVENT
SUMMARY:Izpit: Plastomehanika (6101)
DTSTART;TZID=Europe/Ljubljana:20240823T080000
DTEND;TZID=Europe/Ljubljana:20240823T110000
DTSTAMP:20260426T024344Z
UID:fs-AFLABS-URNIK:rezervacija:5663
CATEGORIES:Reservation
COLOR:royalblue
DESCRIPTION:Predmeti: \nLetniki: \nIzvajalci: Miroslav Halilovič\nProstor
 i: Lecture hall III/3A
LOCATION:Lecture hall III/3A
ORGANIZER:Miroslav Halilovič
X-WR-TIMEZONE:Europe/Ljubljana
END:VEVENT
BEGIN:VEVENT
SUMMARY:Izpit: Plastomehanika (6101) - 1. letnik
DTSTART;TZID=Europe/Ljubljana:20240823T080000
DTEND;TZID=Europe/Ljubljana:20240823T110000
DTSTAMP:20260426T024344Z
UID:fs-AFLABS-URNIK:rezervacija:5664
CATEGORIES:Reservation
COLOR:royalblue
DESCRIPTION:Predmeti: \nLetniki: \nIzvajalci: Miroslav Halilovič\nProstor
 i: Lecture hall III/3A
LOCATION:Lecture hall III/3A
ORGANIZER:Miroslav Halilovič
X-WR-TIMEZONE:Europe/Ljubljana
END:VEVENT
BEGIN:VEVENT
SUMMARY:Izpit TM1\, STTP
DTSTART;TZID=Europe/Ljubljana:20240819T110000
DTEND;TZID=Europe/Ljubljana:20240819T200000
DTSTAMP:20260426T024344Z
UID:fs-AFLABS-URNIK:rezervacija:6006
CATEGORIES:Reservation
COLOR:royalblue
DESCRIPTION:Predmeti: \nLetniki: \nIzvajalci: Miroslav Halilovič\nProstor
 i: Lecture hall IV/3A
LOCATION:Lecture hall IV/3A
ORGANIZER:Miroslav Halilovič
X-WR-TIMEZONE:Europe/Ljubljana
END:VEVENT
END:VCALENDAR
