BEGIN:VCALENDAR
VERSION:2.0
PRODID:-//AFLabs urnik izvoz - fs//aflabs.si//SI
NAME:UL FS Urnik
X-WR-CALNAME:UL FS Urnik
DTSTAMP:20260425T005524Z
REFRESH-INTERVAL:PT1H
SOURCE:https://urnik.fs.uni-lj.si/en/teacher/693/?day=2026-06-08&export=1
URL:https://urnik.fs.uni-lj.si/en/teacher/693/?day=2026-06-08&export=1
X-PUBLISHED-TTL:PT1H
X-WR-TIMEZONE:Europe/Ljubljana
BEGIN:VTIMEZONE
TZID:Europe/Ljubljana
BEGIN:DAYLIGHT
DTSTART:20260329T020000
RDATE:20260329T020000
RDATE:20270328T020000
TZNAME:CEST
TZOFFSETFROM:+0100
TZOFFSETTO:+0200
END:DAYLIGHT
BEGIN:STANDARD
DTSTART:20261025T030000
RDATE:20261025T030000
RDATE:20271031T030000
TZNAME:CET
TZOFFSETFROM:+0200
TZOFFSETTO:+0100
END:STANDARD
END:VTIMEZONE
BEGIN:VEVENT
SUMMARY:Izpit: Hidravlični in pnevmatični sistemi
DTSTART;TZID=Europe/Ljubljana:20260609T080000
DTEND;TZID=Europe/Ljubljana:20260609T110000
DTSTAMP:20260425T005524Z
UID:fs-AFLABS-URNIK:rezervacija:11473
ATTENDEE:Mehatronika (PAP-3)
CATEGORIES:Reservation
COLOR:royalblue
DESCRIPTION:Predmeti: Hydraulic and Pneumatic Systems (3083)\nLetniki: Meh
 atronika (PAP-3)\nIzvajalci: Niko Herakovič\nProstori: Lecture hall III/4
 \, Lecture hall IV/4
LOCATION:Lecture hall III/4\, Lecture hall IV/4
ORGANIZER:Niko Herakovič
X-WR-TIMEZONE:Europe/Ljubljana
END:VEVENT
BEGIN:VEVENT
SUMMARY:Izpit: Proizvodno inženirstvo
DTSTART;TZID=Europe/Ljubljana:20260609T080000
DTEND;TZID=Europe/Ljubljana:20260609T110000
DTSTAMP:20260425T005524Z
UID:fs-AFLABS-URNIK:rezervacija:11474
ATTENDEE:RRP-3 (RRP-3)
CATEGORIES:Reservation
COLOR:royalblue
DESCRIPTION:Predmeti: Production engineering (PRIR)\nLetniki: RRP-3 (RRP-3
 )\nIzvajalci: Niko Herakovič\nProstori: Lecture hall III/4\, Lecture hall
  IV/4
LOCATION:Lecture hall III/4\, Lecture hall IV/4
ORGANIZER:Niko Herakovič
X-WR-TIMEZONE:Europe/Ljubljana
END:VEVENT
BEGIN:VEVENT
SUMMARY:Izpit: Tehnologija montaže
DTSTART;TZID=Europe/Ljubljana:20260609T080000
DTEND;TZID=Europe/Ljubljana:20260609T110000
DTSTAMP:20260425T005524Z
UID:fs-AFLABS-URNIK:rezervacija:11475
ATTENDEE:Production technologies (PAP-2)
CATEGORIES:Reservation
COLOR:royalblue
DESCRIPTION:Predmeti: Assembly technology (THMP)\nLetniki: Production tech
 nologies (PAP-2)\nIzvajalci: Niko Herakovič\nProstori: Lecture hall III/4
 \, Lecture hall IV/4
LOCATION:Lecture hall III/4\, Lecture hall IV/4
ORGANIZER:Niko Herakovič
X-WR-TIMEZONE:Europe/Ljubljana
END:VEVENT
BEGIN:VEVENT
SUMMARY:Izpit: Robotizirana proizvodnja
DTSTART;TZID=Europe/Ljubljana:20260609T120000
DTEND;TZID=Europe/Ljubljana:20260609T140000
DTSTAMP:20260425T005524Z
UID:fs-AFLABS-URNIK:rezervacija:11479
ATTENDEE:Production engineering (PAP-3)
CATEGORIES:Reservation
COLOR:royalblue
DESCRIPTION:Predmeti: Robotized production (RBPP)\nLetniki: Production eng
 ineering (PAP-3)\nIzvajalci: Niko Herakovič\nProstori: Lecture hall IV/2
LOCATION:Lecture hall IV/2
ORGANIZER:Niko Herakovič
X-WR-TIMEZONE:Europe/Ljubljana
END:VEVENT
BEGIN:VEVENT
SUMMARY:Izpit: Montaža
DTSTART;TZID=Europe/Ljubljana:20260610T090000
DTEND;TZID=Europe/Ljubljana:20260610T120000
DTSTAMP:20260425T005524Z
UID:fs-AFLABS-URNIK:rezervacija:11515
ATTENDEE:Proizvodno strojništvo - Proizvodne tehnologije (PAP-3)
ATTENDEE:Proizvodno strojništvo - Vodenje proizvodnje (PAP-3)
CATEGORIES:Reservation
COLOR:royalblue
DESCRIPTION:Predmeti: Assembling (3071)\nLetniki: Proizvodno strojništvo 
 - Vodenje proizvodnje (PAP-3)\, Proizvodno strojništvo - Proizvodne tehno
 logije (PAP-3)\nIzvajalci: Niko Herakovič\nProstori: Lecture hall III/4\,
  Lecture hall IV/4
LOCATION:Lecture hall III/4\, Lecture hall IV/4
ORGANIZER:Niko Herakovič
X-WR-TIMEZONE:Europe/Ljubljana
END:VEVENT
BEGIN:VEVENT
SUMMARY:Izpit: Hidravlika in pnevmatika - RRP
DTSTART;TZID=Europe/Ljubljana:20260610T080000
DTEND;TZID=Europe/Ljubljana:20260610T110000
DTSTAMP:20260425T005524Z
UID:fs-AFLABS-URNIK:rezervacija:11517
ATTENDEE:RRP-3 (RRP-3)
CATEGORIES:Reservation
COLOR:royalblue
DESCRIPTION:Predmeti: Hydraulics and Pneumatics - RRP (HDPR)\nLetniki: RRP
 -3 (RRP-3)\nIzvajalci: Niko Herakovič\nProstori: Lecture hall IV/2
LOCATION:Lecture hall IV/2
ORGANIZER:Niko Herakovič
X-WR-TIMEZONE:Europe/Ljubljana
END:VEVENT
BEGIN:VEVENT
SUMMARY:Izpit: Hidravlika in pnevmatika
DTSTART;TZID=Europe/Ljubljana:20260610T080000
DTEND;TZID=Europe/Ljubljana:20260610T110000
DTSTAMP:20260425T005524Z
UID:fs-AFLABS-URNIK:rezervacija:11518
ATTENDEE:RRP-3 (RRP-3)
CATEGORIES:Reservation
COLOR:royalblue
DESCRIPTION:Predmeti: Hydraulics and Pneumatics (2053)\nLetniki: RRP-3 (RR
 P-3)\nIzvajalci: Niko Herakovič\nProstori: Lecture hall IV/2
LOCATION:Lecture hall IV/2
ORGANIZER:Niko Herakovič
X-WR-TIMEZONE:Europe/Ljubljana
END:VEVENT
BEGIN:VEVENT
SUMMARY:Izpit: Logistika materiala in sredstev
DTSTART;TZID=Europe/Ljubljana:20260617T080000
DTEND;TZID=Europe/Ljubljana:20260617T110000
DTSTAMP:20260425T005524Z
UID:fs-AFLABS-URNIK:rezervacija:11769
ATTENDEE:Production engineering (PAP-3)
CATEGORIES:Reservation
COLOR:royalblue
DESCRIPTION:Predmeti: Logistics of material and resources (LMSP)\nLetniki:
  Production engineering (PAP-3)\nIzvajalci: Niko Herakovič\nProstori: Lec
 ture hall III/2
LOCATION:Lecture hall III/2
ORGANIZER:Niko Herakovič
X-WR-TIMEZONE:Europe/Ljubljana
END:VEVENT
BEGIN:VEVENT
SUMMARY:Izpit: Strega materialov in sredstev
DTSTART;TZID=Europe/Ljubljana:20260617T080000
DTEND;TZID=Europe/Ljubljana:20260617T110000
DTSTAMP:20260425T005524Z
UID:fs-AFLABS-URNIK:rezervacija:11770
ATTENDEE:Proizvodno strojništvo - Vodenje proizvodnje (PAP-3)
CATEGORIES:Reservation
COLOR:royalblue
DESCRIPTION:Predmeti: Materials and equipment handling (3072)\nLetniki: Pr
 oizvodno strojništvo - Vodenje proizvodnje (PAP-3)\nIzvajalci: Niko Herak
 ovič\nProstori: Lecture hall III/2
LOCATION:Lecture hall III/2
ORGANIZER:Niko Herakovič
X-WR-TIMEZONE:Europe/Ljubljana
END:VEVENT
BEGIN:VEVENT
SUMMARY:Izpit: Montažni in strežni sistemi
DTSTART;TZID=Europe/Ljubljana:20260622T100000
DTEND;TZID=Europe/Ljubljana:20260622T130000
DTSTAMP:20260425T005524Z
UID:fs-AFLABS-URNIK:rezervacija:12065
ATTENDEE:Production engineering (MAG-1)
CATEGORIES:Reservation
COLOR:royalblue
DESCRIPTION:Predmeti: Assembly and handling systems (MSSM)\nLetniki: Produ
 ction engineering (MAG-1)\nIzvajalci: Niko Herakovič\nProstori: Lecture h
 all III/2
LOCATION:Lecture hall III/2
ORGANIZER:Niko Herakovič
X-WR-TIMEZONE:Europe/Ljubljana
END:VEVENT
BEGIN:VEVENT
SUMMARY:Izpit: Montažni in strežni sistemi
DTSTART;TZID=Europe/Ljubljana:20260622T100000
DTEND;TZID=Europe/Ljubljana:20260622T130000
DTSTAMP:20260425T005524Z
UID:fs-AFLABS-URNIK:rezervacija:12066
ATTENDEE:Production engineering (MAG-1)
CATEGORIES:Reservation
COLOR:royalblue
DESCRIPTION:Predmeti: Assembly and handling systems (MSSM)\nLetniki: Produ
 ction engineering (MAG-1)\nIzvajalci: Niko Herakovič\nProstori: Lecture h
 all III/2
LOCATION:Lecture hall III/2
ORGANIZER:Niko Herakovič
X-WR-TIMEZONE:Europe/Ljubljana
END:VEVENT
BEGIN:VEVENT
SUMMARY:Izpit: Proizvodno inženirstvo
DTSTART;TZID=Europe/Ljubljana:20260623T080000
DTEND;TZID=Europe/Ljubljana:20260623T110000
DTSTAMP:20260425T005524Z
UID:fs-AFLABS-URNIK:rezervacija:12116
ATTENDEE:RRP-3 (RRP-3)
CATEGORIES:Reservation
COLOR:royalblue
DESCRIPTION:Predmeti: Production engineering (PRIR)\nLetniki: RRP-3 (RRP-3
 )\nIzvajalci: Niko Herakovič\nProstori: Lecture hall III/2\, Lecture hall
  III/4
LOCATION:Lecture hall III/2\, Lecture hall III/4
ORGANIZER:Niko Herakovič
X-WR-TIMEZONE:Europe/Ljubljana
END:VEVENT
BEGIN:VEVENT
SUMMARY:Izpit: Proizvodno inženirstvo
DTSTART;TZID=Europe/Ljubljana:20260623T080000
DTEND;TZID=Europe/Ljubljana:20260623T110000
DTSTAMP:20260425T005524Z
UID:fs-AFLABS-URNIK:rezervacija:12117
ATTENDEE:RRP-3 (RRP-3)
CATEGORIES:Reservation
COLOR:royalblue
DESCRIPTION:Predmeti: Production Engineering (2054)\nLetniki: RRP-3 (RRP-3
 )\nIzvajalci: Niko Herakovič\nProstori: Lecture hall III/2\, Lecture hall
  III/4
LOCATION:Lecture hall III/2\, Lecture hall III/4
ORGANIZER:Niko Herakovič
X-WR-TIMEZONE:Europe/Ljubljana
END:VEVENT
BEGIN:VEVENT
SUMMARY:Izpit: Tehnologija montaže
DTSTART;TZID=Europe/Ljubljana:20260623T080000
DTEND;TZID=Europe/Ljubljana:20260623T110000
DTSTAMP:20260425T005524Z
UID:fs-AFLABS-URNIK:rezervacija:12118
ATTENDEE:Production technologies (PAP-2)
CATEGORIES:Reservation
COLOR:royalblue
DESCRIPTION:Predmeti: Assembly technology (THMP)\nLetniki: Production tech
 nologies (PAP-2)\nIzvajalci: Niko Herakovič\nProstori: Lecture hall III/2
 \, Lecture hall III/4
LOCATION:Lecture hall III/2\, Lecture hall III/4
ORGANIZER:Niko Herakovič
X-WR-TIMEZONE:Europe/Ljubljana
END:VEVENT
BEGIN:VEVENT
SUMMARY:Izpit: Pametne tovarne
DTSTART;TZID=Europe/Ljubljana:20260608T130000
DTEND;TZID=Europe/Ljubljana:20260608T150000
DTSTAMP:20260425T005524Z
UID:fs-AFLABS-URNIK:rezervacija:12621
ATTENDEE:Production engineering (MAG-2)
CATEGORIES:Reservation
COLOR:royalblue
DESCRIPTION:Predmeti: Smart factories (PMTM)\nLetniki: Production engineer
 ing (MAG-2)\nIzvajalci: Niko Herakovič\nProstori: Lecture hall III/3B
LOCATION:Lecture hall III/3B
ORGANIZER:Niko Herakovič
X-WR-TIMEZONE:Europe/Ljubljana
END:VEVENT
BEGIN:VEVENT
SUMMARY:Izpit: Smart Factories
DTSTART;TZID=Europe/Ljubljana:20260608T130000
DTEND;TZID=Europe/Ljubljana:20260608T150000
DTSTAMP:20260425T005524Z
UID:fs-AFLABS-URNIK:rezervacija:12622
ATTENDEE:Erasmus (Erasmus)
CATEGORIES:Reservation
COLOR:royalblue
DESCRIPTION:Predmeti: Smart Factories (SMFE)\nLetniki: Erasmus (Erasmus)\n
 Izvajalci: Niko Herakovič\nProstori: Lecture hall III/3B
LOCATION:Lecture hall III/3B
ORGANIZER:Niko Herakovič
X-WR-TIMEZONE:Europe/Ljubljana
END:VEVENT
BEGIN:VEVENT
SUMMARY:Izpit: Montažni in strežni sistemi
DTSTART;TZID=Europe/Ljubljana:20260608T100000
DTEND;TZID=Europe/Ljubljana:20260608T130000
DTSTAMP:20260425T005524Z
UID:fs-AFLABS-URNIK:rezervacija:12632
ATTENDEE:Production engineering (MAG-1)
CATEGORIES:Reservation
COLOR:royalblue
DESCRIPTION:Predmeti: Assembly and handling systems (MSSM)\nLetniki: Produ
 ction engineering (MAG-1)\nIzvajalci: Niko Herakovič\nProstori: Lecture h
 all V/2
LOCATION:Lecture hall V/2
ORGANIZER:Niko Herakovič
X-WR-TIMEZONE:Europe/Ljubljana
END:VEVENT
BEGIN:VEVENT
SUMMARY:Izpit: Montažni in strežni sistemi
DTSTART;TZID=Europe/Ljubljana:20260608T100000
DTEND;TZID=Europe/Ljubljana:20260608T130000
DTSTAMP:20260425T005524Z
UID:fs-AFLABS-URNIK:rezervacija:12633
ATTENDEE:Production engineering (MAG-1)
CATEGORIES:Reservation
COLOR:royalblue
DESCRIPTION:Predmeti: Assembly and handling systems (MSSM)\nLetniki: Produ
 ction engineering (MAG-1)\nIzvajalci: Niko Herakovič\nProstori: Lecture h
 all V/2
LOCATION:Lecture hall V/2
ORGANIZER:Niko Herakovič
X-WR-TIMEZONE:Europe/Ljubljana
END:VEVENT
BEGIN:VEVENT
SUMMARY:Izpit: Tehnologija montaže
DTSTART;TZID=Europe/Ljubljana:20260609T080000
DTEND;TZID=Europe/Ljubljana:20260609T110000
DTSTAMP:20260425T005524Z
UID:fs-AFLABS-URNIK:rezervacija:12751
ATTENDEE:Production technologies (PAP-2)
CATEGORIES:Reservation
COLOR:royalblue
DESCRIPTION:Predmeti: Assembly technology (THMP)\nLetniki: Production tech
 nologies (PAP-2)\nIzvajalci: Niko Herakovič\nProstori: Lecture hall III/4
 \, Lecture hall IV/4
LOCATION:Lecture hall III/4\, Lecture hall IV/4
ORGANIZER:Niko Herakovič
X-WR-TIMEZONE:Europe/Ljubljana
END:VEVENT
BEGIN:VEVENT
SUMMARY:Izpit: Tehnologija montaže
DTSTART;TZID=Europe/Ljubljana:20260623T080000
DTEND;TZID=Europe/Ljubljana:20260623T110000
DTSTAMP:20260425T005524Z
UID:fs-AFLABS-URNIK:rezervacija:12752
ATTENDEE:Production technologies (PAP-2)
CATEGORIES:Reservation
COLOR:royalblue
DESCRIPTION:Predmeti: Assembly technology (THMP)\nLetniki: Production tech
 nologies (PAP-2)\nIzvajalci: Niko Herakovič\nProstori: Lecture hall III/2
 \, Lecture hall III/4
LOCATION:Lecture hall III/2\, Lecture hall III/4
ORGANIZER:Niko Herakovič
X-WR-TIMEZONE:Europe/Ljubljana
END:VEVENT
BEGIN:VEVENT
SUMMARY:Izpit: Pametne tovarne
DTSTART;TZID=Europe/Ljubljana:20260608T130000
DTEND;TZID=Europe/Ljubljana:20260608T150000
DTSTAMP:20260425T005524Z
UID:fs-AFLABS-URNIK:rezervacija:12875
ATTENDEE:Production engineering (MAG-2)
CATEGORIES:Reservation
COLOR:royalblue
DESCRIPTION:Predmeti: Smart factories (PMTM)\nLetniki: Production engineer
 ing (MAG-2)\nIzvajalci: Niko Herakovič\nProstori: Lecture hall III/3B
LOCATION:Lecture hall III/3B
ORGANIZER:Niko Herakovič
X-WR-TIMEZONE:Europe/Ljubljana
END:VEVENT
END:VCALENDAR
