BEGIN:VCALENDAR
VERSION:2.0
PRODID:-//AFLabs urnik izvoz - fs//aflabs.si//SI
NAME:UL FS Urnik
X-WR-CALNAME:UL FS Urnik
DTSTAMP:20260422T182010Z
REFRESH-INTERVAL:PT1H
SOURCE:https://urnik.fs.uni-lj.si/en/teacher/698/?day=2025-12-01&export=1
URL:https://urnik.fs.uni-lj.si/en/teacher/698/?day=2025-12-01&export=1
X-PUBLISHED-TTL:PT1H
X-WR-TIMEZONE:Europe/Ljubljana
BEGIN:VTIMEZONE
TZID:Europe/Ljubljana
BEGIN:DAYLIGHT
DTSTART:20260329T020000
RDATE:20260329T020000
RDATE:20270328T020000
TZNAME:CEST
TZOFFSETFROM:+0100
TZOFFSETTO:+0200
END:DAYLIGHT
BEGIN:STANDARD
DTSTART:20261025T030000
RDATE:20261025T030000
RDATE:20271031T030000
TZNAME:CET
TZOFFSETFROM:+0200
TZOFFSETTO:+0100
END:STANDARD
END:VTIMEZONE
BEGIN:VEVENT
SUMMARY:Fluid statics and dynamics (SDTR)\, Laboratory excercises (VL)\, [
 S10]
DTSTART;TZID=Europe/Ljubljana:20251104T080000
DTEND;TZID=Europe/Ljubljana:20251104T100000
DTSTAMP:20260422T182010Z
UID:fs-AFLABS-URNIK:srecanje:15683-2025-11-04 08:00:00+01:00
DESCRIPTION:Predmet: Fluid statics and dynamics (SDTR)\, Laboratory excerc
 ises (VL)\, [S10]\nLetniki: RRP-2 (RRP-2)\nIzvajalci: Enej Istenič\, Boš
 tjan Mavrič\, Bor Zupan\nProstor: Laboratory LFDT K-1B
END:VEVENT
BEGIN:VEVENT
SUMMARY:Fluid statics and dynamics (SDTR)\, Laboratory excercises (VL)\, [
 S10]
DTSTART;TZID=Europe/Ljubljana:20251209T080000
DTEND;TZID=Europe/Ljubljana:20251209T100000
DTSTAMP:20260422T182010Z
UID:fs-AFLABS-URNIK:srecanje:15683-2025-12-09 08:00:00+01:00
DESCRIPTION:Predmet: Fluid statics and dynamics (SDTR)\, Laboratory excerc
 ises (VL)\, [S10]\nLetniki: RRP-2 (RRP-2)\nIzvajalci: Enej Istenič\, Boš
 tjan Mavrič\, Bor Zupan\nProstor: Laboratory LFDT K-1B
END:VEVENT
BEGIN:VEVENT
SUMMARY:Fluid statics and dynamics (SDTR)\, Laboratory excercises (VL)\, [
 S10]
DTSTART;TZID=Europe/Ljubljana:20251216T080000
DTEND;TZID=Europe/Ljubljana:20251216T100000
DTSTAMP:20260422T182010Z
UID:fs-AFLABS-URNIK:srecanje:15683-2025-12-16 08:00:00+01:00
DESCRIPTION:Predmet: Fluid statics and dynamics (SDTR)\, Laboratory excerc
 ises (VL)\, [S10]\nLetniki: RRP-2 (RRP-2)\nIzvajalci: Enej Istenič\, Boš
 tjan Mavrič\, Bor Zupan\nProstor: Laboratory LFDT K-1B
END:VEVENT
BEGIN:VEVENT
SUMMARY:Fluid statics and dynamics (SDTR)\, Laboratory excercises (VL)\, [
 S11]
DTSTART;TZID=Europe/Ljubljana:20251104T100000
DTEND;TZID=Europe/Ljubljana:20251104T120000
DTSTAMP:20260422T182010Z
UID:fs-AFLABS-URNIK:srecanje:15684-2025-11-04 10:00:00+01:00
DESCRIPTION:Predmet: Fluid statics and dynamics (SDTR)\, Laboratory excerc
 ises (VL)\, [S11]\nLetniki: RRP-2 (RRP-2)\nIzvajalci: Enej Istenič\, Boš
 tjan Mavrič\, Bor Zupan\nProstor: Laboratory LFDT K-1B
END:VEVENT
BEGIN:VEVENT
SUMMARY:Fluid statics and dynamics (SDTR)\, Laboratory excercises (VL)\, [
 S11]
DTSTART;TZID=Europe/Ljubljana:20251209T100000
DTEND;TZID=Europe/Ljubljana:20251209T120000
DTSTAMP:20260422T182010Z
UID:fs-AFLABS-URNIK:srecanje:15684-2025-12-09 10:00:00+01:00
DESCRIPTION:Predmet: Fluid statics and dynamics (SDTR)\, Laboratory excerc
 ises (VL)\, [S11]\nLetniki: RRP-2 (RRP-2)\nIzvajalci: Enej Istenič\, Boš
 tjan Mavrič\, Bor Zupan\nProstor: Laboratory LFDT K-1B
END:VEVENT
BEGIN:VEVENT
SUMMARY:Fluid statics and dynamics (SDTR)\, Laboratory excercises (VL)\, [
 S11]
DTSTART;TZID=Europe/Ljubljana:20251216T100000
DTEND;TZID=Europe/Ljubljana:20251216T120000
DTSTAMP:20260422T182010Z
UID:fs-AFLABS-URNIK:srecanje:15684-2025-12-16 10:00:00+01:00
DESCRIPTION:Predmet: Fluid statics and dynamics (SDTR)\, Laboratory excerc
 ises (VL)\, [S11]\nLetniki: RRP-2 (RRP-2)\nIzvajalci: Enej Istenič\, Boš
 tjan Mavrič\, Bor Zupan\nProstor: Laboratory LFDT K-1B
END:VEVENT
BEGIN:VEVENT
SUMMARY:Fluid statics and dynamics (SDTR)\, Laboratory excercises (VL)\, [
 S14]
DTSTART;TZID=Europe/Ljubljana:20251104T120000
DTEND;TZID=Europe/Ljubljana:20251104T140000
DTSTAMP:20260422T182010Z
UID:fs-AFLABS-URNIK:srecanje:15685-2025-11-04 12:00:00+01:00
DESCRIPTION:Predmet: Fluid statics and dynamics (SDTR)\, Laboratory excerc
 ises (VL)\, [S14]\nLetniki: RRP-2 (RRP-2)\nIzvajalci: Enej Istenič\, Boš
 tjan Mavrič\, Bor Zupan\nProstor: Laboratory LFDT K-1B
END:VEVENT
BEGIN:VEVENT
SUMMARY:Fluid statics and dynamics (SDTR)\, Laboratory excercises (VL)\, [
 S14]
DTSTART;TZID=Europe/Ljubljana:20251209T120000
DTEND;TZID=Europe/Ljubljana:20251209T140000
DTSTAMP:20260422T182010Z
UID:fs-AFLABS-URNIK:srecanje:15685-2025-12-09 12:00:00+01:00
DESCRIPTION:Predmet: Fluid statics and dynamics (SDTR)\, Laboratory excerc
 ises (VL)\, [S14]\nLetniki: RRP-2 (RRP-2)\nIzvajalci: Enej Istenič\, Boš
 tjan Mavrič\, Bor Zupan\nProstor: Laboratory LFDT K-1B
END:VEVENT
BEGIN:VEVENT
SUMMARY:Fluid statics and dynamics (SDTR)\, Laboratory excercises (VL)\, [
 S14]
DTSTART;TZID=Europe/Ljubljana:20251216T120000
DTEND;TZID=Europe/Ljubljana:20251216T140000
DTSTAMP:20260422T182010Z
UID:fs-AFLABS-URNIK:srecanje:15685-2025-12-16 12:00:00+01:00
DESCRIPTION:Predmet: Fluid statics and dynamics (SDTR)\, Laboratory excerc
 ises (VL)\, [S14]\nLetniki: RRP-2 (RRP-2)\nIzvajalci: Enej Istenič\, Boš
 tjan Mavrič\, Bor Zupan\nProstor: Laboratory LFDT K-1B
END:VEVENT
BEGIN:VEVENT
SUMMARY:Fluid statics and dynamics (SDTR)\, Laboratory excercises (VL)\, [
 S1]
DTSTART;TZID=Europe/Ljubljana:20251104T140000
DTEND;TZID=Europe/Ljubljana:20251104T160000
DTSTAMP:20260422T182010Z
UID:fs-AFLABS-URNIK:srecanje:15686-2025-11-04 14:00:00+01:00
DESCRIPTION:Predmet: Fluid statics and dynamics (SDTR)\, Laboratory excerc
 ises (VL)\, [S1]\nLetniki: RRP-2 (RRP-2)\nIzvajalci: Enej Istenič\, Bošt
 jan Mavrič\, Bor Zupan\nProstor: Laboratory LFDT K-1B
END:VEVENT
BEGIN:VEVENT
SUMMARY:Fluid statics and dynamics (SDTR)\, Laboratory excercises (VL)\, [
 S1]
DTSTART;TZID=Europe/Ljubljana:20251209T140000
DTEND;TZID=Europe/Ljubljana:20251209T160000
DTSTAMP:20260422T182010Z
UID:fs-AFLABS-URNIK:srecanje:15686-2025-12-09 14:00:00+01:00
DESCRIPTION:Predmet: Fluid statics and dynamics (SDTR)\, Laboratory excerc
 ises (VL)\, [S1]\nLetniki: RRP-2 (RRP-2)\nIzvajalci: Enej Istenič\, Bošt
 jan Mavrič\, Bor Zupan\nProstor: Laboratory LFDT K-1B
END:VEVENT
BEGIN:VEVENT
SUMMARY:Fluid statics and dynamics (SDTR)\, Laboratory excercises (VL)\, [
 S1]
DTSTART;TZID=Europe/Ljubljana:20251216T140000
DTEND;TZID=Europe/Ljubljana:20251216T160000
DTSTAMP:20260422T182010Z
UID:fs-AFLABS-URNIK:srecanje:15686-2025-12-16 14:00:00+01:00
DESCRIPTION:Predmet: Fluid statics and dynamics (SDTR)\, Laboratory excerc
 ises (VL)\, [S1]\nLetniki: RRP-2 (RRP-2)\nIzvajalci: Enej Istenič\, Bošt
 jan Mavrič\, Bor Zupan\nProstor: Laboratory LFDT K-1B
END:VEVENT
BEGIN:VEVENT
SUMMARY:Fluid statics and dynamics (SDTR)\, Laboratory excercises (VL)\, [
 S9]
DTSTART;TZID=Europe/Ljubljana:20251106T080000
DTEND;TZID=Europe/Ljubljana:20251106T100000
DTSTAMP:20260422T182010Z
UID:fs-AFLABS-URNIK:srecanje:15687-2025-11-06 08:00:00+01:00
DESCRIPTION:Predmet: Fluid statics and dynamics (SDTR)\, Laboratory excerc
 ises (VL)\, [S9]\nLetniki: RRP-2 (RRP-2)\nIzvajalci: Enej Istenič\, Bošt
 jan Mavrič\, Bor Zupan\nProstor: Laboratory LFDT K-1B
END:VEVENT
BEGIN:VEVENT
SUMMARY:Fluid statics and dynamics (SDTR)\, Laboratory excercises (VL)\, [
 S9]
DTSTART;TZID=Europe/Ljubljana:20251211T080000
DTEND;TZID=Europe/Ljubljana:20251211T100000
DTSTAMP:20260422T182010Z
UID:fs-AFLABS-URNIK:srecanje:15687-2025-12-11 08:00:00+01:00
DESCRIPTION:Predmet: Fluid statics and dynamics (SDTR)\, Laboratory excerc
 ises (VL)\, [S9]\nLetniki: RRP-2 (RRP-2)\nIzvajalci: Enej Istenič\, Bošt
 jan Mavrič\, Bor Zupan\nProstor: Laboratory LFDT K-1B
END:VEVENT
BEGIN:VEVENT
SUMMARY:Fluid statics and dynamics (SDTR)\, Laboratory excercises (VL)\, [
 S9]
DTSTART;TZID=Europe/Ljubljana:20251218T080000
DTEND;TZID=Europe/Ljubljana:20251218T100000
DTSTAMP:20260422T182010Z
UID:fs-AFLABS-URNIK:srecanje:15687-2025-12-18 08:00:00+01:00
DESCRIPTION:Predmet: Fluid statics and dynamics (SDTR)\, Laboratory excerc
 ises (VL)\, [S9]\nLetniki: RRP-2 (RRP-2)\nIzvajalci: Enej Istenič\, Bošt
 jan Mavrič\, Bor Zupan\nProstor: Laboratory LFDT K-1B
END:VEVENT
BEGIN:VEVENT
SUMMARY:Fluid statics and dynamics (SDTR)\, Laboratory excercises (VL)\, [
 S15]
DTSTART;TZID=Europe/Ljubljana:20251106T100000
DTEND;TZID=Europe/Ljubljana:20251106T120000
DTSTAMP:20260422T182010Z
UID:fs-AFLABS-URNIK:srecanje:15688-2025-11-06 10:00:00+01:00
DESCRIPTION:Predmet: Fluid statics and dynamics (SDTR)\, Laboratory excerc
 ises (VL)\, [S15]\nLetniki: RRP-2 (RRP-2)\nIzvajalci: Enej Istenič\, Boš
 tjan Mavrič\, Bor Zupan\nProstor: Laboratory LFDT K-1B
END:VEVENT
BEGIN:VEVENT
SUMMARY:Fluid statics and dynamics (SDTR)\, Laboratory excercises (VL)\, [
 S15]
DTSTART;TZID=Europe/Ljubljana:20251211T100000
DTEND;TZID=Europe/Ljubljana:20251211T120000
DTSTAMP:20260422T182010Z
UID:fs-AFLABS-URNIK:srecanje:15688-2025-12-11 10:00:00+01:00
DESCRIPTION:Predmet: Fluid statics and dynamics (SDTR)\, Laboratory excerc
 ises (VL)\, [S15]\nLetniki: RRP-2 (RRP-2)\nIzvajalci: Enej Istenič\, Boš
 tjan Mavrič\, Bor Zupan\nProstor: Laboratory LFDT K-1B
END:VEVENT
BEGIN:VEVENT
SUMMARY:Fluid statics and dynamics (SDTR)\, Laboratory excercises (VL)\, [
 S15]
DTSTART;TZID=Europe/Ljubljana:20251218T100000
DTEND;TZID=Europe/Ljubljana:20251218T120000
DTSTAMP:20260422T182010Z
UID:fs-AFLABS-URNIK:srecanje:15688-2025-12-18 10:00:00+01:00
DESCRIPTION:Predmet: Fluid statics and dynamics (SDTR)\, Laboratory excerc
 ises (VL)\, [S15]\nLetniki: RRP-2 (RRP-2)\nIzvajalci: Enej Istenič\, Boš
 tjan Mavrič\, Bor Zupan\nProstor: Laboratory LFDT K-1B
END:VEVENT
BEGIN:VEVENT
SUMMARY:Fluid statics and dynamics (SDTR)\, Laboratory excercises (VL)\, [
 S12]
DTSTART;TZID=Europe/Ljubljana:20251106T120000
DTEND;TZID=Europe/Ljubljana:20251106T140000
DTSTAMP:20260422T182010Z
UID:fs-AFLABS-URNIK:srecanje:15689-2025-11-06 12:00:00+01:00
DESCRIPTION:Predmet: Fluid statics and dynamics (SDTR)\, Laboratory excerc
 ises (VL)\, [S12]\nLetniki: RRP-2 (RRP-2)\nIzvajalci: Enej Istenič\, Bor 
 Zupan\nProstor: Laboratory LFDT K-1B
END:VEVENT
BEGIN:VEVENT
SUMMARY:Fluid statics and dynamics (SDTR)\, Laboratory excercises (VL)\, [
 S12]
DTSTART;TZID=Europe/Ljubljana:20251211T120000
DTEND;TZID=Europe/Ljubljana:20251211T140000
DTSTAMP:20260422T182010Z
UID:fs-AFLABS-URNIK:srecanje:15689-2025-12-11 12:00:00+01:00
DESCRIPTION:Predmet: Fluid statics and dynamics (SDTR)\, Laboratory excerc
 ises (VL)\, [S12]\nLetniki: RRP-2 (RRP-2)\nIzvajalci: Enej Istenič\, Bor 
 Zupan\nProstor: Laboratory LFDT K-1B
END:VEVENT
BEGIN:VEVENT
SUMMARY:Fluid statics and dynamics (SDTR)\, Laboratory excercises (VL)\, [
 S12]
DTSTART;TZID=Europe/Ljubljana:20251218T120000
DTEND;TZID=Europe/Ljubljana:20251218T140000
DTSTAMP:20260422T182010Z
UID:fs-AFLABS-URNIK:srecanje:15689-2025-12-18 12:00:00+01:00
DESCRIPTION:Predmet: Fluid statics and dynamics (SDTR)\, Laboratory excerc
 ises (VL)\, [S12]\nLetniki: RRP-2 (RRP-2)\nIzvajalci: Enej Istenič\, Bor 
 Zupan\nProstor: Laboratory LFDT K-1B
END:VEVENT
BEGIN:VEVENT
SUMMARY:Fluid statics and dynamics (SDTR)\, Laboratory excercises (VL)\, [
 S4]
DTSTART;TZID=Europe/Ljubljana:20251106T140000
DTEND;TZID=Europe/Ljubljana:20251106T160000
DTSTAMP:20260422T182010Z
UID:fs-AFLABS-URNIK:srecanje:15690-2025-11-06 14:00:00+01:00
DESCRIPTION:Predmet: Fluid statics and dynamics (SDTR)\, Laboratory excerc
 ises (VL)\, [S4]\nLetniki: RRP-2 (RRP-2)\nIzvajalci: Enej Istenič\, Bošt
 jan Mavrič\, Bor Zupan\nProstor: Laboratory LFDT K-1B
END:VEVENT
BEGIN:VEVENT
SUMMARY:Fluid statics and dynamics (SDTR)\, Laboratory excercises (VL)\, [
 S4]
DTSTART;TZID=Europe/Ljubljana:20251211T140000
DTEND;TZID=Europe/Ljubljana:20251211T160000
DTSTAMP:20260422T182010Z
UID:fs-AFLABS-URNIK:srecanje:15690-2025-12-11 14:00:00+01:00
DESCRIPTION:Predmet: Fluid statics and dynamics (SDTR)\, Laboratory excerc
 ises (VL)\, [S4]\nLetniki: RRP-2 (RRP-2)\nIzvajalci: Enej Istenič\, Bošt
 jan Mavrič\, Bor Zupan\nProstor: Laboratory LFDT K-1B
END:VEVENT
BEGIN:VEVENT
SUMMARY:Fluid statics and dynamics (SDTR)\, Laboratory excercises (VL)\, [
 S4]
DTSTART;TZID=Europe/Ljubljana:20251218T140000
DTEND;TZID=Europe/Ljubljana:20251218T160000
DTSTAMP:20260422T182010Z
UID:fs-AFLABS-URNIK:srecanje:15690-2025-12-18 14:00:00+01:00
DESCRIPTION:Predmet: Fluid statics and dynamics (SDTR)\, Laboratory excerc
 ises (VL)\, [S4]\nLetniki: RRP-2 (RRP-2)\nIzvajalci: Enej Istenič\, Bošt
 jan Mavrič\, Bor Zupan\nProstor: Laboratory LFDT K-1B
END:VEVENT
BEGIN:VEVENT
SUMMARY:Fluid statics and dynamics (SDTR)\, Laboratory excercises (VL)\, [
 S8]
DTSTART;TZID=Europe/Ljubljana:20251107T080000
DTEND;TZID=Europe/Ljubljana:20251107T100000
DTSTAMP:20260422T182010Z
UID:fs-AFLABS-URNIK:srecanje:15691-2025-11-07 08:00:00+01:00
DESCRIPTION:Predmet: Fluid statics and dynamics (SDTR)\, Laboratory excerc
 ises (VL)\, [S8]\nLetniki: RRP-2 (RRP-2)\nIzvajalci: Enej Istenič\, Bošt
 jan Mavrič\, Bor Zupan\nProstor: Laboratory LFDT K-1B
END:VEVENT
BEGIN:VEVENT
SUMMARY:Fluid statics and dynamics (SDTR)\, Laboratory excercises (VL)\, [
 S8]
DTSTART;TZID=Europe/Ljubljana:20251212T080000
DTEND;TZID=Europe/Ljubljana:20251212T100000
DTSTAMP:20260422T182010Z
UID:fs-AFLABS-URNIK:srecanje:15691-2025-12-12 08:00:00+01:00
DESCRIPTION:Predmet: Fluid statics and dynamics (SDTR)\, Laboratory excerc
 ises (VL)\, [S8]\nLetniki: RRP-2 (RRP-2)\nIzvajalci: Enej Istenič\, Bošt
 jan Mavrič\, Bor Zupan\nProstor: Laboratory LFDT K-1B
END:VEVENT
BEGIN:VEVENT
SUMMARY:Fluid statics and dynamics (SDTR)\, Laboratory excercises (VL)\, [
 S8]
DTSTART;TZID=Europe/Ljubljana:20251219T080000
DTEND;TZID=Europe/Ljubljana:20251219T100000
DTSTAMP:20260422T182010Z
UID:fs-AFLABS-URNIK:srecanje:15691-2025-12-19 08:00:00+01:00
DESCRIPTION:Predmet: Fluid statics and dynamics (SDTR)\, Laboratory excerc
 ises (VL)\, [S8]\nLetniki: RRP-2 (RRP-2)\nIzvajalci: Enej Istenič\, Bošt
 jan Mavrič\, Bor Zupan\nProstor: Laboratory LFDT K-1B
END:VEVENT
BEGIN:VEVENT
SUMMARY:Fluid statics and dynamics (SDTR)\, Laboratory excercises (VL)\, [
 S7]
DTSTART;TZID=Europe/Ljubljana:20251107T120000
DTEND;TZID=Europe/Ljubljana:20251107T140000
DTSTAMP:20260422T182010Z
UID:fs-AFLABS-URNIK:srecanje:15692-2025-11-07 12:00:00+01:00
DESCRIPTION:Predmet: Fluid statics and dynamics (SDTR)\, Laboratory excerc
 ises (VL)\, [S7]\nLetniki: RRP-2 (RRP-2)\nIzvajalci: Enej Istenič\, Bošt
 jan Mavrič\, Bor Zupan\nProstor: Laboratory LFDT K-1B
END:VEVENT
BEGIN:VEVENT
SUMMARY:Fluid statics and dynamics (SDTR)\, Laboratory excercises (VL)\, [
 S7]
DTSTART;TZID=Europe/Ljubljana:20251212T120000
DTEND;TZID=Europe/Ljubljana:20251212T140000
DTSTAMP:20260422T182010Z
UID:fs-AFLABS-URNIK:srecanje:15692-2025-12-12 12:00:00+01:00
DESCRIPTION:Predmet: Fluid statics and dynamics (SDTR)\, Laboratory excerc
 ises (VL)\, [S7]\nLetniki: RRP-2 (RRP-2)\nIzvajalci: Enej Istenič\, Bošt
 jan Mavrič\, Bor Zupan\nProstor: Laboratory LFDT K-1B
END:VEVENT
BEGIN:VEVENT
SUMMARY:Fluid statics and dynamics (SDTR)\, Laboratory excercises (VL)\, [
 S7]
DTSTART;TZID=Europe/Ljubljana:20251219T120000
DTEND;TZID=Europe/Ljubljana:20251219T140000
DTSTAMP:20260422T182010Z
UID:fs-AFLABS-URNIK:srecanje:15692-2025-12-19 12:00:00+01:00
DESCRIPTION:Predmet: Fluid statics and dynamics (SDTR)\, Laboratory excerc
 ises (VL)\, [S7]\nLetniki: RRP-2 (RRP-2)\nIzvajalci: Enej Istenič\, Bošt
 jan Mavrič\, Bor Zupan\nProstor: Laboratory LFDT K-1B
END:VEVENT
BEGIN:VEVENT
SUMMARY:Fluid statics and dynamics (SDTR)\, Laboratory excercises (VL)\, [
 S6]
DTSTART;TZID=Europe/Ljubljana:20251107T140000
DTEND;TZID=Europe/Ljubljana:20251107T160000
DTSTAMP:20260422T182010Z
UID:fs-AFLABS-URNIK:srecanje:15693-2025-11-07 14:00:00+01:00
DESCRIPTION:Predmet: Fluid statics and dynamics (SDTR)\, Laboratory excerc
 ises (VL)\, [S6]\nLetniki: RRP-2 (RRP-2)\nIzvajalci: Enej Istenič\, Bošt
 jan Mavrič\, Bor Zupan\nProstor: Laboratory LFDT K-1B
END:VEVENT
BEGIN:VEVENT
SUMMARY:Fluid statics and dynamics (SDTR)\, Laboratory excercises (VL)\, [
 S6]
DTSTART;TZID=Europe/Ljubljana:20251212T140000
DTEND;TZID=Europe/Ljubljana:20251212T160000
DTSTAMP:20260422T182010Z
UID:fs-AFLABS-URNIK:srecanje:15693-2025-12-12 14:00:00+01:00
DESCRIPTION:Predmet: Fluid statics and dynamics (SDTR)\, Laboratory excerc
 ises (VL)\, [S6]\nLetniki: RRP-2 (RRP-2)\nIzvajalci: Enej Istenič\, Bošt
 jan Mavrič\, Bor Zupan\nProstor: Laboratory LFDT K-1B
END:VEVENT
BEGIN:VEVENT
SUMMARY:Fluid statics and dynamics (SDTR)\, Laboratory excercises (VL)\, [
 S6]
DTSTART;TZID=Europe/Ljubljana:20251219T140000
DTEND;TZID=Europe/Ljubljana:20251219T160000
DTSTAMP:20260422T182010Z
UID:fs-AFLABS-URNIK:srecanje:15693-2025-12-19 14:00:00+01:00
DESCRIPTION:Predmet: Fluid statics and dynamics (SDTR)\, Laboratory excerc
 ises (VL)\, [S6]\nLetniki: RRP-2 (RRP-2)\nIzvajalci: Enej Istenič\, Bošt
 jan Mavrič\, Bor Zupan\nProstor: Laboratory LFDT K-1B
END:VEVENT
BEGIN:VEVENT
SUMMARY:Fluid statics and dynamics (SDTR)\, Laboratory excercises (VL)\, [
 S16]
DTSTART;TZID=Europe/Ljubljana:20251107T160000
DTEND;TZID=Europe/Ljubljana:20251107T180000
DTSTAMP:20260422T182010Z
UID:fs-AFLABS-URNIK:srecanje:15694-2025-11-07 16:00:00+01:00
DESCRIPTION:Predmet: Fluid statics and dynamics (SDTR)\, Laboratory excerc
 ises (VL)\, [S16]\nLetniki: RRP-2 (RRP-2)\nIzvajalci: Enej Istenič\, Boš
 tjan Mavrič\, Bor Zupan\nProstor: Laboratory LFDT K-1B
END:VEVENT
BEGIN:VEVENT
SUMMARY:Fluid statics and dynamics (SDTR)\, Laboratory excercises (VL)\, [
 S16]
DTSTART;TZID=Europe/Ljubljana:20251212T160000
DTEND;TZID=Europe/Ljubljana:20251212T180000
DTSTAMP:20260422T182010Z
UID:fs-AFLABS-URNIK:srecanje:15694-2025-12-12 16:00:00+01:00
DESCRIPTION:Predmet: Fluid statics and dynamics (SDTR)\, Laboratory excerc
 ises (VL)\, [S16]\nLetniki: RRP-2 (RRP-2)\nIzvajalci: Enej Istenič\, Boš
 tjan Mavrič\, Bor Zupan\nProstor: Laboratory LFDT K-1B
END:VEVENT
BEGIN:VEVENT
SUMMARY:Fluid statics and dynamics (SDTR)\, Laboratory excercises (VL)\, [
 S16]
DTSTART;TZID=Europe/Ljubljana:20251219T160000
DTEND;TZID=Europe/Ljubljana:20251219T180000
DTSTAMP:20260422T182010Z
UID:fs-AFLABS-URNIK:srecanje:15694-2025-12-19 16:00:00+01:00
DESCRIPTION:Predmet: Fluid statics and dynamics (SDTR)\, Laboratory excerc
 ises (VL)\, [S16]\nLetniki: RRP-2 (RRP-2)\nIzvajalci: Enej Istenič\, Boš
 tjan Mavrič\, Bor Zupan\nProstor: Laboratory LFDT K-1B
END:VEVENT
BEGIN:VEVENT
SUMMARY:Fluid statics and dynamics (SDTR)\, Laboratory excercises (VL)\, [
 S3]
DTSTART;TZID=Europe/Ljubljana:20251111T100000
DTEND;TZID=Europe/Ljubljana:20251111T120000
DTSTAMP:20260422T182010Z
UID:fs-AFLABS-URNIK:srecanje:15695-2025-11-11 10:00:00+01:00
DESCRIPTION:Predmet: Fluid statics and dynamics (SDTR)\, Laboratory excerc
 ises (VL)\, [S3]\nLetniki: RRP-2 (RRP-2)\nIzvajalci: Enej Istenič\, Bošt
 jan Mavrič\, Bor Zupan\nProstor: Laboratory LFDT K-1B
END:VEVENT
BEGIN:VEVENT
SUMMARY:Fluid statics and dynamics (SDTR)\, Laboratory excercises (VL)\, [
 S3]
DTSTART;TZID=Europe/Ljubljana:20251202T100000
DTEND;TZID=Europe/Ljubljana:20251202T120000
DTSTAMP:20260422T182010Z
UID:fs-AFLABS-URNIK:srecanje:15695-2025-12-02 10:00:00+01:00
DESCRIPTION:Predmet: Fluid statics and dynamics (SDTR)\, Laboratory excerc
 ises (VL)\, [S3]\nLetniki: RRP-2 (RRP-2)\nIzvajalci: Enej Istenič\, Bošt
 jan Mavrič\, Bor Zupan\nProstor: Laboratory LFDT K-1B
END:VEVENT
BEGIN:VEVENT
SUMMARY:Fluid statics and dynamics (SDTR)\, Laboratory excercises (VL)\, [
 S3]
DTSTART;TZID=Europe/Ljubljana:20251223T100000
DTEND;TZID=Europe/Ljubljana:20251223T120000
DTSTAMP:20260422T182010Z
UID:fs-AFLABS-URNIK:srecanje:15695-2025-12-23 10:00:00+01:00
DESCRIPTION:Predmet: Fluid statics and dynamics (SDTR)\, Laboratory excerc
 ises (VL)\, [S3]\nLetniki: RRP-2 (RRP-2)\nIzvajalci: Enej Istenič\, Bošt
 jan Mavrič\, Bor Zupan\nProstor: Laboratory LFDT K-1B
END:VEVENT
BEGIN:VEVENT
SUMMARY:Fluid statics and dynamics (SDTR)\, Laboratory excercises (VL)\, [
 S2]
DTSTART;TZID=Europe/Ljubljana:20251111T140000
DTEND;TZID=Europe/Ljubljana:20251111T160000
DTSTAMP:20260422T182010Z
UID:fs-AFLABS-URNIK:srecanje:13586-2025-11-11 14:00:00+01:00
DESCRIPTION:Predmet: Fluid statics and dynamics (SDTR)\, Laboratory excerc
 ises (VL)\, [S2]\nLetniki: RRP-2 (RRP-2)\nIzvajalci: Enej Istenič\, Bošt
 jan Mavrič\, Bor Zupan\nProstor: Laboratory LFDT K-1B
END:VEVENT
BEGIN:VEVENT
SUMMARY:Fluid statics and dynamics (SDTR)\, Laboratory excercises (VL)\, [
 S2]
DTSTART;TZID=Europe/Ljubljana:20251202T140000
DTEND;TZID=Europe/Ljubljana:20251202T160000
DTSTAMP:20260422T182010Z
UID:fs-AFLABS-URNIK:srecanje:13586-2025-12-02 14:00:00+01:00
DESCRIPTION:Predmet: Fluid statics and dynamics (SDTR)\, Laboratory excerc
 ises (VL)\, [S2]\nLetniki: RRP-2 (RRP-2)\nIzvajalci: Enej Istenič\, Bošt
 jan Mavrič\, Bor Zupan\nProstor: Laboratory LFDT K-1B
END:VEVENT
BEGIN:VEVENT
SUMMARY:Fluid statics and dynamics (SDTR)\, Laboratory excercises (VL)\, [
 S2]
DTSTART;TZID=Europe/Ljubljana:20251223T140000
DTEND;TZID=Europe/Ljubljana:20251223T160000
DTSTAMP:20260422T182010Z
UID:fs-AFLABS-URNIK:srecanje:13586-2025-12-23 14:00:00+01:00
DESCRIPTION:Predmet: Fluid statics and dynamics (SDTR)\, Laboratory excerc
 ises (VL)\, [S2]\nLetniki: RRP-2 (RRP-2)\nIzvajalci: Enej Istenič\, Bošt
 jan Mavrič\, Bor Zupan\nProstor: Laboratory LFDT K-1B
END:VEVENT
BEGIN:VEVENT
SUMMARY:Fluid statics and dynamics (SDTR)\, Laboratory excercises (VL)\, [
 S13]
DTSTART;TZID=Europe/Ljubljana:20251113T120000
DTEND;TZID=Europe/Ljubljana:20251113T140000
DTSTAMP:20260422T182010Z
UID:fs-AFLABS-URNIK:srecanje:15696-2025-11-13 12:00:00+01:00
DESCRIPTION:Predmet: Fluid statics and dynamics (SDTR)\, Laboratory excerc
 ises (VL)\, [S13]\nLetniki: RRP-2 (RRP-2)\nIzvajalci: Enej Istenič\, Bor 
 Zupan\nProstor: Laboratory LFDT K-1B
END:VEVENT
BEGIN:VEVENT
SUMMARY:Fluid statics and dynamics (SDTR)\, Laboratory excercises (VL)\, [
 S13]
DTSTART;TZID=Europe/Ljubljana:20251204T120000
DTEND;TZID=Europe/Ljubljana:20251204T140000
DTSTAMP:20260422T182010Z
UID:fs-AFLABS-URNIK:srecanje:15696-2025-12-04 12:00:00+01:00
DESCRIPTION:Predmet: Fluid statics and dynamics (SDTR)\, Laboratory excerc
 ises (VL)\, [S13]\nLetniki: RRP-2 (RRP-2)\nIzvajalci: Enej Istenič\, Bor 
 Zupan\nProstor: Laboratory LFDT K-1B
END:VEVENT
BEGIN:VEVENT
SUMMARY:Fluid statics and dynamics (SDTR)\, Laboratory excercises (VL)\, [
 S13]
DTSTART;TZID=Europe/Ljubljana:20251225T120000
DTEND;TZID=Europe/Ljubljana:20251225T140000
DTSTAMP:20260422T182010Z
UID:fs-AFLABS-URNIK:srecanje:15696-2025-12-25 12:00:00+01:00
DESCRIPTION:Predmet: Fluid statics and dynamics (SDTR)\, Laboratory excerc
 ises (VL)\, [S13]\nLetniki: RRP-2 (RRP-2)\nIzvajalci: Enej Istenič\, Bor 
 Zupan\nProstor: Laboratory LFDT K-1B
END:VEVENT
BEGIN:VEVENT
SUMMARY:Fluid statics and dynamics (SDTR)\, Laboratory excercises (VL)\, [
 S5]
DTSTART;TZID=Europe/Ljubljana:20251113T140000
DTEND;TZID=Europe/Ljubljana:20251113T160000
DTSTAMP:20260422T182010Z
UID:fs-AFLABS-URNIK:srecanje:15697-2025-11-13 14:00:00+01:00
DESCRIPTION:Predmet: Fluid statics and dynamics (SDTR)\, Laboratory excerc
 ises (VL)\, [S5]\nLetniki: RRP-2 (RRP-2)\nIzvajalci: Enej Istenič\, Bošt
 jan Mavrič\, Bor Zupan\nProstor: Laboratory LFDT K-1B
END:VEVENT
BEGIN:VEVENT
SUMMARY:Fluid statics and dynamics (SDTR)\, Laboratory excercises (VL)\, [
 S5]
DTSTART;TZID=Europe/Ljubljana:20251204T140000
DTEND;TZID=Europe/Ljubljana:20251204T160000
DTSTAMP:20260422T182010Z
UID:fs-AFLABS-URNIK:srecanje:15697-2025-12-04 14:00:00+01:00
DESCRIPTION:Predmet: Fluid statics and dynamics (SDTR)\, Laboratory excerc
 ises (VL)\, [S5]\nLetniki: RRP-2 (RRP-2)\nIzvajalci: Enej Istenič\, Bošt
 jan Mavrič\, Bor Zupan\nProstor: Laboratory LFDT K-1B
END:VEVENT
BEGIN:VEVENT
SUMMARY:Fluid statics and dynamics (SDTR)\, Laboratory excercises (VL)\, [
 S5]
DTSTART;TZID=Europe/Ljubljana:20251225T140000
DTEND;TZID=Europe/Ljubljana:20251225T160000
DTSTAMP:20260422T182010Z
UID:fs-AFLABS-URNIK:srecanje:15697-2025-12-25 14:00:00+01:00
DESCRIPTION:Predmet: Fluid statics and dynamics (SDTR)\, Laboratory excerc
 ises (VL)\, [S5]\nLetniki: RRP-2 (RRP-2)\nIzvajalci: Enej Istenič\, Bošt
 jan Mavrič\, Bor Zupan\nProstor: Laboratory LFDT K-1B
END:VEVENT
END:VCALENDAR
