BEGIN:VCALENDAR
VERSION:2.0
PRODID:-//AFLabs urnik izvoz - fs//aflabs.si//SI
NAME:UL FS Urnik
X-WR-CALNAME:UL FS Urnik
DTSTAMP:20260421T063154Z
REFRESH-INTERVAL:PT1H
SOURCE:https://urnik.fs.uni-lj.si/en/teacher/700/?day=2024-02-05&export=1
URL:https://urnik.fs.uni-lj.si/en/teacher/700/?day=2024-02-05&export=1
X-PUBLISHED-TTL:PT1H
X-WR-TIMEZONE:Europe/Ljubljana
BEGIN:VTIMEZONE
TZID:Europe/Ljubljana
BEGIN:DAYLIGHT
DTSTART:20260329T020000
RDATE:20260329T020000
RDATE:20270328T020000
TZNAME:CEST
TZOFFSETFROM:+0100
TZOFFSETTO:+0200
END:DAYLIGHT
BEGIN:STANDARD
DTSTART:20261025T030000
RDATE:20261025T030000
RDATE:20271031T030000
TZNAME:CET
TZOFFSETFROM:+0200
TZOFFSETTO:+0100
END:STANDARD
END:VTIMEZONE
BEGIN:VEVENT
SUMMARY:Lubricants and lubrication (MZMP)\, Lecture exercises (VP)
DTSTART;TZID=Europe/Ljubljana:20240219T113000
DTEND;TZID=Europe/Ljubljana:20240219T133000
DTSTAMP:20260421T063154Z
UID:fs-AFLABS-URNIK:srecanje:3723-2024-02-19 11:30:00+01:00
DESCRIPTION:Predmet: Lubricants and lubrication (MZMP)\, Lecture exercises
  (VP)\nLetniki: Konstruiranje strojev in naprav (PAP-2)\nIzvajalci: Lucija
  Čoga\, Petra Jan\, Urban Klanjšček\, Mark Kuzman\, Marko Polajnar\, To
 maž Požar\, Jožica Sterle\nProstor: Lecture hall III/3A
END:VEVENT
BEGIN:VEVENT
SUMMARY:Lubricants and lubrication (MZMP)\, Lecture exercises (VP)
DTSTART;TZID=Europe/Ljubljana:20240226T113000
DTEND;TZID=Europe/Ljubljana:20240226T133000
DTSTAMP:20260421T063154Z
UID:fs-AFLABS-URNIK:srecanje:3723-2024-02-26 11:30:00+01:00
DESCRIPTION:Predmet: Lubricants and lubrication (MZMP)\, Lecture exercises
  (VP)\nLetniki: Konstruiranje strojev in naprav (PAP-2)\nIzvajalci: Lucija
  Čoga\, Petra Jan\, Urban Klanjšček\, Mark Kuzman\, Marko Polajnar\, To
 maž Požar\, Jožica Sterle\nProstor: Lecture hall III/3A
END:VEVENT
BEGIN:VEVENT
SUMMARY:Lubricants and lubrication (MZMP)\, Laboratory excercises (VL)\, [
 S1]
DTSTART;TZID=Europe/Ljubljana:20240304T113000
DTEND;TZID=Europe/Ljubljana:20240304T133000
DTSTAMP:20260421T063154Z
UID:fs-AFLABS-URNIK:srecanje:9164-2024-03-04 11:30:00+01:00
DESCRIPTION:Predmet: Lubricants and lubrication (MZMP)\, Laboratory excerc
 ises (VL)\, [S1]\nLetniki: Konstruiranje strojev in naprav (PAP-2)\nIzvaja
 lci: Lucija Čoga\, Petra Jan\, Urban Klanjšček\, Mark Kuzman\, Marko Po
 lajnar\, Tomaž Požar\, Anastasia Samodurova\, Jožica Sterle\nProstor: L
 aboratory TINT TiNT 2
END:VEVENT
BEGIN:VEVENT
SUMMARY:Lubricants and lubrication (MZMP)\, Laboratory excercises (VL)\, [
 S1]
DTSTART;TZID=Europe/Ljubljana:20240311T113000
DTEND;TZID=Europe/Ljubljana:20240311T133000
DTSTAMP:20260421T063154Z
UID:fs-AFLABS-URNIK:srecanje:9164-2024-03-11 11:30:00+01:00
DESCRIPTION:Predmet: Lubricants and lubrication (MZMP)\, Laboratory excerc
 ises (VL)\, [S1]\nLetniki: Konstruiranje strojev in naprav (PAP-2)\nIzvaja
 lci: Lucija Čoga\, Petra Jan\, Urban Klanjšček\, Mark Kuzman\, Marko Po
 lajnar\, Tomaž Požar\, Anastasia Samodurova\, Jožica Sterle\nProstor: L
 aboratory TINT TiNT 2
END:VEVENT
BEGIN:VEVENT
SUMMARY:Lubricants and lubrication (MZMP)\, Laboratory excercises (VL)\, [
 S2]
DTSTART;TZID=Europe/Ljubljana:20240304T133000
DTEND;TZID=Europe/Ljubljana:20240304T153000
DTSTAMP:20260421T063154Z
UID:fs-AFLABS-URNIK:srecanje:9165-2024-03-04 13:30:00+01:00
DESCRIPTION:Predmet: Lubricants and lubrication (MZMP)\, Laboratory excerc
 ises (VL)\, [S2]\nLetniki: Konstruiranje strojev in naprav (PAP-2)\nIzvaja
 lci: Lucija Čoga\, Petra Jan\, Urban Klanjšček\, Mark Kuzman\, Marko Po
 lajnar\, Tomaž Požar\, Anastasia Samodurova\, Jožica Sterle\nProstor: L
 aboratory TINT TiNT 2
END:VEVENT
BEGIN:VEVENT
SUMMARY:Lubricants and lubrication (MZMP)\, Laboratory excercises (VL)\, [
 S2]
DTSTART;TZID=Europe/Ljubljana:20240311T133000
DTEND;TZID=Europe/Ljubljana:20240311T153000
DTSTAMP:20260421T063154Z
UID:fs-AFLABS-URNIK:srecanje:9165-2024-03-11 13:30:00+01:00
DESCRIPTION:Predmet: Lubricants and lubrication (MZMP)\, Laboratory excerc
 ises (VL)\, [S2]\nLetniki: Konstruiranje strojev in naprav (PAP-2)\nIzvaja
 lci: Lucija Čoga\, Petra Jan\, Urban Klanjšček\, Mark Kuzman\, Marko Po
 lajnar\, Tomaž Požar\, Anastasia Samodurova\, Jožica Sterle\nProstor: L
 aboratory TINT TiNT 2
END:VEVENT
BEGIN:VEVENT
SUMMARY:Lubricants and lubrication (MZMP)\, Laboratory excercises (VL)\, [
 S3]
DTSTART;TZID=Europe/Ljubljana:20240304T153000
DTEND;TZID=Europe/Ljubljana:20240304T173000
DTSTAMP:20260421T063154Z
UID:fs-AFLABS-URNIK:srecanje:9166-2024-03-04 15:30:00+01:00
DESCRIPTION:Predmet: Lubricants and lubrication (MZMP)\, Laboratory excerc
 ises (VL)\, [S3]\nLetniki: Konstruiranje strojev in naprav (PAP-2)\nIzvaja
 lci: Lucija Čoga\, Petra Jan\, Urban Klanjšček\, Mark Kuzman\, Marko Po
 lajnar\, Tomaž Požar\, Anastasia Samodurova\, Jožica Sterle\nProstor: L
 aboratory TINT TiNT 2
END:VEVENT
BEGIN:VEVENT
SUMMARY:Lubricants and lubrication (MZMP)\, Laboratory excercises (VL)\, [
 S3]
DTSTART;TZID=Europe/Ljubljana:20240311T153000
DTEND;TZID=Europe/Ljubljana:20240311T173000
DTSTAMP:20260421T063154Z
UID:fs-AFLABS-URNIK:srecanje:9166-2024-03-11 15:30:00+01:00
DESCRIPTION:Predmet: Lubricants and lubrication (MZMP)\, Laboratory excerc
 ises (VL)\, [S3]\nLetniki: Konstruiranje strojev in naprav (PAP-2)\nIzvaja
 lci: Lucija Čoga\, Petra Jan\, Urban Klanjšček\, Mark Kuzman\, Marko Po
 lajnar\, Tomaž Požar\, Anastasia Samodurova\, Jožica Sterle\nProstor: L
 aboratory TINT TiNT 2
END:VEVENT
BEGIN:VEVENT
SUMMARY:Nanotechnologies (NNTM)\, Laboratory excercises (VL)\, [S2]
DTSTART;TZID=Europe/Ljubljana:20240305T120000
DTEND;TZID=Europe/Ljubljana:20240305T140000
DTSTAMP:20260421T063154Z
UID:fs-AFLABS-URNIK:srecanje:8865-2024-03-05 12:00:00+01:00
DESCRIPTION:Predmet: Nanotechnologies (NNTM)\, Laboratory excercises (VL)\
 , [S2]\nLetniki: Engineering design (MAG-1)\nIzvajalci: Lucija Čoga\, Pet
 ra Jan\, Urban Klanjšček\, Franc Kopač\nProstor: Laboratory TINT TiNT 1
END:VEVENT
BEGIN:VEVENT
SUMMARY:Nanotechnologies (NNTM)\, Laboratory excercises (VL)\, [S1]
DTSTART;TZID=Europe/Ljubljana:20240306T080000
DTEND;TZID=Europe/Ljubljana:20240306T100000
DTSTAMP:20260421T063154Z
UID:fs-AFLABS-URNIK:srecanje:8866-2024-03-06 08:00:00+01:00
DESCRIPTION:Predmet: Nanotechnologies (NNTM)\, Laboratory excercises (VL)\
 , [S1]\nLetniki: Engineering design (MAG-1)\nIzvajalci: Lucija Čoga\, Pet
 ra Jan\, Urban Klanjšček\, Franc Kopač\, Marko Polajnar\, Tomaž Požar
 \, Anastasia Samodurova\, Jožica Sterle\nProstor: Laboratory TINT TiNT 1
END:VEVENT
BEGIN:VEVENT
SUMMARY:Nanotechnologies (NNTM)\, Laboratory excercises (VL)\, [S3]
DTSTART;TZID=Europe/Ljubljana:20240306T120000
DTEND;TZID=Europe/Ljubljana:20240306T140000
DTSTAMP:20260421T063154Z
UID:fs-AFLABS-URNIK:srecanje:8867-2024-03-06 12:00:00+01:00
DESCRIPTION:Predmet: Nanotechnologies (NNTM)\, Laboratory excercises (VL)\
 , [S3]\nLetniki: Engineering design (MAG-1)\nIzvajalci: Lucija Čoga\, Pet
 ra Jan\, Urban Klanjšček\, Franc Kopač\, Marko Polajnar\, Tomaž Požar
 \, Anastasia Samodurova\, Jožica Sterle\nProstor: Laboratory TINT TiNT 1
END:VEVENT
BEGIN:VEVENT
SUMMARY:Nanotechnologies (NNTM)\, Laboratory excercises (VL)\, [S4]
DTSTART;TZID=Europe/Ljubljana:20240307T080000
DTEND;TZID=Europe/Ljubljana:20240307T100000
DTSTAMP:20260421T063154Z
UID:fs-AFLABS-URNIK:srecanje:8869-2024-03-07 08:00:00+01:00
DESCRIPTION:Predmet: Nanotechnologies (NNTM)\, Laboratory excercises (VL)\
 , [S4]\nLetniki: Engineering design (MAG-1)\nIzvajalci: Lucija Čoga\, Pet
 ra Jan\, Urban Klanjšček\, Franc Kopač\, Marko Polajnar\, Tomaž Požar
 \, Anastasia Samodurova\nProstor: Laboratory TINT TiNT 1
END:VEVENT
BEGIN:VEVENT
SUMMARY:Nanotechnologies (NNTM)\, Laboratory excercises (VL)\, [S5]
DTSTART;TZID=Europe/Ljubljana:20240307T120000
DTEND;TZID=Europe/Ljubljana:20240307T140000
DTSTAMP:20260421T063154Z
UID:fs-AFLABS-URNIK:srecanje:8871-2024-03-07 12:00:00+01:00
DESCRIPTION:Predmet: Nanotechnologies (NNTM)\, Laboratory excercises (VL)\
 , [S5]\nLetniki: Engineering design (MAG-1)\nIzvajalci: Lucija Čoga\, Pet
 ra Jan\, Urban Klanjšček\, Franc Kopač\, Marko Polajnar\, Tomaž Požar
 \, Anastasia Samodurova\, Jožica Sterle\nProstor: Laboratory TINT TiNT 1
END:VEVENT
BEGIN:VEVENT
SUMMARY:Nanotechnologies (NNTM)\, Laboratory excercises (VL)\, [S6]
DTSTART;TZID=Europe/Ljubljana:20240308T080000
DTEND;TZID=Europe/Ljubljana:20240308T100000
DTSTAMP:20260421T063154Z
UID:fs-AFLABS-URNIK:srecanje:8872-2024-03-08 08:00:00+01:00
DESCRIPTION:Predmet: Nanotechnologies (NNTM)\, Laboratory excercises (VL)\
 , [S6]\nLetniki: Engineering design (MAG-1)\nIzvajalci: Lucija Čoga\, Pet
 ra Jan\, Urban Klanjšček\, Franc Kopač\, Marko Polajnar\, Tomaž Požar
 \, Anastasia Samodurova\, Jožica Sterle\nProstor: Laboratory TINT TiNT 1
END:VEVENT
END:VCALENDAR
