BEGIN:VCALENDAR
VERSION:2.0
PRODID:-//AFLabs urnik izvoz - fs//aflabs.si//SI
NAME:UL FS Urnik
X-WR-CALNAME:UL FS Urnik
DTSTAMP:20260421T040229Z
REFRESH-INTERVAL:PT1H
SOURCE:https://urnik.fs.uni-lj.si/en/teacher/701/?day=2024-01-08&export=1
URL:https://urnik.fs.uni-lj.si/en/teacher/701/?day=2024-01-08&export=1
X-PUBLISHED-TTL:PT1H
X-WR-TIMEZONE:Europe/Ljubljana
BEGIN:VTIMEZONE
TZID:Europe/Ljubljana
BEGIN:DAYLIGHT
DTSTART:20260329T020000
RDATE:20260329T020000
RDATE:20270328T020000
TZNAME:CEST
TZOFFSETFROM:+0100
TZOFFSETTO:+0200
END:DAYLIGHT
BEGIN:STANDARD
DTSTART:20261025T030000
RDATE:20261025T030000
RDATE:20271031T030000
TZNAME:CET
TZOFFSETFROM:+0200
TZOFFSETTO:+0100
END:STANDARD
END:VTIMEZONE
BEGIN:VEVENT
SUMMARY:sestanek
DTSTART;TZID=Europe/Ljubljana:20231207T133000
DTEND;TZID=Europe/Ljubljana:20231207T150000
DTSTAMP:20260421T040229Z
UID:fs-AFLABS-URNIK:rezervacija:4133
CATEGORIES:Reservation
COLOR:royalblue
DESCRIPTION:Predmeti: \nLetniki: \nIzvajalci: Darja Jeločnik\, Tine Selja
 k\nProstori: Conference room
LOCATION:Conference room
ORGANIZER:Darja Jeločnik, Tine Seljak
X-WR-TIMEZONE:Europe/Ljubljana
END:VEVENT
BEGIN:VEVENT
SUMMARY:sestanek
DTSTART;TZID=Europe/Ljubljana:20231106T090000
DTEND;TZID=Europe/Ljubljana:20231106T100000
DTSTAMP:20260421T040229Z
UID:fs-AFLABS-URNIK:rezervacija:3293
CATEGORIES:Reservation
COLOR:royalblue
DESCRIPTION:Predmeti: \nLetniki: \nIzvajalci: Darja Jeločnik\, Tomaž Kat
 rašnik\nProstori: Conference room
LOCATION:Conference room
ORGANIZER:Darja Jeločnik, Tomaž Katrašnik
X-WR-TIMEZONE:Europe/Ljubljana
END:VEVENT
END:VCALENDAR
