BEGIN:VCALENDAR
VERSION:2.0
PRODID:-//AFLabs urnik izvoz - fs//aflabs.si//SI
NAME:UL FS Urnik
X-WR-CALNAME:UL FS Urnik
DTSTAMP:20260424T132814Z
REFRESH-INTERVAL:PT1H
SOURCE:https://urnik.fs.uni-lj.si/en/teacher/702/?day=2023-12-04&export=1
URL:https://urnik.fs.uni-lj.si/en/teacher/702/?day=2023-12-04&export=1
X-PUBLISHED-TTL:PT1H
X-WR-TIMEZONE:Europe/Ljubljana
BEGIN:VTIMEZONE
TZID:Europe/Ljubljana
BEGIN:DAYLIGHT
DTSTART:20260329T020000
RDATE:20260329T020000
RDATE:20270328T020000
TZNAME:CEST
TZOFFSETFROM:+0100
TZOFFSETTO:+0200
END:DAYLIGHT
BEGIN:STANDARD
DTSTART:20261025T030000
RDATE:20261025T030000
RDATE:20271031T030000
TZNAME:CET
TZOFFSETFROM:+0200
TZOFFSETTO:+0100
END:STANDARD
END:VTIMEZONE
BEGIN:VEVENT
SUMMARY:Industry hydraulic systems (HISP)\, Lecture exercises (VP)
DTSTART;TZID=Europe/Ljubljana:20231002T133000
DTEND;TZID=Europe/Ljubljana:20231002T153000
DTSTAMP:20260424T132814Z
UID:fs-AFLABS-URNIK:srecanje:4146-2023-10-02 13:30:00+02:00
DESCRIPTION:Predmet: Industry hydraulic systems (HISP)\, Lecture exercises
  (VP)\nLetniki: Design of industrial systems (PAP-3)\nIzvajalci: Jan Barto
 lj\, Rok Jelovčan\, Nejc Novak\, Jan Pustavrh\, Ana Trajkovski\nProstor: 
 Lecture hall III/3A
END:VEVENT
BEGIN:VEVENT
SUMMARY:Industry hydraulic systems (HISP)\, Lecture exercises (VP)
DTSTART;TZID=Europe/Ljubljana:20231009T133000
DTEND;TZID=Europe/Ljubljana:20231009T153000
DTSTAMP:20260424T132814Z
UID:fs-AFLABS-URNIK:srecanje:4146-2023-10-09 13:30:00+02:00
DESCRIPTION:Predmet: Industry hydraulic systems (HISP)\, Lecture exercises
  (VP)\nLetniki: Design of industrial systems (PAP-3)\nIzvajalci: Jan Barto
 lj\, Rok Jelovčan\, Nejc Novak\, Jan Pustavrh\, Ana Trajkovski\nProstor: 
 Lecture hall III/3A
END:VEVENT
BEGIN:VEVENT
SUMMARY:Industry hydraulic systems (HISP)\, Lecture exercises (VP)
DTSTART;TZID=Europe/Ljubljana:20231106T133000
DTEND;TZID=Europe/Ljubljana:20231106T153000
DTSTAMP:20260424T132814Z
UID:fs-AFLABS-URNIK:srecanje:4146-2023-11-06 13:30:00+01:00
DESCRIPTION:Predmet: Industry hydraulic systems (HISP)\, Lecture exercises
  (VP)\nLetniki: Design of industrial systems (PAP-3)\nIzvajalci: Jan Barto
 lj\, Rok Jelovčan\, Nejc Novak\, Jan Pustavrh\, Ana Trajkovski\nProstor: 
 Lecture hall III/3A
END:VEVENT
BEGIN:VEVENT
SUMMARY:Industry hydraulic systems (HISP)\, Lecture exercises (VP)
DTSTART;TZID=Europe/Ljubljana:20231204T133000
DTEND;TZID=Europe/Ljubljana:20231204T153000
DTSTAMP:20260424T132814Z
UID:fs-AFLABS-URNIK:srecanje:4146-2023-12-04 13:30:00+01:00
DESCRIPTION:Predmet: Industry hydraulic systems (HISP)\, Lecture exercises
  (VP)\nLetniki: Design of industrial systems (PAP-3)\nIzvajalci: Jan Barto
 lj\, Rok Jelovčan\, Nejc Novak\, Jan Pustavrh\, Ana Trajkovski\nProstor: 
 Lecture hall III/3A
END:VEVENT
BEGIN:VEVENT
SUMMARY:Industry hydraulic systems (HISP)\, Lecture exercises (VP)
DTSTART;TZID=Europe/Ljubljana:20231218T133000
DTEND;TZID=Europe/Ljubljana:20231218T153000
DTSTAMP:20260424T132814Z
UID:fs-AFLABS-URNIK:srecanje:4146-2023-12-18 13:30:00+01:00
DESCRIPTION:Predmet: Industry hydraulic systems (HISP)\, Lecture exercises
  (VP)\nLetniki: Design of industrial systems (PAP-3)\nIzvajalci: Jan Barto
 lj\, Rok Jelovčan\, Nejc Novak\, Jan Pustavrh\, Ana Trajkovski\nProstor: 
 Lecture hall III/3A
END:VEVENT
BEGIN:VEVENT
SUMMARY:Industry hydraulic systems (HISP)\, Lecture exercises (VP)
DTSTART;TZID=Europe/Ljubljana:20240108T133000
DTEND;TZID=Europe/Ljubljana:20240108T153000
DTSTAMP:20260424T132814Z
UID:fs-AFLABS-URNIK:srecanje:4146-2024-01-08 13:30:00+01:00
DESCRIPTION:Predmet: Industry hydraulic systems (HISP)\, Lecture exercises
  (VP)\nLetniki: Design of industrial systems (PAP-3)\nIzvajalci: Jan Barto
 lj\, Rok Jelovčan\, Nejc Novak\, Jan Pustavrh\, Ana Trajkovski\nProstor: 
 Lecture hall III/3A
END:VEVENT
BEGIN:VEVENT
SUMMARY:Hydraulics and pneumatics - PAP (HIPP)\, Lecture exercises (VP)
DTSTART;TZID=Europe/Ljubljana:20231004T153000
DTEND;TZID=Europe/Ljubljana:20231004T173000
DTSTAMP:20260424T132814Z
UID:fs-AFLABS-URNIK:srecanje:4160-2023-10-04 15:30:00+02:00
DESCRIPTION:Predmet: Hydraulics and pneumatics - PAP (HIPP)\, Lecture exer
 cises (VP)\nLetniki: Aircraft design and maintenance (PAP-3)\, Design of m
 achines and devices (PAP-3)\nIzvajalci: Jan Bartolj\, Rok Jelovčan\, Nejc
  Novak\, Jan Pustavrh\, Ana Trajkovski\nProstor: Lecture hall III/2
END:VEVENT
BEGIN:VEVENT
SUMMARY:Hydraulics and pneumatics - PAP (HIPP)\, Lecture exercises (VP)
DTSTART;TZID=Europe/Ljubljana:20231011T153000
DTEND;TZID=Europe/Ljubljana:20231011T173000
DTSTAMP:20260424T132814Z
UID:fs-AFLABS-URNIK:srecanje:4160-2023-10-11 15:30:00+02:00
DESCRIPTION:Predmet: Hydraulics and pneumatics - PAP (HIPP)\, Lecture exer
 cises (VP)\nLetniki: Aircraft design and maintenance (PAP-3)\, Design of m
 achines and devices (PAP-3)\nIzvajalci: Jan Bartolj\, Rok Jelovčan\, Nejc
  Novak\, Jan Pustavrh\, Ana Trajkovski\nProstor: Lecture hall III/2
END:VEVENT
BEGIN:VEVENT
SUMMARY:Hydraulics and pneumatics - PAP (HIPP)\, Lecture exercises (VP)
DTSTART;TZID=Europe/Ljubljana:20231101T153000
DTEND;TZID=Europe/Ljubljana:20231101T173000
DTSTAMP:20260424T132814Z
UID:fs-AFLABS-URNIK:srecanje:4160-2023-11-01 15:30:00+01:00
DESCRIPTION:Predmet: Hydraulics and pneumatics - PAP (HIPP)\, Lecture exer
 cises (VP)\nLetniki: Aircraft design and maintenance (PAP-3)\, Design of m
 achines and devices (PAP-3)\nIzvajalci: Jan Bartolj\, Rok Jelovčan\, Nejc
  Novak\, Jan Pustavrh\, Ana Trajkovski\nProstor: Lecture hall III/2
END:VEVENT
BEGIN:VEVENT
SUMMARY:Hydraulics and pneumatics - PAP (HIPP)\, Lecture exercises (VP)
DTSTART;TZID=Europe/Ljubljana:20231108T153000
DTEND;TZID=Europe/Ljubljana:20231108T173000
DTSTAMP:20260424T132814Z
UID:fs-AFLABS-URNIK:srecanje:4160-2023-11-08 15:30:00+01:00
DESCRIPTION:Predmet: Hydraulics and pneumatics - PAP (HIPP)\, Lecture exer
 cises (VP)\nLetniki: Aircraft design and maintenance (PAP-3)\, Design of m
 achines and devices (PAP-3)\nIzvajalci: Jan Bartolj\, Rok Jelovčan\, Nejc
  Novak\, Jan Pustavrh\, Ana Trajkovski\nProstor: Lecture hall III/2
END:VEVENT
BEGIN:VEVENT
SUMMARY:Hydraulics and pneumatics - PAP (HIPP)\, Lecture exercises (VP)
DTSTART;TZID=Europe/Ljubljana:20231129T153000
DTEND;TZID=Europe/Ljubljana:20231129T173000
DTSTAMP:20260424T132814Z
UID:fs-AFLABS-URNIK:srecanje:4160-2023-11-29 15:30:00+01:00
DESCRIPTION:Predmet: Hydraulics and pneumatics - PAP (HIPP)\, Lecture exer
 cises (VP)\nLetniki: Aircraft design and maintenance (PAP-3)\, Design of m
 achines and devices (PAP-3)\nIzvajalci: Jan Bartolj\, Rok Jelovčan\, Nejc
  Novak\, Jan Pustavrh\, Ana Trajkovski\nProstor: Lecture hall III/2
END:VEVENT
BEGIN:VEVENT
SUMMARY:Hydraulics and pneumatics - PAP (HIPP)\, Lecture exercises (VP)
DTSTART;TZID=Europe/Ljubljana:20231206T153000
DTEND;TZID=Europe/Ljubljana:20231206T173000
DTSTAMP:20260424T132814Z
UID:fs-AFLABS-URNIK:srecanje:4160-2023-12-06 15:30:00+01:00
DESCRIPTION:Predmet: Hydraulics and pneumatics - PAP (HIPP)\, Lecture exer
 cises (VP)\nLetniki: Aircraft design and maintenance (PAP-3)\, Design of m
 achines and devices (PAP-3)\nIzvajalci: Jan Bartolj\, Rok Jelovčan\, Nejc
  Novak\, Jan Pustavrh\, Ana Trajkovski\nProstor: Lecture hall III/2
END:VEVENT
BEGIN:VEVENT
SUMMARY:Hydraulics and pneumatics - PAP (HIPP)\, Lecture exercises (VP)
DTSTART;TZID=Europe/Ljubljana:20231220T153000
DTEND;TZID=Europe/Ljubljana:20231220T173000
DTSTAMP:20260424T132814Z
UID:fs-AFLABS-URNIK:srecanje:4160-2023-12-20 15:30:00+01:00
DESCRIPTION:Predmet: Hydraulics and pneumatics - PAP (HIPP)\, Lecture exer
 cises (VP)\nLetniki: Aircraft design and maintenance (PAP-3)\, Design of m
 achines and devices (PAP-3)\nIzvajalci: Jan Bartolj\, Rok Jelovčan\, Nejc
  Novak\, Jan Pustavrh\, Ana Trajkovski\nProstor: Lecture hall III/2
END:VEVENT
BEGIN:VEVENT
SUMMARY:Industry hydraulic systems (HISP)\, Laboratory excercises (VL)\, [
 S3]
DTSTART;TZID=Europe/Ljubljana:20231017T173000
DTEND;TZID=Europe/Ljubljana:20231017T193000
DTSTAMP:20260424T132814Z
UID:fs-AFLABS-URNIK:srecanje:5631-2023-10-17 17:30:00+02:00
DESCRIPTION:Predmet: Industry hydraulic systems (HISP)\, Laboratory excerc
 ises (VL)\, [S3]\nLetniki: Design of industrial systems (PAP-3)\nIzvajalci
 : Rok Jelovčan\nProstor: Laboratory LFT SK-9
END:VEVENT
BEGIN:VEVENT
SUMMARY:Industry hydraulic systems (HISP)\, Laboratory excercises (VL)\, [
 S3]
DTSTART;TZID=Europe/Ljubljana:20231024T173000
DTEND;TZID=Europe/Ljubljana:20231024T193000
DTSTAMP:20260424T132814Z
UID:fs-AFLABS-URNIK:srecanje:5631-2023-10-24 17:30:00+02:00
DESCRIPTION:Predmet: Industry hydraulic systems (HISP)\, Laboratory excerc
 ises (VL)\, [S3]\nLetniki: Design of industrial systems (PAP-3)\nIzvajalci
 : Rok Jelovčan\nProstor: Laboratory LFT SK-9
END:VEVENT
BEGIN:VEVENT
SUMMARY:Industry hydraulic systems (HISP)\, Laboratory excercises (VL)\, [
 S3]
DTSTART;TZID=Europe/Ljubljana:20231114T173000
DTEND;TZID=Europe/Ljubljana:20231114T193000
DTSTAMP:20260424T132814Z
UID:fs-AFLABS-URNIK:srecanje:5631-2023-11-14 17:30:00+01:00
DESCRIPTION:Predmet: Industry hydraulic systems (HISP)\, Laboratory excerc
 ises (VL)\, [S3]\nLetniki: Design of industrial systems (PAP-3)\nIzvajalci
 : Rok Jelovčan\nProstor: Laboratory LFT SK-9
END:VEVENT
BEGIN:VEVENT
SUMMARY:Industry hydraulic systems (HISP)\, Laboratory excercises (VL)\, [
 S3]
DTSTART;TZID=Europe/Ljubljana:20231121T173000
DTEND;TZID=Europe/Ljubljana:20231121T193000
DTSTAMP:20260424T132814Z
UID:fs-AFLABS-URNIK:srecanje:5631-2023-11-21 17:30:00+01:00
DESCRIPTION:Predmet: Industry hydraulic systems (HISP)\, Laboratory excerc
 ises (VL)\, [S3]\nLetniki: Design of industrial systems (PAP-3)\nIzvajalci
 : Rok Jelovčan\nProstor: Laboratory LFT SK-9
END:VEVENT
BEGIN:VEVENT
SUMMARY:Industry hydraulic systems (HISP)\, Laboratory excercises (VL)\, [
 S3]
DTSTART;TZID=Europe/Ljubljana:20231128T173000
DTEND;TZID=Europe/Ljubljana:20231128T193000
DTSTAMP:20260424T132814Z
UID:fs-AFLABS-URNIK:srecanje:5631-2023-11-28 17:30:00+01:00
DESCRIPTION:Predmet: Industry hydraulic systems (HISP)\, Laboratory excerc
 ises (VL)\, [S3]\nLetniki: Design of industrial systems (PAP-3)\nIzvajalci
 : Rok Jelovčan\nProstor: Laboratory LFT SK-9
END:VEVENT
BEGIN:VEVENT
SUMMARY:Industry hydraulic systems (HISP)\, Laboratory excercises (VL)\, [
 S3]
DTSTART;TZID=Europe/Ljubljana:20231212T173000
DTEND;TZID=Europe/Ljubljana:20231212T193000
DTSTAMP:20260424T132814Z
UID:fs-AFLABS-URNIK:srecanje:5631-2023-12-12 17:30:00+01:00
DESCRIPTION:Predmet: Industry hydraulic systems (HISP)\, Laboratory excerc
 ises (VL)\, [S3]\nLetniki: Design of industrial systems (PAP-3)\nIzvajalci
 : Rok Jelovčan\nProstor: Laboratory LFT SK-9
END:VEVENT
BEGIN:VEVENT
SUMMARY:Industry hydraulic systems (HISP)\, Laboratory excercises (VL)\, [
 S3]
DTSTART;TZID=Europe/Ljubljana:20240102T173000
DTEND;TZID=Europe/Ljubljana:20240102T193000
DTSTAMP:20260424T132814Z
UID:fs-AFLABS-URNIK:srecanje:5631-2024-01-02 17:30:00+01:00
DESCRIPTION:Predmet: Industry hydraulic systems (HISP)\, Laboratory excerc
 ises (VL)\, [S3]\nLetniki: Design of industrial systems (PAP-3)\nIzvajalci
 : Rok Jelovčan\nProstor: Laboratory LFT SK-9
END:VEVENT
BEGIN:VEVENT
SUMMARY:Industry hydraulic systems (HISP)\, Laboratory excercises (VL)\, [
 S3]
DTSTART;TZID=Europe/Ljubljana:20240116T173000
DTEND;TZID=Europe/Ljubljana:20240116T193000
DTSTAMP:20260424T132814Z
UID:fs-AFLABS-URNIK:srecanje:5631-2024-01-16 17:30:00+01:00
DESCRIPTION:Predmet: Industry hydraulic systems (HISP)\, Laboratory excerc
 ises (VL)\, [S3]\nLetniki: Design of industrial systems (PAP-3)\nIzvajalci
 : Rok Jelovčan\nProstor: Laboratory LFT SK-9
END:VEVENT
BEGIN:VEVENT
SUMMARY:Industry hydraulic systems (HISP)\, Laboratory excercises (VL)\, [
 S2]
DTSTART;TZID=Europe/Ljubljana:20231018T113000
DTEND;TZID=Europe/Ljubljana:20231018T133000
DTSTAMP:20260424T132814Z
UID:fs-AFLABS-URNIK:srecanje:5634-2023-10-18 11:30:00+02:00
DESCRIPTION:Predmet: Industry hydraulic systems (HISP)\, Laboratory excerc
 ises (VL)\, [S2]\nLetniki: Design of industrial systems (PAP-3)\nIzvajalci
 : Rok Jelovčan\nProstor: Laboratory LAVAR SK-12
END:VEVENT
BEGIN:VEVENT
SUMMARY:Industry hydraulic systems (HISP)\, Laboratory excercises (VL)\, [
 S2]
DTSTART;TZID=Europe/Ljubljana:20231025T113000
DTEND;TZID=Europe/Ljubljana:20231025T133000
DTSTAMP:20260424T132814Z
UID:fs-AFLABS-URNIK:srecanje:5634-2023-10-25 11:30:00+02:00
DESCRIPTION:Predmet: Industry hydraulic systems (HISP)\, Laboratory excerc
 ises (VL)\, [S2]\nLetniki: Design of industrial systems (PAP-3)\nIzvajalci
 : Rok Jelovčan\nProstor: Laboratory LAVAR SK-12
END:VEVENT
BEGIN:VEVENT
SUMMARY:Industry hydraulic systems (HISP)\, Laboratory excercises (VL)\, [
 S2]
DTSTART;TZID=Europe/Ljubljana:20231115T113000
DTEND;TZID=Europe/Ljubljana:20231115T133000
DTSTAMP:20260424T132814Z
UID:fs-AFLABS-URNIK:srecanje:5634-2023-11-15 11:30:00+01:00
DESCRIPTION:Predmet: Industry hydraulic systems (HISP)\, Laboratory excerc
 ises (VL)\, [S2]\nLetniki: Design of industrial systems (PAP-3)\nIzvajalci
 : Rok Jelovčan\nProstor: Laboratory LAVAR SK-12
END:VEVENT
BEGIN:VEVENT
SUMMARY:Industry hydraulic systems (HISP)\, Laboratory excercises (VL)\, [
 S2]
DTSTART;TZID=Europe/Ljubljana:20231122T113000
DTEND;TZID=Europe/Ljubljana:20231122T133000
DTSTAMP:20260424T132814Z
UID:fs-AFLABS-URNIK:srecanje:5634-2023-11-22 11:30:00+01:00
DESCRIPTION:Predmet: Industry hydraulic systems (HISP)\, Laboratory excerc
 ises (VL)\, [S2]\nLetniki: Design of industrial systems (PAP-3)\nIzvajalci
 : Rok Jelovčan\nProstor: Laboratory LAVAR SK-12
END:VEVENT
BEGIN:VEVENT
SUMMARY:Industry hydraulic systems (HISP)\, Laboratory excercises (VL)\, [
 S2]
DTSTART;TZID=Europe/Ljubljana:20231129T113000
DTEND;TZID=Europe/Ljubljana:20231129T133000
DTSTAMP:20260424T132814Z
UID:fs-AFLABS-URNIK:srecanje:5634-2023-11-29 11:30:00+01:00
DESCRIPTION:Predmet: Industry hydraulic systems (HISP)\, Laboratory excerc
 ises (VL)\, [S2]\nLetniki: Design of industrial systems (PAP-3)\nIzvajalci
 : Rok Jelovčan\nProstor: Laboratory LAVAR SK-12
END:VEVENT
BEGIN:VEVENT
SUMMARY:Industry hydraulic systems (HISP)\, Laboratory excercises (VL)\, [
 S2]
DTSTART;TZID=Europe/Ljubljana:20231213T113000
DTEND;TZID=Europe/Ljubljana:20231213T133000
DTSTAMP:20260424T132814Z
UID:fs-AFLABS-URNIK:srecanje:5634-2023-12-13 11:30:00+01:00
DESCRIPTION:Predmet: Industry hydraulic systems (HISP)\, Laboratory excerc
 ises (VL)\, [S2]\nLetniki: Design of industrial systems (PAP-3)\nIzvajalci
 : Rok Jelovčan\nProstor: Laboratory LAVAR SK-12
END:VEVENT
BEGIN:VEVENT
SUMMARY:Industry hydraulic systems (HISP)\, Laboratory excercises (VL)\, [
 S2]
DTSTART;TZID=Europe/Ljubljana:20240103T113000
DTEND;TZID=Europe/Ljubljana:20240103T133000
DTSTAMP:20260424T132814Z
UID:fs-AFLABS-URNIK:srecanje:5634-2024-01-03 11:30:00+01:00
DESCRIPTION:Predmet: Industry hydraulic systems (HISP)\, Laboratory excerc
 ises (VL)\, [S2]\nLetniki: Design of industrial systems (PAP-3)\nIzvajalci
 : Rok Jelovčan\nProstor: Laboratory LAVAR SK-12
END:VEVENT
BEGIN:VEVENT
SUMMARY:Industry hydraulic systems (HISP)\, Laboratory excercises (VL)\, [
 S2]
DTSTART;TZID=Europe/Ljubljana:20240117T113000
DTEND;TZID=Europe/Ljubljana:20240117T133000
DTSTAMP:20260424T132814Z
UID:fs-AFLABS-URNIK:srecanje:5634-2024-01-17 11:30:00+01:00
DESCRIPTION:Predmet: Industry hydraulic systems (HISP)\, Laboratory excerc
 ises (VL)\, [S2]\nLetniki: Design of industrial systems (PAP-3)\nIzvajalci
 : Rok Jelovčan\nProstor: Laboratory LAVAR SK-12
END:VEVENT
BEGIN:VEVENT
SUMMARY:Industry hydraulic systems (HISP)\, Laboratory excercises (VL)\, [
 S4]
DTSTART;TZID=Europe/Ljubljana:20231019T173000
DTEND;TZID=Europe/Ljubljana:20231019T193000
DTSTAMP:20260424T132814Z
UID:fs-AFLABS-URNIK:srecanje:5637-2023-10-19 17:30:00+02:00
DESCRIPTION:Predmet: Industry hydraulic systems (HISP)\, Laboratory excerc
 ises (VL)\, [S4]\nLetniki: Design of industrial systems (PAP-3)\nIzvajalci
 : Rok Jelovčan\nProstor: Laboratory LAVAR SK-12
END:VEVENT
BEGIN:VEVENT
SUMMARY:Industry hydraulic systems (HISP)\, Laboratory excercises (VL)\, [
 S4]
DTSTART;TZID=Europe/Ljubljana:20231026T173000
DTEND;TZID=Europe/Ljubljana:20231026T193000
DTSTAMP:20260424T132814Z
UID:fs-AFLABS-URNIK:srecanje:5637-2023-10-26 17:30:00+02:00
DESCRIPTION:Predmet: Industry hydraulic systems (HISP)\, Laboratory excerc
 ises (VL)\, [S4]\nLetniki: Design of industrial systems (PAP-3)\nIzvajalci
 : Rok Jelovčan\nProstor: Laboratory LAVAR SK-12
END:VEVENT
BEGIN:VEVENT
SUMMARY:Industry hydraulic systems (HISP)\, Laboratory excercises (VL)\, [
 S4]
DTSTART;TZID=Europe/Ljubljana:20231116T173000
DTEND;TZID=Europe/Ljubljana:20231116T193000
DTSTAMP:20260424T132814Z
UID:fs-AFLABS-URNIK:srecanje:5637-2023-11-16 17:30:00+01:00
DESCRIPTION:Predmet: Industry hydraulic systems (HISP)\, Laboratory excerc
 ises (VL)\, [S4]\nLetniki: Design of industrial systems (PAP-3)\nIzvajalci
 : Rok Jelovčan\nProstor: Laboratory LAVAR SK-12
END:VEVENT
BEGIN:VEVENT
SUMMARY:Industry hydraulic systems (HISP)\, Laboratory excercises (VL)\, [
 S4]
DTSTART;TZID=Europe/Ljubljana:20231123T173000
DTEND;TZID=Europe/Ljubljana:20231123T193000
DTSTAMP:20260424T132814Z
UID:fs-AFLABS-URNIK:srecanje:5637-2023-11-23 17:30:00+01:00
DESCRIPTION:Predmet: Industry hydraulic systems (HISP)\, Laboratory excerc
 ises (VL)\, [S4]\nLetniki: Design of industrial systems (PAP-3)\nIzvajalci
 : Rok Jelovčan\nProstor: Laboratory LAVAR SK-12
END:VEVENT
BEGIN:VEVENT
SUMMARY:Industry hydraulic systems (HISP)\, Laboratory excercises (VL)\, [
 S4]
DTSTART;TZID=Europe/Ljubljana:20231130T173000
DTEND;TZID=Europe/Ljubljana:20231130T193000
DTSTAMP:20260424T132814Z
UID:fs-AFLABS-URNIK:srecanje:5637-2023-11-30 17:30:00+01:00
DESCRIPTION:Predmet: Industry hydraulic systems (HISP)\, Laboratory excerc
 ises (VL)\, [S4]\nLetniki: Design of industrial systems (PAP-3)\nIzvajalci
 : Rok Jelovčan\nProstor: Laboratory LAVAR SK-12
END:VEVENT
BEGIN:VEVENT
SUMMARY:Industry hydraulic systems (HISP)\, Laboratory excercises (VL)\, [
 S4]
DTSTART;TZID=Europe/Ljubljana:20231214T173000
DTEND;TZID=Europe/Ljubljana:20231214T193000
DTSTAMP:20260424T132814Z
UID:fs-AFLABS-URNIK:srecanje:5637-2023-12-14 17:30:00+01:00
DESCRIPTION:Predmet: Industry hydraulic systems (HISP)\, Laboratory excerc
 ises (VL)\, [S4]\nLetniki: Design of industrial systems (PAP-3)\nIzvajalci
 : Rok Jelovčan\nProstor: Laboratory LAVAR SK-12
END:VEVENT
BEGIN:VEVENT
SUMMARY:Industry hydraulic systems (HISP)\, Laboratory excercises (VL)\, [
 S4]
DTSTART;TZID=Europe/Ljubljana:20240104T173000
DTEND;TZID=Europe/Ljubljana:20240104T193000
DTSTAMP:20260424T132814Z
UID:fs-AFLABS-URNIK:srecanje:5637-2024-01-04 17:30:00+01:00
DESCRIPTION:Predmet: Industry hydraulic systems (HISP)\, Laboratory excerc
 ises (VL)\, [S4]\nLetniki: Design of industrial systems (PAP-3)\nIzvajalci
 : Rok Jelovčan\nProstor: Laboratory LAVAR SK-12
END:VEVENT
BEGIN:VEVENT
SUMMARY:Industry hydraulic systems (HISP)\, Laboratory excercises (VL)\, [
 S4]
DTSTART;TZID=Europe/Ljubljana:20240118T173000
DTEND;TZID=Europe/Ljubljana:20240118T193000
DTSTAMP:20260424T132814Z
UID:fs-AFLABS-URNIK:srecanje:5637-2024-01-18 17:30:00+01:00
DESCRIPTION:Predmet: Industry hydraulic systems (HISP)\, Laboratory excerc
 ises (VL)\, [S4]\nLetniki: Design of industrial systems (PAP-3)\nIzvajalci
 : Rok Jelovčan\nProstor: Laboratory LAVAR SK-12
END:VEVENT
BEGIN:VEVENT
SUMMARY:Industry hydraulic systems (HISP)\, Lecture exercises (VP)
DTSTART;TZID=Europe/Ljubljana:20231102T133000
DTEND;TZID=Europe/Ljubljana:20231102T153000
DTSTAMP:20260424T132814Z
UID:fs-AFLABS-URNIK:premaknjeno-srecanje:62092
ATTENDEE:Design of industrial systems (PAP-3)
CATEGORIES:Entry,Special
COLOR:forestgreen
DESCRIPTION:Predmet: Industry hydraulic systems (HISP)\, Lecture exercises
  (VP)\nLetniki: Design of industrial systems (PAP-3)\nIzvajalci: Jan Barto
 lj\, Rok Jelovčan\, Nejc Novak\, Jan Pustavrh\, Ana Trajkovski\nProstor: 
 Lecture hall III/3A
LOCATION:Lecture hall III/3A
ORGANIZER:Jan Bartolj, Rok Jelovčan, Nejc Novak, Jan Pustavrh, Ana Trajko
 vski
RELATED-TO:fs-AFLABS-URNIK:srecanje:7822
X-WR-TIMEZONE:Europe/Ljubljana
END:VEVENT
BEGIN:VEVENT
SUMMARY:Hydraulics and Pneumatics - RRP (HDPR)\, Laboratory excercises (VL
 )\, [S10]
DTSTART;TZID=Europe/Ljubljana:20231214T100000
DTEND;TZID=Europe/Ljubljana:20231214T120000
DTSTAMP:20260424T132814Z
UID:fs-AFLABS-URNIK:srecanje:5179-2023-12-14 10:00:00+01:00
DESCRIPTION:Predmet: Hydraulics and Pneumatics - RRP (HDPR)\, Laboratory e
 xcercises (VL)\, [S10]\nLetniki: RRP-3 (RRP-3)\nIzvajalci: Mihael Debevec\
 , Rok Jelovčan\, Nejc Novak\, Miha Pipan\, Jan Pustavrh\, Marko Šimic\, 
 Ana Trajkovski\nProstor: Laboratory LFT SK-9
END:VEVENT
BEGIN:VEVENT
SUMMARY:Hydraulics and Pneumatics - RRP (HDPR)\, Laboratory excercises (VL
 )\, [S10]
DTSTART;TZID=Europe/Ljubljana:20240104T100000
DTEND;TZID=Europe/Ljubljana:20240104T120000
DTSTAMP:20260424T132814Z
UID:fs-AFLABS-URNIK:srecanje:5179-2024-01-04 10:00:00+01:00
DESCRIPTION:Predmet: Hydraulics and Pneumatics - RRP (HDPR)\, Laboratory e
 xcercises (VL)\, [S10]\nLetniki: RRP-3 (RRP-3)\nIzvajalci: Mihael Debevec\
 , Rok Jelovčan\, Nejc Novak\, Miha Pipan\, Jan Pustavrh\, Marko Šimic\, 
 Ana Trajkovski\nProstor: Laboratory LFT SK-9
END:VEVENT
BEGIN:VEVENT
SUMMARY:Hydraulics and Pneumatics - RRP (HDPR)\, Laboratory excercises (VL
 )\, [S10]
DTSTART;TZID=Europe/Ljubljana:20240118T100000
DTEND;TZID=Europe/Ljubljana:20240118T120000
DTSTAMP:20260424T132814Z
UID:fs-AFLABS-URNIK:srecanje:5179-2024-01-18 10:00:00+01:00
DESCRIPTION:Predmet: Hydraulics and Pneumatics - RRP (HDPR)\, Laboratory e
 xcercises (VL)\, [S10]\nLetniki: RRP-3 (RRP-3)\nIzvajalci: Mihael Debevec\
 , Rok Jelovčan\, Nejc Novak\, Miha Pipan\, Jan Pustavrh\, Marko Šimic\, 
 Ana Trajkovski\nProstor: Laboratory LFT SK-9
END:VEVENT
END:VCALENDAR
