BEGIN:VCALENDAR
VERSION:2.0
PRODID:-//AFLabs urnik izvoz - fs//aflabs.si//SI
NAME:UL FS Urnik
X-WR-CALNAME:UL FS Urnik
DTSTAMP:20260421T072648Z
REFRESH-INTERVAL:PT1H
SOURCE:https://urnik.fs.uni-lj.si/en/teacher/703/?day=2025-02-24&export=1
URL:https://urnik.fs.uni-lj.si/en/teacher/703/?day=2025-02-24&export=1
X-PUBLISHED-TTL:PT1H
X-WR-TIMEZONE:Europe/Ljubljana
BEGIN:VTIMEZONE
TZID:Europe/Ljubljana
BEGIN:DAYLIGHT
DTSTART:20260329T020000
RDATE:20260329T020000
RDATE:20270328T020000
TZNAME:CEST
TZOFFSETFROM:+0100
TZOFFSETTO:+0200
END:DAYLIGHT
BEGIN:STANDARD
DTSTART:20261025T030000
RDATE:20261025T030000
RDATE:20271031T030000
TZNAME:CET
TZOFFSETFROM:+0200
TZOFFSETTO:+0100
END:STANDARD
END:VTIMEZONE
BEGIN:VEVENT
SUMMARY:Programming for mechatronics (PVMP)\, Laboratory excercises (VL)
DTSTART;TZID=Europe/Ljubljana:20250217T133000
DTEND;TZID=Europe/Ljubljana:20250217T153000
DTSTAMP:20260421T072648Z
UID:fs-AFLABS-URNIK:srecanje:14426-2025-02-17 13:30:00+01:00
DESCRIPTION:Predmet: Programming for mechatronics (PVMP)\, Laboratory exce
 rcises (VL)\nLetniki: Mechatronics (PAP-2)\nIzvajalci: Marjan Jenko\, Toma
 ž Požrl\nProstor: Laboratory LAMPA SII-82A
END:VEVENT
BEGIN:VEVENT
SUMMARY:Programming for mechatronics (PVMP)\, Laboratory excercises (VL)
DTSTART;TZID=Europe/Ljubljana:20250224T133000
DTEND;TZID=Europe/Ljubljana:20250224T153000
DTSTAMP:20260421T072648Z
UID:fs-AFLABS-URNIK:srecanje:14426-2025-02-24 13:30:00+01:00
DESCRIPTION:Predmet: Programming for mechatronics (PVMP)\, Laboratory exce
 rcises (VL)\nLetniki: Mechatronics (PAP-2)\nIzvajalci: Marjan Jenko\, Toma
 ž Požrl\nProstor: Laboratory LAMPA SII-82A
END:VEVENT
BEGIN:VEVENT
SUMMARY:Programming for mechatronics (PVMP)\, Laboratory excercises (VL)
DTSTART;TZID=Europe/Ljubljana:20250303T133000
DTEND;TZID=Europe/Ljubljana:20250303T153000
DTSTAMP:20260421T072648Z
UID:fs-AFLABS-URNIK:srecanje:14426-2025-03-03 13:30:00+01:00
DESCRIPTION:Predmet: Programming for mechatronics (PVMP)\, Laboratory exce
 rcises (VL)\nLetniki: Mechatronics (PAP-2)\nIzvajalci: Marjan Jenko\, Toma
 ž Požrl\nProstor: Laboratory LAMPA SII-82A
END:VEVENT
BEGIN:VEVENT
SUMMARY:Programming for mechatronics (PVMP)\, Laboratory excercises (VL)
DTSTART;TZID=Europe/Ljubljana:20250310T133000
DTEND;TZID=Europe/Ljubljana:20250310T153000
DTSTAMP:20260421T072648Z
UID:fs-AFLABS-URNIK:srecanje:14426-2025-03-10 13:30:00+01:00
DESCRIPTION:Predmet: Programming for mechatronics (PVMP)\, Laboratory exce
 rcises (VL)\nLetniki: Mechatronics (PAP-2)\nIzvajalci: Marjan Jenko\, Toma
 ž Požrl\nProstor: Laboratory LAMPA SII-82A
END:VEVENT
BEGIN:VEVENT
SUMMARY:Programming for mechatronics (PVMP)\, Laboratory excercises (VL)
DTSTART;TZID=Europe/Ljubljana:20250317T133000
DTEND;TZID=Europe/Ljubljana:20250317T153000
DTSTAMP:20260421T072648Z
UID:fs-AFLABS-URNIK:srecanje:14426-2025-03-17 13:30:00+01:00
DESCRIPTION:Predmet: Programming for mechatronics (PVMP)\, Laboratory exce
 rcises (VL)\nLetniki: Mechatronics (PAP-2)\nIzvajalci: Marjan Jenko\, Toma
 ž Požrl\nProstor: Laboratory LAMPA SII-82A
END:VEVENT
BEGIN:VEVENT
SUMMARY:Programming for mechatronics (PVMP)\, Laboratory excercises (VL)
DTSTART;TZID=Europe/Ljubljana:20250324T133000
DTEND;TZID=Europe/Ljubljana:20250324T153000
DTSTAMP:20260421T072648Z
UID:fs-AFLABS-URNIK:srecanje:14426-2025-03-24 13:30:00+01:00
DESCRIPTION:Predmet: Programming for mechatronics (PVMP)\, Laboratory exce
 rcises (VL)\nLetniki: Mechatronics (PAP-2)\nIzvajalci: Marjan Jenko\, Toma
 ž Požrl\nProstor: Laboratory LAMPA SII-82A
END:VEVENT
BEGIN:VEVENT
SUMMARY:Programming for mechatronics (PVMP)\, Laboratory excercises (VL)
DTSTART;TZID=Europe/Ljubljana:20250331T133000
DTEND;TZID=Europe/Ljubljana:20250331T153000
DTSTAMP:20260421T072648Z
UID:fs-AFLABS-URNIK:srecanje:14426-2025-03-31 13:30:00+02:00
DESCRIPTION:Predmet: Programming for mechatronics (PVMP)\, Laboratory exce
 rcises (VL)\nLetniki: Mechatronics (PAP-2)\nIzvajalci: Marjan Jenko\, Toma
 ž Požrl\nProstor: Laboratory LAMPA SII-82A
END:VEVENT
BEGIN:VEVENT
SUMMARY:Programming for mechatronics (PVMP)\, Laboratory excercises (VL)
DTSTART;TZID=Europe/Ljubljana:20250407T133000
DTEND;TZID=Europe/Ljubljana:20250407T153000
DTSTAMP:20260421T072648Z
UID:fs-AFLABS-URNIK:srecanje:14426-2025-04-07 13:30:00+02:00
DESCRIPTION:Predmet: Programming for mechatronics (PVMP)\, Laboratory exce
 rcises (VL)\nLetniki: Mechatronics (PAP-2)\nIzvajalci: Marjan Jenko\, Toma
 ž Požrl\nProstor: Laboratory LAMPA SII-82A
END:VEVENT
BEGIN:VEVENT
SUMMARY:Programming for mechatronics (PVMP)\, Laboratory excercises (VL)
DTSTART;TZID=Europe/Ljubljana:20250414T133000
DTEND;TZID=Europe/Ljubljana:20250414T153000
DTSTAMP:20260421T072648Z
UID:fs-AFLABS-URNIK:srecanje:14426-2025-04-14 13:30:00+02:00
DESCRIPTION:Predmet: Programming for mechatronics (PVMP)\, Laboratory exce
 rcises (VL)\nLetniki: Mechatronics (PAP-2)\nIzvajalci: Marjan Jenko\, Toma
 ž Požrl\nProstor: Laboratory LAMPA SII-82A
END:VEVENT
BEGIN:VEVENT
SUMMARY:Programming for mechatronics (PVMP)\, Laboratory excercises (VL)
DTSTART;TZID=Europe/Ljubljana:20250421T133000
DTEND;TZID=Europe/Ljubljana:20250421T153000
DTSTAMP:20260421T072648Z
UID:fs-AFLABS-URNIK:srecanje:14426-2025-04-21 13:30:00+02:00
DESCRIPTION:Predmet: Programming for mechatronics (PVMP)\, Laboratory exce
 rcises (VL)\nLetniki: Mechatronics (PAP-2)\nIzvajalci: Marjan Jenko\, Toma
 ž Požrl\nProstor: Laboratory LAMPA SII-82A
END:VEVENT
BEGIN:VEVENT
SUMMARY:Programming for mechatronics (PVMP)\, Laboratory excercises (VL)
DTSTART;TZID=Europe/Ljubljana:20250428T133000
DTEND;TZID=Europe/Ljubljana:20250428T153000
DTSTAMP:20260421T072648Z
UID:fs-AFLABS-URNIK:srecanje:14426-2025-04-28 13:30:00+02:00
DESCRIPTION:Predmet: Programming for mechatronics (PVMP)\, Laboratory exce
 rcises (VL)\nLetniki: Mechatronics (PAP-2)\nIzvajalci: Marjan Jenko\, Toma
 ž Požrl\nProstor: Laboratory LAMPA SII-82A
END:VEVENT
BEGIN:VEVENT
SUMMARY:Programming for mechatronics (PVMP)\, Laboratory excercises (VL)
DTSTART;TZID=Europe/Ljubljana:20250505T133000
DTEND;TZID=Europe/Ljubljana:20250505T153000
DTSTAMP:20260421T072648Z
UID:fs-AFLABS-URNIK:srecanje:14426-2025-05-05 13:30:00+02:00
DESCRIPTION:Predmet: Programming for mechatronics (PVMP)\, Laboratory exce
 rcises (VL)\nLetniki: Mechatronics (PAP-2)\nIzvajalci: Marjan Jenko\, Toma
 ž Požrl\nProstor: Laboratory LAMPA SII-82A
END:VEVENT
BEGIN:VEVENT
SUMMARY:Programming for mechatronics (PVMP)\, Laboratory excercises (VL)
DTSTART;TZID=Europe/Ljubljana:20250512T133000
DTEND;TZID=Europe/Ljubljana:20250512T153000
DTSTAMP:20260421T072648Z
UID:fs-AFLABS-URNIK:srecanje:14426-2025-05-12 13:30:00+02:00
DESCRIPTION:Predmet: Programming for mechatronics (PVMP)\, Laboratory exce
 rcises (VL)\nLetniki: Mechatronics (PAP-2)\nIzvajalci: Marjan Jenko\, Toma
 ž Požrl\nProstor: Laboratory LAMPA SII-82A
END:VEVENT
BEGIN:VEVENT
SUMMARY:Programming for mechatronics (PVMP)\, Laboratory excercises (VL)
DTSTART;TZID=Europe/Ljubljana:20250519T133000
DTEND;TZID=Europe/Ljubljana:20250519T153000
DTSTAMP:20260421T072648Z
UID:fs-AFLABS-URNIK:srecanje:14426-2025-05-19 13:30:00+02:00
DESCRIPTION:Predmet: Programming for mechatronics (PVMP)\, Laboratory exce
 rcises (VL)\nLetniki: Mechatronics (PAP-2)\nIzvajalci: Marjan Jenko\, Toma
 ž Požrl\nProstor: Laboratory LAMPA SII-82A
END:VEVENT
BEGIN:VEVENT
SUMMARY:Programming for mechatronics (PVMP)\, Laboratory excercises (VL)
DTSTART;TZID=Europe/Ljubljana:20250526T133000
DTEND;TZID=Europe/Ljubljana:20250526T153000
DTSTAMP:20260421T072648Z
UID:fs-AFLABS-URNIK:srecanje:14426-2025-05-26 13:30:00+02:00
DESCRIPTION:Predmet: Programming for mechatronics (PVMP)\, Laboratory exce
 rcises (VL)\nLetniki: Mechatronics (PAP-2)\nIzvajalci: Marjan Jenko\, Toma
 ž Požrl\nProstor: Laboratory LAMPA SII-82A
END:VEVENT
BEGIN:VEVENT
SUMMARY:Programming for mechatronics (PVMP)\, Lectures (P)
DTSTART;TZID=Europe/Ljubljana:20250218T113000
DTEND;TZID=Europe/Ljubljana:20250218T133000
DTSTAMP:20260421T072648Z
UID:fs-AFLABS-URNIK:srecanje:9987-2025-02-18 11:30:00+01:00
DESCRIPTION:Predmet: Programming for mechatronics (PVMP)\, Lectures (P)\nL
 etniki: Mechatronics (PAP-2)\nIzvajalci: Marjan Jenko\nProstor: Lecture ha
 ll III/3B
END:VEVENT
BEGIN:VEVENT
SUMMARY:Programming for mechatronics (PVMP)\, Lectures (P)
DTSTART;TZID=Europe/Ljubljana:20250225T113000
DTEND;TZID=Europe/Ljubljana:20250225T133000
DTSTAMP:20260421T072648Z
UID:fs-AFLABS-URNIK:srecanje:9987-2025-02-25 11:30:00+01:00
DESCRIPTION:Predmet: Programming for mechatronics (PVMP)\, Lectures (P)\nL
 etniki: Mechatronics (PAP-2)\nIzvajalci: Marjan Jenko\nProstor: Lecture ha
 ll III/3B
END:VEVENT
BEGIN:VEVENT
SUMMARY:Programming for mechatronics (PVMP)\, Lectures (P)
DTSTART;TZID=Europe/Ljubljana:20250304T113000
DTEND;TZID=Europe/Ljubljana:20250304T133000
DTSTAMP:20260421T072648Z
UID:fs-AFLABS-URNIK:srecanje:9987-2025-03-04 11:30:00+01:00
DESCRIPTION:Predmet: Programming for mechatronics (PVMP)\, Lectures (P)\nL
 etniki: Mechatronics (PAP-2)\nIzvajalci: Marjan Jenko\nProstor: Lecture ha
 ll III/3B
END:VEVENT
BEGIN:VEVENT
SUMMARY:Programming for mechatronics (PVMP)\, Lectures (P)
DTSTART;TZID=Europe/Ljubljana:20250311T113000
DTEND;TZID=Europe/Ljubljana:20250311T133000
DTSTAMP:20260421T072648Z
UID:fs-AFLABS-URNIK:srecanje:9987-2025-03-11 11:30:00+01:00
DESCRIPTION:Predmet: Programming for mechatronics (PVMP)\, Lectures (P)\nL
 etniki: Mechatronics (PAP-2)\nIzvajalci: Marjan Jenko\nProstor: Lecture ha
 ll III/3B
END:VEVENT
BEGIN:VEVENT
SUMMARY:Programming for mechatronics (PVMP)\, Lectures (P)
DTSTART;TZID=Europe/Ljubljana:20250318T113000
DTEND;TZID=Europe/Ljubljana:20250318T133000
DTSTAMP:20260421T072648Z
UID:fs-AFLABS-URNIK:srecanje:9987-2025-03-18 11:30:00+01:00
DESCRIPTION:Predmet: Programming for mechatronics (PVMP)\, Lectures (P)\nL
 etniki: Mechatronics (PAP-2)\nIzvajalci: Marjan Jenko\nProstor: Lecture ha
 ll III/3B
END:VEVENT
BEGIN:VEVENT
SUMMARY:Programming for mechatronics (PVMP)\, Lectures (P)
DTSTART;TZID=Europe/Ljubljana:20250325T113000
DTEND;TZID=Europe/Ljubljana:20250325T133000
DTSTAMP:20260421T072648Z
UID:fs-AFLABS-URNIK:srecanje:9987-2025-03-25 11:30:00+01:00
DESCRIPTION:Predmet: Programming for mechatronics (PVMP)\, Lectures (P)\nL
 etniki: Mechatronics (PAP-2)\nIzvajalci: Marjan Jenko\nProstor: Lecture ha
 ll III/3B
END:VEVENT
BEGIN:VEVENT
SUMMARY:Programming for mechatronics (PVMP)\, Lectures (P)
DTSTART;TZID=Europe/Ljubljana:20250401T113000
DTEND;TZID=Europe/Ljubljana:20250401T133000
DTSTAMP:20260421T072648Z
UID:fs-AFLABS-URNIK:srecanje:9987-2025-04-01 11:30:00+02:00
DESCRIPTION:Predmet: Programming for mechatronics (PVMP)\, Lectures (P)\nL
 etniki: Mechatronics (PAP-2)\nIzvajalci: Marjan Jenko\nProstor: Lecture ha
 ll III/3B
END:VEVENT
BEGIN:VEVENT
SUMMARY:Programming for mechatronics (PVMP)\, Lectures (P)
DTSTART;TZID=Europe/Ljubljana:20250408T113000
DTEND;TZID=Europe/Ljubljana:20250408T133000
DTSTAMP:20260421T072648Z
UID:fs-AFLABS-URNIK:srecanje:9987-2025-04-08 11:30:00+02:00
DESCRIPTION:Predmet: Programming for mechatronics (PVMP)\, Lectures (P)\nL
 etniki: Mechatronics (PAP-2)\nIzvajalci: Marjan Jenko\nProstor: Lecture ha
 ll III/3B
END:VEVENT
BEGIN:VEVENT
SUMMARY:Programming for mechatronics (PVMP)\, Lectures (P)
DTSTART;TZID=Europe/Ljubljana:20250415T113000
DTEND;TZID=Europe/Ljubljana:20250415T133000
DTSTAMP:20260421T072648Z
UID:fs-AFLABS-URNIK:srecanje:9987-2025-04-15 11:30:00+02:00
DESCRIPTION:Predmet: Programming for mechatronics (PVMP)\, Lectures (P)\nL
 etniki: Mechatronics (PAP-2)\nIzvajalci: Marjan Jenko\nProstor: Lecture ha
 ll III/3B
END:VEVENT
BEGIN:VEVENT
SUMMARY:Programming for mechatronics (PVMP)\, Lectures (P)
DTSTART;TZID=Europe/Ljubljana:20250422T113000
DTEND;TZID=Europe/Ljubljana:20250422T133000
DTSTAMP:20260421T072648Z
UID:fs-AFLABS-URNIK:srecanje:9987-2025-04-22 11:30:00+02:00
DESCRIPTION:Predmet: Programming for mechatronics (PVMP)\, Lectures (P)\nL
 etniki: Mechatronics (PAP-2)\nIzvajalci: Marjan Jenko\nProstor: Lecture ha
 ll III/3B
END:VEVENT
BEGIN:VEVENT
SUMMARY:Programming for mechatronics (PVMP)\, Lectures (P)
DTSTART;TZID=Europe/Ljubljana:20250429T113000
DTEND;TZID=Europe/Ljubljana:20250429T133000
DTSTAMP:20260421T072648Z
UID:fs-AFLABS-URNIK:srecanje:9987-2025-04-29 11:30:00+02:00
DESCRIPTION:Predmet: Programming for mechatronics (PVMP)\, Lectures (P)\nL
 etniki: Mechatronics (PAP-2)\nIzvajalci: Marjan Jenko\nProstor: Lecture ha
 ll III/3B
END:VEVENT
BEGIN:VEVENT
SUMMARY:Programming for mechatronics (PVMP)\, Lectures (P)
DTSTART;TZID=Europe/Ljubljana:20250506T113000
DTEND;TZID=Europe/Ljubljana:20250506T133000
DTSTAMP:20260421T072648Z
UID:fs-AFLABS-URNIK:srecanje:9987-2025-05-06 11:30:00+02:00
DESCRIPTION:Predmet: Programming for mechatronics (PVMP)\, Lectures (P)\nL
 etniki: Mechatronics (PAP-2)\nIzvajalci: Marjan Jenko\nProstor: Lecture ha
 ll III/3B
END:VEVENT
BEGIN:VEVENT
SUMMARY:Programming for mechatronics (PVMP)\, Lectures (P)
DTSTART;TZID=Europe/Ljubljana:20250513T113000
DTEND;TZID=Europe/Ljubljana:20250513T133000
DTSTAMP:20260421T072648Z
UID:fs-AFLABS-URNIK:srecanje:9987-2025-05-13 11:30:00+02:00
DESCRIPTION:Predmet: Programming for mechatronics (PVMP)\, Lectures (P)\nL
 etniki: Mechatronics (PAP-2)\nIzvajalci: Marjan Jenko\nProstor: Lecture ha
 ll III/3B
END:VEVENT
BEGIN:VEVENT
SUMMARY:Programming for mechatronics (PVMP)\, Lectures (P)
DTSTART;TZID=Europe/Ljubljana:20250520T113000
DTEND;TZID=Europe/Ljubljana:20250520T133000
DTSTAMP:20260421T072648Z
UID:fs-AFLABS-URNIK:srecanje:9987-2025-05-20 11:30:00+02:00
DESCRIPTION:Predmet: Programming for mechatronics (PVMP)\, Lectures (P)\nL
 etniki: Mechatronics (PAP-2)\nIzvajalci: Marjan Jenko\nProstor: Lecture ha
 ll III/3B
END:VEVENT
BEGIN:VEVENT
SUMMARY:Programming for mechatronics (PVMP)\, Lectures (P)
DTSTART;TZID=Europe/Ljubljana:20250527T113000
DTEND;TZID=Europe/Ljubljana:20250527T133000
DTSTAMP:20260421T072648Z
UID:fs-AFLABS-URNIK:srecanje:9987-2025-05-27 11:30:00+02:00
DESCRIPTION:Predmet: Programming for mechatronics (PVMP)\, Lectures (P)\nL
 etniki: Mechatronics (PAP-2)\nIzvajalci: Marjan Jenko\nProstor: Lecture ha
 ll III/3B
END:VEVENT
BEGIN:VEVENT
SUMMARY:Electrical engineering (ELTR)\, Lectures (P)
DTSTART;TZID=Europe/Ljubljana:20250219T120000
DTEND;TZID=Europe/Ljubljana:20250219T140000
DTSTAMP:20260421T072648Z
UID:fs-AFLABS-URNIK:srecanje:9435-2025-02-19 12:00:00+01:00
DESCRIPTION:Predmet: Electrical engineering (ELTR)\, Lectures (P)\nLetniki
 : RRP-1 (RRP-1)\nIzvajalci: Marjan Jenko\nProstor: Lecture hall V/8
END:VEVENT
BEGIN:VEVENT
SUMMARY:Electrical engineering (ELTR)\, Lectures (P)
DTSTART;TZID=Europe/Ljubljana:20250226T120000
DTEND;TZID=Europe/Ljubljana:20250226T140000
DTSTAMP:20260421T072648Z
UID:fs-AFLABS-URNIK:srecanje:9435-2025-02-26 12:00:00+01:00
DESCRIPTION:Predmet: Electrical engineering (ELTR)\, Lectures (P)\nLetniki
 : RRP-1 (RRP-1)\nIzvajalci: Marjan Jenko\nProstor: Lecture hall V/8
END:VEVENT
BEGIN:VEVENT
SUMMARY:Electrical engineering (ELTR)\, Lectures (P)
DTSTART;TZID=Europe/Ljubljana:20250305T120000
DTEND;TZID=Europe/Ljubljana:20250305T140000
DTSTAMP:20260421T072648Z
UID:fs-AFLABS-URNIK:srecanje:9435-2025-03-05 12:00:00+01:00
DESCRIPTION:Predmet: Electrical engineering (ELTR)\, Lectures (P)\nLetniki
 : RRP-1 (RRP-1)\nIzvajalci: Marjan Jenko\nProstor: Lecture hall V/8
END:VEVENT
BEGIN:VEVENT
SUMMARY:Electrical engineering (ELTR)\, Lectures (P)
DTSTART;TZID=Europe/Ljubljana:20250312T120000
DTEND;TZID=Europe/Ljubljana:20250312T140000
DTSTAMP:20260421T072648Z
UID:fs-AFLABS-URNIK:srecanje:9435-2025-03-12 12:00:00+01:00
DESCRIPTION:Predmet: Electrical engineering (ELTR)\, Lectures (P)\nLetniki
 : RRP-1 (RRP-1)\nIzvajalci: Marjan Jenko\nProstor: Lecture hall V/8
END:VEVENT
BEGIN:VEVENT
SUMMARY:Electrical engineering (ELTR)\, Lectures (P)
DTSTART;TZID=Europe/Ljubljana:20250319T120000
DTEND;TZID=Europe/Ljubljana:20250319T140000
DTSTAMP:20260421T072648Z
UID:fs-AFLABS-URNIK:srecanje:9435-2025-03-19 12:00:00+01:00
DESCRIPTION:Predmet: Electrical engineering (ELTR)\, Lectures (P)\nLetniki
 : RRP-1 (RRP-1)\nIzvajalci: Marjan Jenko\nProstor: Lecture hall V/8
END:VEVENT
BEGIN:VEVENT
SUMMARY:Electrical engineering (ELTR)\, Lectures (P)
DTSTART;TZID=Europe/Ljubljana:20250326T120000
DTEND;TZID=Europe/Ljubljana:20250326T140000
DTSTAMP:20260421T072648Z
UID:fs-AFLABS-URNIK:srecanje:9435-2025-03-26 12:00:00+01:00
DESCRIPTION:Predmet: Electrical engineering (ELTR)\, Lectures (P)\nLetniki
 : RRP-1 (RRP-1)\nIzvajalci: Marjan Jenko\nProstor: Lecture hall V/8
END:VEVENT
BEGIN:VEVENT
SUMMARY:Electrical engineering (ELTR)\, Lectures (P)
DTSTART;TZID=Europe/Ljubljana:20250402T120000
DTEND;TZID=Europe/Ljubljana:20250402T140000
DTSTAMP:20260421T072648Z
UID:fs-AFLABS-URNIK:srecanje:9435-2025-04-02 12:00:00+02:00
DESCRIPTION:Predmet: Electrical engineering (ELTR)\, Lectures (P)\nLetniki
 : RRP-1 (RRP-1)\nIzvajalci: Marjan Jenko\nProstor: Lecture hall V/8
END:VEVENT
BEGIN:VEVENT
SUMMARY:Electrical engineering (ELTR)\, Lectures (P)
DTSTART;TZID=Europe/Ljubljana:20250409T120000
DTEND;TZID=Europe/Ljubljana:20250409T140000
DTSTAMP:20260421T072648Z
UID:fs-AFLABS-URNIK:srecanje:9435-2025-04-09 12:00:00+02:00
DESCRIPTION:Predmet: Electrical engineering (ELTR)\, Lectures (P)\nLetniki
 : RRP-1 (RRP-1)\nIzvajalci: Marjan Jenko\nProstor: Lecture hall V/8
END:VEVENT
BEGIN:VEVENT
SUMMARY:Electrical engineering (ELTR)\, Lectures (P)
DTSTART;TZID=Europe/Ljubljana:20250416T120000
DTEND;TZID=Europe/Ljubljana:20250416T140000
DTSTAMP:20260421T072648Z
UID:fs-AFLABS-URNIK:srecanje:9435-2025-04-16 12:00:00+02:00
DESCRIPTION:Predmet: Electrical engineering (ELTR)\, Lectures (P)\nLetniki
 : RRP-1 (RRP-1)\nIzvajalci: Marjan Jenko\nProstor: Lecture hall V/8
END:VEVENT
BEGIN:VEVENT
SUMMARY:Electrical engineering (ELTR)\, Lectures (P)
DTSTART;TZID=Europe/Ljubljana:20250423T120000
DTEND;TZID=Europe/Ljubljana:20250423T140000
DTSTAMP:20260421T072648Z
UID:fs-AFLABS-URNIK:srecanje:9435-2025-04-23 12:00:00+02:00
DESCRIPTION:Predmet: Electrical engineering (ELTR)\, Lectures (P)\nLetniki
 : RRP-1 (RRP-1)\nIzvajalci: Marjan Jenko\nProstor: Lecture hall V/8
END:VEVENT
BEGIN:VEVENT
SUMMARY:Electrical engineering (ELTR)\, Lectures (P)
DTSTART;TZID=Europe/Ljubljana:20250430T120000
DTEND;TZID=Europe/Ljubljana:20250430T140000
DTSTAMP:20260421T072648Z
UID:fs-AFLABS-URNIK:srecanje:9435-2025-04-30 12:00:00+02:00
DESCRIPTION:Predmet: Electrical engineering (ELTR)\, Lectures (P)\nLetniki
 : RRP-1 (RRP-1)\nIzvajalci: Marjan Jenko\nProstor: Lecture hall V/8
END:VEVENT
BEGIN:VEVENT
SUMMARY:Electrical engineering (ELTR)\, Lectures (P)
DTSTART;TZID=Europe/Ljubljana:20250507T120000
DTEND;TZID=Europe/Ljubljana:20250507T140000
DTSTAMP:20260421T072648Z
UID:fs-AFLABS-URNIK:srecanje:9435-2025-05-07 12:00:00+02:00
DESCRIPTION:Predmet: Electrical engineering (ELTR)\, Lectures (P)\nLetniki
 : RRP-1 (RRP-1)\nIzvajalci: Marjan Jenko\nProstor: Lecture hall V/8
END:VEVENT
BEGIN:VEVENT
SUMMARY:Electrical engineering (ELTR)\, Lectures (P)
DTSTART;TZID=Europe/Ljubljana:20250514T120000
DTEND;TZID=Europe/Ljubljana:20250514T140000
DTSTAMP:20260421T072648Z
UID:fs-AFLABS-URNIK:srecanje:9435-2025-05-14 12:00:00+02:00
DESCRIPTION:Predmet: Electrical engineering (ELTR)\, Lectures (P)\nLetniki
 : RRP-1 (RRP-1)\nIzvajalci: Marjan Jenko\nProstor: Lecture hall V/8
END:VEVENT
BEGIN:VEVENT
SUMMARY:Electrical engineering (ELTR)\, Lectures (P)
DTSTART;TZID=Europe/Ljubljana:20250521T120000
DTEND;TZID=Europe/Ljubljana:20250521T140000
DTSTAMP:20260421T072648Z
UID:fs-AFLABS-URNIK:srecanje:9435-2025-05-21 12:00:00+02:00
DESCRIPTION:Predmet: Electrical engineering (ELTR)\, Lectures (P)\nLetniki
 : RRP-1 (RRP-1)\nIzvajalci: Marjan Jenko\nProstor: Lecture hall V/8
END:VEVENT
BEGIN:VEVENT
SUMMARY:Electrical engineering (ELTR)\, Lectures (P)
DTSTART;TZID=Europe/Ljubljana:20250528T120000
DTEND;TZID=Europe/Ljubljana:20250528T140000
DTSTAMP:20260421T072648Z
UID:fs-AFLABS-URNIK:srecanje:9435-2025-05-28 12:00:00+02:00
DESCRIPTION:Predmet: Electrical engineering (ELTR)\, Lectures (P)\nLetniki
 : RRP-1 (RRP-1)\nIzvajalci: Marjan Jenko\nProstor: Lecture hall V/8
END:VEVENT
BEGIN:VEVENT
SUMMARY:Electrical engineering (ELTR)\, Laboratory excercises (VL)\, [S4]
DTSTART;TZID=Europe/Ljubljana:20250505T090000
DTEND;TZID=Europe/Ljubljana:20250505T110000
DTSTAMP:20260421T072648Z
UID:fs-AFLABS-URNIK:srecanje:14430-2025-05-05 09:00:00+02:00
DESCRIPTION:Predmet: Electrical engineering (ELTR)\, Laboratory excercises
  (VL)\, [S4]\nLetniki: RRP-1 (RRP-1)\nIzvajalci: Marjan Jenko\, Anja Juri
 ševič\, Tomaž Požrl\nProstor: Laboratory LAMPA SII-82A
END:VEVENT
BEGIN:VEVENT
SUMMARY:Electrical engineering (ELTR)\, Laboratory excercises (VL)\, [S8]
DTSTART;TZID=Europe/Ljubljana:20250506T160000
DTEND;TZID=Europe/Ljubljana:20250506T180000
DTSTAMP:20260421T072648Z
UID:fs-AFLABS-URNIK:srecanje:14429-2025-05-06 16:00:00+02:00
DESCRIPTION:Predmet: Electrical engineering (ELTR)\, Laboratory excercises
  (VL)\, [S8]\nLetniki: RRP-1 (RRP-1)\nIzvajalci: Marjan Jenko\, Anja Juri
 ševič\, Tomaž Požrl\nProstor: Laboratory LAMPA SII-82A
END:VEVENT
BEGIN:VEVENT
SUMMARY:Electrical engineering (ELTR)\, Laboratory excercises (VL)\, [S1]
DTSTART;TZID=Europe/Ljubljana:20250507T140000
DTEND;TZID=Europe/Ljubljana:20250507T160000
DTSTAMP:20260421T072648Z
UID:fs-AFLABS-URNIK:srecanje:14427-2025-05-07 14:00:00+02:00
DESCRIPTION:Predmet: Electrical engineering (ELTR)\, Laboratory excercises
  (VL)\, [S1]\nLetniki: RRP-1 (RRP-1)\nIzvajalci: Marjan Jenko\, Anja Juri
 ševič\, Tomaž Požrl\nProstor: Laboratory LAMPA SII-82A
END:VEVENT
BEGIN:VEVENT
SUMMARY:Electrical engineering (ELTR)\, Laboratory excercises (VL)\, [S2]
DTSTART;TZID=Europe/Ljubljana:20250507T160000
DTEND;TZID=Europe/Ljubljana:20250507T180000
DTSTAMP:20260421T072648Z
UID:fs-AFLABS-URNIK:srecanje:14428-2025-05-07 16:00:00+02:00
DESCRIPTION:Predmet: Electrical engineering (ELTR)\, Laboratory excercises
  (VL)\, [S2]\nLetniki: RRP-1 (RRP-1)\nIzvajalci: Marjan Jenko\, Anja Juri
 ševič\, Tomaž Požrl\nProstor: Laboratory LAMPA SII-82A
END:VEVENT
BEGIN:VEVENT
SUMMARY:Electrical engineering (ELTR)\, Laboratory excercises (VL)\, [S5]
DTSTART;TZID=Europe/Ljubljana:20250513T160000
DTEND;TZID=Europe/Ljubljana:20250513T180000
DTSTAMP:20260421T072648Z
UID:fs-AFLABS-URNIK:srecanje:14433-2025-05-13 16:00:00+02:00
DESCRIPTION:Predmet: Electrical engineering (ELTR)\, Laboratory excercises
  (VL)\, [S5]\nLetniki: RRP-1 (RRP-1)\nIzvajalci: Marjan Jenko\, Anja Juri
 ševič\, Tomaž Požrl\nProstor: Laboratory LAMPA SII-82A
END:VEVENT
BEGIN:VEVENT
SUMMARY:Electrical engineering (ELTR)\, Laboratory excercises (VL)\, [S3]
DTSTART;TZID=Europe/Ljubljana:20250514T160000
DTEND;TZID=Europe/Ljubljana:20250514T180000
DTSTAMP:20260421T072648Z
UID:fs-AFLABS-URNIK:srecanje:14432-2025-05-14 16:00:00+02:00
DESCRIPTION:Predmet: Electrical engineering (ELTR)\, Laboratory excercises
  (VL)\, [S3]\nLetniki: RRP-1 (RRP-1)\nIzvajalci: Marjan Jenko\, Anja Juri
 ševič\, Tomaž Požrl\nProstor: Laboratory LAMPA SII-82A
END:VEVENT
BEGIN:VEVENT
SUMMARY:Electrical engineering (ELTR)\, Laboratory excercises (VL)\, [S7]
DTSTART;TZID=Europe/Ljubljana:20250516T160000
DTEND;TZID=Europe/Ljubljana:20250516T180000
DTSTAMP:20260421T072648Z
UID:fs-AFLABS-URNIK:srecanje:14435-2025-05-16 16:00:00+02:00
DESCRIPTION:Predmet: Electrical engineering (ELTR)\, Laboratory excercises
  (VL)\, [S7]\nLetniki: RRP-1 (RRP-1)\nIzvajalci: Marjan Jenko\, Anja Juri
 ševič\, Tomaž Požrl\nProstor: Laboratory LAMPA SII-82A
END:VEVENT
BEGIN:VEVENT
SUMMARY:ELTR kolokvij 1
DTSTART;TZID=Europe/Ljubljana:20250418T163000
DTEND;TZID=Europe/Ljubljana:20250418T190000
DTSTAMP:20260421T072648Z
UID:fs-AFLABS-URNIK:rezervacija:9280
CATEGORIES:Reservation
COLOR:royalblue
DESCRIPTION:Predmeti: \nLetniki: \nIzvajalci: Marjan Jenko\, Tomaž Požrl
 \nProstori: Lecture hall IV/4\, Lecture hall V/2\, Lecture hall V/8
LOCATION:Lecture hall IV/4\, Lecture hall V/2\, Lecture hall V/8
ORGANIZER:Marjan Jenko, Tomaž Požrl
X-WR-TIMEZONE:Europe/Ljubljana
END:VEVENT
BEGIN:VEVENT
SUMMARY:ELTR kolokvij 2
DTSTART;TZID=Europe/Ljubljana:20250523T173000
DTEND;TZID=Europe/Ljubljana:20250523T200000
DTSTAMP:20260421T072648Z
UID:fs-AFLABS-URNIK:rezervacija:9284
CATEGORIES:Reservation
COLOR:royalblue
DESCRIPTION:Predmeti: \nLetniki: \nIzvajalci: Marjan Jenko\, Tomaž Požrl
 \nProstori: Lecture hall III/2\, Lecture hall III/3A\, Lecture hall III/3B
 \, Lecture hall III/4\, Lecture hall IV/3A\, Lecture hall IV/3B
LOCATION:Lecture hall III/2\, Lecture hall III/3A\, Lecture hall III/3B\, 
 Lecture hall III/4\, Lecture hall IV/3A\, Lecture hall IV/3B
ORGANIZER:Marjan Jenko, Tomaž Požrl
X-WR-TIMEZONE:Europe/Ljubljana
END:VEVENT
END:VCALENDAR
