BEGIN:VCALENDAR
VERSION:2.0
PRODID:-//AFLabs urnik izvoz - fs//aflabs.si//SI
NAME:UL FS Urnik
X-WR-CALNAME:UL FS Urnik
DTSTAMP:20260420T175122Z
REFRESH-INTERVAL:PT1H
SOURCE:https://urnik.fs.uni-lj.si/en/teacher/703/?day=2026-01-05&export=1
URL:https://urnik.fs.uni-lj.si/en/teacher/703/?day=2026-01-05&export=1
X-PUBLISHED-TTL:PT1H
X-WR-TIMEZONE:Europe/Ljubljana
BEGIN:VTIMEZONE
TZID:Europe/Ljubljana
BEGIN:DAYLIGHT
DTSTART:20260329T020000
RDATE:20260329T020000
RDATE:20270328T020000
TZNAME:CEST
TZOFFSETFROM:+0100
TZOFFSETTO:+0200
END:DAYLIGHT
BEGIN:STANDARD
DTSTART:20261025T030000
RDATE:20261025T030000
RDATE:20271031T030000
TZNAME:CET
TZOFFSETFROM:+0200
TZOFFSETTO:+0100
END:STANDARD
END:VTIMEZONE
BEGIN:VEVENT
SUMMARY:Robotic systems - PAP (RBSP)\, Lectures (P)
DTSTART;TZID=Europe/Ljubljana:20250929T133000
DTEND;TZID=Europe/Ljubljana:20250929T153000
DTSTAMP:20260420T175122Z
UID:fs-AFLABS-URNIK:srecanje:16026-2025-09-29 13:30:00+02:00
DESCRIPTION:Predmet: Robotic systems - PAP (RBSP)\, Lectures (P)\nLetniki:
  Mechatronics (PAP-3)\nIzvajalci: Marjan Jenko\, Rok Vrabič\nProstor: Com
 puter lecture room SP-24
END:VEVENT
BEGIN:VEVENT
SUMMARY:Robotic systems - PAP (RBSP)\, Lectures (P)
DTSTART;TZID=Europe/Ljubljana:20251006T133000
DTEND;TZID=Europe/Ljubljana:20251006T153000
DTSTAMP:20260420T175122Z
UID:fs-AFLABS-URNIK:srecanje:16026-2025-10-06 13:30:00+02:00
DESCRIPTION:Predmet: Robotic systems - PAP (RBSP)\, Lectures (P)\nLetniki:
  Mechatronics (PAP-3)\nIzvajalci: Marjan Jenko\, Rok Vrabič\nProstor: Com
 puter lecture room SP-24
END:VEVENT
BEGIN:VEVENT
SUMMARY:Robotic systems - PAP (RBSP)\, Lectures (P)
DTSTART;TZID=Europe/Ljubljana:20251013T133000
DTEND;TZID=Europe/Ljubljana:20251013T153000
DTSTAMP:20260420T175122Z
UID:fs-AFLABS-URNIK:srecanje:16026-2025-10-13 13:30:00+02:00
DESCRIPTION:Predmet: Robotic systems - PAP (RBSP)\, Lectures (P)\nLetniki:
  Mechatronics (PAP-3)\nIzvajalci: Marjan Jenko\, Rok Vrabič\nProstor: Com
 puter lecture room SP-24
END:VEVENT
BEGIN:VEVENT
SUMMARY:Robotic systems - PAP (RBSP)\, Lectures (P)
DTSTART;TZID=Europe/Ljubljana:20251020T133000
DTEND;TZID=Europe/Ljubljana:20251020T153000
DTSTAMP:20260420T175122Z
UID:fs-AFLABS-URNIK:srecanje:16026-2025-10-20 13:30:00+02:00
DESCRIPTION:Predmet: Robotic systems - PAP (RBSP)\, Lectures (P)\nLetniki:
  Mechatronics (PAP-3)\nIzvajalci: Marjan Jenko\, Rok Vrabič\nProstor: Com
 puter lecture room SP-24
END:VEVENT
BEGIN:VEVENT
SUMMARY:Robotic systems - PAP (RBSP)\, Lectures (P)
DTSTART;TZID=Europe/Ljubljana:20251027T133000
DTEND;TZID=Europe/Ljubljana:20251027T153000
DTSTAMP:20260420T175122Z
UID:fs-AFLABS-URNIK:srecanje:16026-2025-10-27 13:30:00+01:00
DESCRIPTION:Predmet: Robotic systems - PAP (RBSP)\, Lectures (P)\nLetniki:
  Mechatronics (PAP-3)\nIzvajalci: Marjan Jenko\, Rok Vrabič\nProstor: Com
 puter lecture room SP-24
END:VEVENT
BEGIN:VEVENT
SUMMARY:Robotic systems - PAP (RBSP)\, Lectures (P)
DTSTART;TZID=Europe/Ljubljana:20251103T133000
DTEND;TZID=Europe/Ljubljana:20251103T153000
DTSTAMP:20260420T175122Z
UID:fs-AFLABS-URNIK:srecanje:16026-2025-11-03 13:30:00+01:00
DESCRIPTION:Predmet: Robotic systems - PAP (RBSP)\, Lectures (P)\nLetniki:
  Mechatronics (PAP-3)\nIzvajalci: Marjan Jenko\, Rok Vrabič\nProstor: Com
 puter lecture room SP-24
END:VEVENT
BEGIN:VEVENT
SUMMARY:Robotic systems - PAP (RBSP)\, Lectures (P)
DTSTART;TZID=Europe/Ljubljana:20251110T133000
DTEND;TZID=Europe/Ljubljana:20251110T153000
DTSTAMP:20260420T175122Z
UID:fs-AFLABS-URNIK:srecanje:16026-2025-11-10 13:30:00+01:00
DESCRIPTION:Predmet: Robotic systems - PAP (RBSP)\, Lectures (P)\nLetniki:
  Mechatronics (PAP-3)\nIzvajalci: Marjan Jenko\, Rok Vrabič\nProstor: Com
 puter lecture room SP-24
END:VEVENT
BEGIN:VEVENT
SUMMARY:Robotic systems - PAP (RBSP)\, Lectures (P)
DTSTART;TZID=Europe/Ljubljana:20251117T133000
DTEND;TZID=Europe/Ljubljana:20251117T153000
DTSTAMP:20260420T175122Z
UID:fs-AFLABS-URNIK:srecanje:16026-2025-11-17 13:30:00+01:00
DESCRIPTION:Predmet: Robotic systems - PAP (RBSP)\, Lectures (P)\nLetniki:
  Mechatronics (PAP-3)\nIzvajalci: Marjan Jenko\, Rok Vrabič\nProstor: Com
 puter lecture room SP-24
END:VEVENT
BEGIN:VEVENT
SUMMARY:Robotic systems - PAP (RBSP)\, Lectures (P)
DTSTART;TZID=Europe/Ljubljana:20251124T133000
DTEND;TZID=Europe/Ljubljana:20251124T153000
DTSTAMP:20260420T175122Z
UID:fs-AFLABS-URNIK:srecanje:16026-2025-11-24 13:30:00+01:00
DESCRIPTION:Predmet: Robotic systems - PAP (RBSP)\, Lectures (P)\nLetniki:
  Mechatronics (PAP-3)\nIzvajalci: Marjan Jenko\, Rok Vrabič\nProstor: Com
 puter lecture room SP-24
END:VEVENT
BEGIN:VEVENT
SUMMARY:Robotic systems - PAP (RBSP)\, Lectures (P)
DTSTART;TZID=Europe/Ljubljana:20251201T133000
DTEND;TZID=Europe/Ljubljana:20251201T153000
DTSTAMP:20260420T175122Z
UID:fs-AFLABS-URNIK:srecanje:16026-2025-12-01 13:30:00+01:00
DESCRIPTION:Predmet: Robotic systems - PAP (RBSP)\, Lectures (P)\nLetniki:
  Mechatronics (PAP-3)\nIzvajalci: Marjan Jenko\, Rok Vrabič\nProstor: Com
 puter lecture room SP-24
END:VEVENT
BEGIN:VEVENT
SUMMARY:Robotic systems - PAP (RBSP)\, Lectures (P)
DTSTART;TZID=Europe/Ljubljana:20251208T133000
DTEND;TZID=Europe/Ljubljana:20251208T153000
DTSTAMP:20260420T175122Z
UID:fs-AFLABS-URNIK:srecanje:16026-2025-12-08 13:30:00+01:00
DESCRIPTION:Predmet: Robotic systems - PAP (RBSP)\, Lectures (P)\nLetniki:
  Mechatronics (PAP-3)\nIzvajalci: Marjan Jenko\, Rok Vrabič\nProstor: Com
 puter lecture room SP-24
END:VEVENT
BEGIN:VEVENT
SUMMARY:Robotic systems - PAP (RBSP)\, Lectures (P)
DTSTART;TZID=Europe/Ljubljana:20251215T133000
DTEND;TZID=Europe/Ljubljana:20251215T153000
DTSTAMP:20260420T175122Z
UID:fs-AFLABS-URNIK:srecanje:16026-2025-12-15 13:30:00+01:00
DESCRIPTION:Predmet: Robotic systems - PAP (RBSP)\, Lectures (P)\nLetniki:
  Mechatronics (PAP-3)\nIzvajalci: Marjan Jenko\, Rok Vrabič\nProstor: Com
 puter lecture room SP-24
END:VEVENT
BEGIN:VEVENT
SUMMARY:Robotic systems - PAP (RBSP)\, Lectures (P)
DTSTART;TZID=Europe/Ljubljana:20251222T133000
DTEND;TZID=Europe/Ljubljana:20251222T153000
DTSTAMP:20260420T175122Z
UID:fs-AFLABS-URNIK:srecanje:16026-2025-12-22 13:30:00+01:00
DESCRIPTION:Predmet: Robotic systems - PAP (RBSP)\, Lectures (P)\nLetniki:
  Mechatronics (PAP-3)\nIzvajalci: Marjan Jenko\, Rok Vrabič\nProstor: Com
 puter lecture room SP-24
END:VEVENT
BEGIN:VEVENT
SUMMARY:Robotic systems - PAP (RBSP)\, Lectures (P)
DTSTART;TZID=Europe/Ljubljana:20260105T133000
DTEND;TZID=Europe/Ljubljana:20260105T153000
DTSTAMP:20260420T175122Z
UID:fs-AFLABS-URNIK:srecanje:16026-2026-01-05 13:30:00+01:00
DESCRIPTION:Predmet: Robotic systems - PAP (RBSP)\, Lectures (P)\nLetniki:
  Mechatronics (PAP-3)\nIzvajalci: Marjan Jenko\, Rok Vrabič\nProstor: Com
 puter lecture room SP-24
END:VEVENT
BEGIN:VEVENT
SUMMARY:Robotic systems - PAP (RBSP)\, Lectures (P)
DTSTART;TZID=Europe/Ljubljana:20260112T133000
DTEND;TZID=Europe/Ljubljana:20260112T153000
DTSTAMP:20260420T175122Z
UID:fs-AFLABS-URNIK:srecanje:16026-2026-01-12 13:30:00+01:00
DESCRIPTION:Predmet: Robotic systems - PAP (RBSP)\, Lectures (P)\nLetniki:
  Mechatronics (PAP-3)\nIzvajalci: Marjan Jenko\, Rok Vrabič\nProstor: Com
 puter lecture room SP-24
END:VEVENT
BEGIN:VEVENT
SUMMARY:Electrical engineering and electronics (ETEP)\, Lectures (P)
DTSTART;TZID=Europe/Ljubljana:20250930T093000
DTEND;TZID=Europe/Ljubljana:20250930T113000
DTSTAMP:20260420T175122Z
UID:fs-AFLABS-URNIK:srecanje:2175-2025-09-30 09:30:00+02:00
DESCRIPTION:Predmet: Electrical engineering and electronics (ETEP)\, Lectu
 res (P)\nLetniki: PAP-1 (PAP-1)\nIzvajalci: Marjan Jenko\nProstor: Lecture
  hall V/8
END:VEVENT
BEGIN:VEVENT
SUMMARY:Electrical engineering and electronics (ETEP)\, Lectures (P)
DTSTART;TZID=Europe/Ljubljana:20251007T093000
DTEND;TZID=Europe/Ljubljana:20251007T113000
DTSTAMP:20260420T175122Z
UID:fs-AFLABS-URNIK:srecanje:2175-2025-10-07 09:30:00+02:00
DESCRIPTION:Predmet: Electrical engineering and electronics (ETEP)\, Lectu
 res (P)\nLetniki: PAP-1 (PAP-1)\nIzvajalci: Marjan Jenko\nProstor: Lecture
  hall V/8
END:VEVENT
BEGIN:VEVENT
SUMMARY:Electrical engineering and electronics (ETEP)\, Lectures (P)
DTSTART;TZID=Europe/Ljubljana:20251014T093000
DTEND;TZID=Europe/Ljubljana:20251014T113000
DTSTAMP:20260420T175122Z
UID:fs-AFLABS-URNIK:srecanje:2175-2025-10-14 09:30:00+02:00
DESCRIPTION:Predmet: Electrical engineering and electronics (ETEP)\, Lectu
 res (P)\nLetniki: PAP-1 (PAP-1)\nIzvajalci: Marjan Jenko\nProstor: Lecture
  hall V/8
END:VEVENT
BEGIN:VEVENT
SUMMARY:Electrical engineering and electronics (ETEP)\, Lectures (P)
DTSTART;TZID=Europe/Ljubljana:20251021T093000
DTEND;TZID=Europe/Ljubljana:20251021T113000
DTSTAMP:20260420T175122Z
UID:fs-AFLABS-URNIK:srecanje:2175-2025-10-21 09:30:00+02:00
DESCRIPTION:Predmet: Electrical engineering and electronics (ETEP)\, Lectu
 res (P)\nLetniki: PAP-1 (PAP-1)\nIzvajalci: Marjan Jenko\nProstor: Lecture
  hall V/8
END:VEVENT
BEGIN:VEVENT
SUMMARY:Electrical engineering and electronics (ETEP)\, Lectures (P)
DTSTART;TZID=Europe/Ljubljana:20251028T093000
DTEND;TZID=Europe/Ljubljana:20251028T113000
DTSTAMP:20260420T175122Z
UID:fs-AFLABS-URNIK:srecanje:2175-2025-10-28 09:30:00+01:00
DESCRIPTION:Predmet: Electrical engineering and electronics (ETEP)\, Lectu
 res (P)\nLetniki: PAP-1 (PAP-1)\nIzvajalci: Marjan Jenko\nProstor: Lecture
  hall V/8
END:VEVENT
BEGIN:VEVENT
SUMMARY:Electrical engineering and electronics (ETEP)\, Lectures (P)
DTSTART;TZID=Europe/Ljubljana:20251104T093000
DTEND;TZID=Europe/Ljubljana:20251104T113000
DTSTAMP:20260420T175122Z
UID:fs-AFLABS-URNIK:srecanje:2175-2025-11-04 09:30:00+01:00
DESCRIPTION:Predmet: Electrical engineering and electronics (ETEP)\, Lectu
 res (P)\nLetniki: PAP-1 (PAP-1)\nIzvajalci: Marjan Jenko\nProstor: Lecture
  hall V/8
END:VEVENT
BEGIN:VEVENT
SUMMARY:Electrical engineering and electronics (ETEP)\, Lectures (P)
DTSTART;TZID=Europe/Ljubljana:20251111T093000
DTEND;TZID=Europe/Ljubljana:20251111T113000
DTSTAMP:20260420T175122Z
UID:fs-AFLABS-URNIK:srecanje:2175-2025-11-11 09:30:00+01:00
DESCRIPTION:Predmet: Electrical engineering and electronics (ETEP)\, Lectu
 res (P)\nLetniki: PAP-1 (PAP-1)\nIzvajalci: Marjan Jenko\nProstor: Lecture
  hall V/8
END:VEVENT
BEGIN:VEVENT
SUMMARY:Electrical engineering and electronics (ETEP)\, Lectures (P)
DTSTART;TZID=Europe/Ljubljana:20251118T093000
DTEND;TZID=Europe/Ljubljana:20251118T113000
DTSTAMP:20260420T175122Z
UID:fs-AFLABS-URNIK:srecanje:2175-2025-11-18 09:30:00+01:00
DESCRIPTION:Predmet: Electrical engineering and electronics (ETEP)\, Lectu
 res (P)\nLetniki: PAP-1 (PAP-1)\nIzvajalci: Marjan Jenko\nProstor: Lecture
  hall V/8
END:VEVENT
BEGIN:VEVENT
SUMMARY:Electrical engineering and electronics (ETEP)\, Lectures (P)
DTSTART;TZID=Europe/Ljubljana:20251125T093000
DTEND;TZID=Europe/Ljubljana:20251125T113000
DTSTAMP:20260420T175122Z
UID:fs-AFLABS-URNIK:srecanje:2175-2025-11-25 09:30:00+01:00
DESCRIPTION:Predmet: Electrical engineering and electronics (ETEP)\, Lectu
 res (P)\nLetniki: PAP-1 (PAP-1)\nIzvajalci: Marjan Jenko\nProstor: Lecture
  hall V/8
END:VEVENT
BEGIN:VEVENT
SUMMARY:Electrical engineering and electronics (ETEP)\, Lectures (P)
DTSTART;TZID=Europe/Ljubljana:20251202T093000
DTEND;TZID=Europe/Ljubljana:20251202T113000
DTSTAMP:20260420T175122Z
UID:fs-AFLABS-URNIK:srecanje:2175-2025-12-02 09:30:00+01:00
DESCRIPTION:Predmet: Electrical engineering and electronics (ETEP)\, Lectu
 res (P)\nLetniki: PAP-1 (PAP-1)\nIzvajalci: Marjan Jenko\nProstor: Lecture
  hall V/8
END:VEVENT
BEGIN:VEVENT
SUMMARY:Electrical engineering and electronics (ETEP)\, Lectures (P)
DTSTART;TZID=Europe/Ljubljana:20251209T093000
DTEND;TZID=Europe/Ljubljana:20251209T113000
DTSTAMP:20260420T175122Z
UID:fs-AFLABS-URNIK:srecanje:2175-2025-12-09 09:30:00+01:00
DESCRIPTION:Predmet: Electrical engineering and electronics (ETEP)\, Lectu
 res (P)\nLetniki: PAP-1 (PAP-1)\nIzvajalci: Marjan Jenko\nProstor: Lecture
  hall V/8
END:VEVENT
BEGIN:VEVENT
SUMMARY:Electrical engineering and electronics (ETEP)\, Lectures (P)
DTSTART;TZID=Europe/Ljubljana:20251216T093000
DTEND;TZID=Europe/Ljubljana:20251216T113000
DTSTAMP:20260420T175122Z
UID:fs-AFLABS-URNIK:srecanje:2175-2025-12-16 09:30:00+01:00
DESCRIPTION:Predmet: Electrical engineering and electronics (ETEP)\, Lectu
 res (P)\nLetniki: PAP-1 (PAP-1)\nIzvajalci: Marjan Jenko\nProstor: Lecture
  hall V/8
END:VEVENT
BEGIN:VEVENT
SUMMARY:Electrical engineering and electronics (ETEP)\, Lectures (P)
DTSTART;TZID=Europe/Ljubljana:20251223T093000
DTEND;TZID=Europe/Ljubljana:20251223T113000
DTSTAMP:20260420T175122Z
UID:fs-AFLABS-URNIK:srecanje:2175-2025-12-23 09:30:00+01:00
DESCRIPTION:Predmet: Electrical engineering and electronics (ETEP)\, Lectu
 res (P)\nLetniki: PAP-1 (PAP-1)\nIzvajalci: Marjan Jenko\nProstor: Lecture
  hall V/8
END:VEVENT
BEGIN:VEVENT
SUMMARY:Electrical engineering and electronics (ETEP)\, Lectures (P)
DTSTART;TZID=Europe/Ljubljana:20260106T093000
DTEND;TZID=Europe/Ljubljana:20260106T113000
DTSTAMP:20260420T175122Z
UID:fs-AFLABS-URNIK:srecanje:2175-2026-01-06 09:30:00+01:00
DESCRIPTION:Predmet: Electrical engineering and electronics (ETEP)\, Lectu
 res (P)\nLetniki: PAP-1 (PAP-1)\nIzvajalci: Marjan Jenko\nProstor: Lecture
  hall V/8
END:VEVENT
BEGIN:VEVENT
SUMMARY:Electrical engineering and electronics (ETEP)\, Lectures (P)
DTSTART;TZID=Europe/Ljubljana:20260113T093000
DTEND;TZID=Europe/Ljubljana:20260113T113000
DTSTAMP:20260420T175122Z
UID:fs-AFLABS-URNIK:srecanje:2175-2026-01-13 09:30:00+01:00
DESCRIPTION:Predmet: Electrical engineering and electronics (ETEP)\, Lectu
 res (P)\nLetniki: PAP-1 (PAP-1)\nIzvajalci: Marjan Jenko\nProstor: Lecture
  hall V/8
END:VEVENT
BEGIN:VEVENT
SUMMARY:ETEP kolokvij 2
DTSTART;TZID=Europe/Ljubljana:20260109T180000
DTEND;TZID=Europe/Ljubljana:20260109T200000
DTSTAMP:20260420T175122Z
UID:fs-AFLABS-URNIK:rezervacija:11114
ATTENDEE:PAP-1 (PAP-1)
CATEGORIES:Reservation
COLOR:royalblue
DESCRIPTION:Predmeti: Electrical engineering and electronics (ETEP)\nLetni
 ki: PAP-1 (PAP-1)\nIzvajalci: Marjan Jenko\, Tomaž Požrl\nProstori: Lect
 ure hall IV/4\, Lecture hall V/2\, Lecture hall V/8
LOCATION:Lecture hall IV/4\, Lecture hall V/2\, Lecture hall V/8
ORGANIZER:Marjan Jenko, Tomaž Požrl
X-WR-TIMEZONE:Europe/Ljubljana
END:VEVENT
BEGIN:VEVENT
SUMMARY:Izpit: Elektrotehnika in elektronika
DTSTART;TZID=Europe/Ljubljana:20260128T120000
DTEND;TZID=Europe/Ljubljana:20260128T140000
DTSTAMP:20260420T175122Z
UID:fs-AFLABS-URNIK:rezervacija:12359
ATTENDEE:PAP-1 (PAP-1)
CATEGORIES:Reservation
COLOR:royalblue
DESCRIPTION:Predmeti: Electrical engineering and electronics (ETEP)\nLetni
 ki: PAP-1 (PAP-1)\nIzvajalci: Marjan Jenko\nProstori: Lecture hall IV/4\, 
 Lecture hall V/2\, Lecture hall V/8
LOCATION:Lecture hall IV/4\, Lecture hall V/2\, Lecture hall V/8
ORGANIZER:Marjan Jenko
X-WR-TIMEZONE:Europe/Ljubljana
END:VEVENT
BEGIN:VEVENT
SUMMARY:Izpit: Elektrotehnika in elektronika
DTSTART;TZID=Europe/Ljubljana:20260128T120000
DTEND;TZID=Europe/Ljubljana:20260128T140000
DTSTAMP:20260420T175122Z
UID:fs-AFLABS-URNIK:rezervacija:12358
ATTENDEE:PAP-1 (PAP-1)
CATEGORIES:Reservation
COLOR:royalblue
DESCRIPTION:Predmeti: Electrical engineering and electronics (ETEP)\nLetni
 ki: PAP-1 (PAP-1)\nIzvajalci: Marjan Jenko\nProstori: Lecture hall IV/4\, 
 Lecture hall V/2\, Lecture hall V/8
LOCATION:Lecture hall IV/4\, Lecture hall V/2\, Lecture hall V/8
ORGANIZER:Marjan Jenko
X-WR-TIMEZONE:Europe/Ljubljana
END:VEVENT
BEGIN:VEVENT
SUMMARY:ETEP kolokvij 1
DTSTART;TZID=Europe/Ljubljana:20251124T183000
DTEND;TZID=Europe/Ljubljana:20251124T200000
DTSTAMP:20260420T175122Z
UID:fs-AFLABS-URNIK:rezervacija:11113
ATTENDEE:PAP-1 (PAP-1)
CATEGORIES:Reservation
COLOR:royalblue
DESCRIPTION:Predmeti: Electrical engineering and electronics (ETEP)\nLetni
 ki: PAP-1 (PAP-1)\nIzvajalci: Marjan Jenko\, Tomaž Požrl\nProstori: Lect
 ure hall IV/4\, Lecture hall V/2\, Lecture hall V/8
LOCATION:Lecture hall IV/4\, Lecture hall V/2\, Lecture hall V/8
ORGANIZER:Marjan Jenko, Tomaž Požrl
X-WR-TIMEZONE:Europe/Ljubljana
END:VEVENT
END:VCALENDAR
