BEGIN:VCALENDAR
VERSION:2.0
PRODID:-//AFLabs urnik izvoz - fs//aflabs.si//SI
NAME:UL FS Urnik
X-WR-CALNAME:UL FS Urnik
DTSTAMP:20260419T220609Z
REFRESH-INTERVAL:PT1H
SOURCE:https://urnik.fs.uni-lj.si/en/teacher/703/?day=2026-06-08&export=1
URL:https://urnik.fs.uni-lj.si/en/teacher/703/?day=2026-06-08&export=1
X-PUBLISHED-TTL:PT1H
X-WR-TIMEZONE:Europe/Ljubljana
BEGIN:VTIMEZONE
TZID:Europe/Ljubljana
BEGIN:DAYLIGHT
DTSTART:20260329T020000
RDATE:20260329T020000
RDATE:20270328T020000
TZNAME:CEST
TZOFFSETFROM:+0100
TZOFFSETTO:+0200
END:DAYLIGHT
BEGIN:STANDARD
DTSTART:20261025T030000
RDATE:20261025T030000
RDATE:20271031T030000
TZNAME:CET
TZOFFSETFROM:+0200
TZOFFSETTO:+0100
END:STANDARD
END:VTIMEZONE
BEGIN:VEVENT
SUMMARY:Izpit: Programiranje v mehatroniki
DTSTART;TZID=Europe/Ljubljana:20260617T080000
DTEND;TZID=Europe/Ljubljana:20260617T100000
DTSTAMP:20260419T220609Z
UID:fs-AFLABS-URNIK:rezervacija:11768
ATTENDEE:Mechatronics (PAP-2)
CATEGORIES:Reservation
COLOR:royalblue
DESCRIPTION:Predmeti: Programming for mechatronics (PVMP)\nLetniki: Mechat
 ronics (PAP-2)\nIzvajalci: Marjan Jenko\nProstori: Lecture hall II/5
LOCATION:Lecture hall II/5
ORGANIZER:Marjan Jenko
X-WR-TIMEZONE:Europe/Ljubljana
END:VEVENT
BEGIN:VEVENT
SUMMARY:Izpit: Elektrotehnika
DTSTART;TZID=Europe/Ljubljana:20260619T080000
DTEND;TZID=Europe/Ljubljana:20260619T100000
DTSTAMP:20260419T220609Z
UID:fs-AFLABS-URNIK:rezervacija:11913
ATTENDEE:RRP-1 (RRP-1)
CATEGORIES:Reservation
COLOR:royalblue
DESCRIPTION:Predmeti: Electrical engineering (ELTR)\nLetniki: RRP-1 (RRP-1
 )\nIzvajalci: Marjan Jenko\nProstori: Lecture hall V/8
LOCATION:Lecture hall V/8
ORGANIZER:Marjan Jenko
X-WR-TIMEZONE:Europe/Ljubljana
END:VEVENT
BEGIN:VEVENT
SUMMARY:Izpit: Elektrotehnika
DTSTART;TZID=Europe/Ljubljana:20260619T080000
DTEND;TZID=Europe/Ljubljana:20260619T100000
DTSTAMP:20260419T220609Z
UID:fs-AFLABS-URNIK:rezervacija:11914
ATTENDEE:RRP-1 (RRP-1)
CATEGORIES:Reservation
COLOR:royalblue
DESCRIPTION:Predmeti: Electrical engineering (ELTR)\nLetniki: RRP-1 (RRP-1
 )\nIzvajalci: Marjan Jenko\nProstori: Lecture hall V/8
LOCATION:Lecture hall V/8
ORGANIZER:Marjan Jenko
X-WR-TIMEZONE:Europe/Ljubljana
END:VEVENT
BEGIN:VEVENT
SUMMARY:Izpit: Programiranje v mehatroniki
DTSTART;TZID=Europe/Ljubljana:20260603T120000
DTEND;TZID=Europe/Ljubljana:20260603T140000
DTSTAMP:20260419T220609Z
UID:fs-AFLABS-URNIK:rezervacija:12494
ATTENDEE:Mechatronics (PAP-2)
CATEGORIES:Reservation
COLOR:royalblue
DESCRIPTION:Predmeti: Programming for mechatronics (PVMP)\nLetniki: Mechat
 ronics (PAP-2)\nIzvajalci: Marjan Jenko\nProstori: Lecture hall IV/2
LOCATION:Lecture hall IV/2
ORGANIZER:Marjan Jenko
X-WR-TIMEZONE:Europe/Ljubljana
END:VEVENT
BEGIN:VEVENT
SUMMARY:Izpit: Elektrotehnika
DTSTART;TZID=Europe/Ljubljana:20260605T080000
DTEND;TZID=Europe/Ljubljana:20260605T100000
DTSTAMP:20260419T220609Z
UID:fs-AFLABS-URNIK:rezervacija:12577
ATTENDEE:RRP-1 (RRP-1)
CATEGORIES:Reservation
COLOR:royalblue
DESCRIPTION:Predmeti: Electrical engineering (ELTR)\nLetniki: RRP-1 (RRP-1
 )\nIzvajalci: Marjan Jenko\nProstori: Lecture hall V/2\, Lecture hall V/8
LOCATION:Lecture hall V/2\, Lecture hall V/8
ORGANIZER:Marjan Jenko
X-WR-TIMEZONE:Europe/Ljubljana
END:VEVENT
BEGIN:VEVENT
SUMMARY:Izpit: Elektrotehnika
DTSTART;TZID=Europe/Ljubljana:20260605T080000
DTEND;TZID=Europe/Ljubljana:20260605T100000
DTSTAMP:20260419T220609Z
UID:fs-AFLABS-URNIK:rezervacija:12578
ATTENDEE:RRP-1 (RRP-1)
CATEGORIES:Reservation
COLOR:royalblue
DESCRIPTION:Predmeti: Electrical engineering (ELTR)\nLetniki: RRP-1 (RRP-1
 )\nIzvajalci: Marjan Jenko\nProstori: Lecture hall V/2\, Lecture hall V/8
LOCATION:Lecture hall V/2\, Lecture hall V/8
ORGANIZER:Marjan Jenko
X-WR-TIMEZONE:Europe/Ljubljana
END:VEVENT
BEGIN:VEVENT
SUMMARY:Izpit: Programiranje v mehatroniki
DTSTART;TZID=Europe/Ljubljana:20260617T080000
DTEND;TZID=Europe/Ljubljana:20260617T100000
DTSTAMP:20260419T220609Z
UID:fs-AFLABS-URNIK:rezervacija:12769
ATTENDEE:Mechatronics (PAP-2)
CATEGORIES:Reservation
COLOR:royalblue
DESCRIPTION:Predmeti: Programming for mechatronics (PVMP)\nLetniki: Mechat
 ronics (PAP-2)\nIzvajalci: Marjan Jenko\nProstori: Lecture hall II/5
LOCATION:Lecture hall II/5
ORGANIZER:Marjan Jenko
X-WR-TIMEZONE:Europe/Ljubljana
END:VEVENT
BEGIN:VEVENT
SUMMARY:Izpit: Programiranje v mehatroniki
DTSTART;TZID=Europe/Ljubljana:20260603T120000
DTEND;TZID=Europe/Ljubljana:20260603T140000
DTSTAMP:20260419T220609Z
UID:fs-AFLABS-URNIK:rezervacija:12771
ATTENDEE:Mechatronics (PAP-2)
CATEGORIES:Reservation
COLOR:royalblue
DESCRIPTION:Predmeti: Programming for mechatronics (PVMP)\nLetniki: Mechat
 ronics (PAP-2)\nIzvajalci: Marjan Jenko\nProstori: Lecture hall IV/2
LOCATION:Lecture hall IV/2
ORGANIZER:Marjan Jenko
X-WR-TIMEZONE:Europe/Ljubljana
END:VEVENT
END:VCALENDAR
