BEGIN:VCALENDAR
VERSION:2.0
PRODID:-//AFLabs urnik izvoz - fs//aflabs.si//SI
NAME:UL FS Urnik
X-WR-CALNAME:UL FS Urnik
DTSTAMP:20260422T212700Z
REFRESH-INTERVAL:PT1H
SOURCE:https://urnik.fs.uni-lj.si/en/teacher/706/?day=2024-02-05&export=1
URL:https://urnik.fs.uni-lj.si/en/teacher/706/?day=2024-02-05&export=1
X-PUBLISHED-TTL:PT1H
X-WR-TIMEZONE:Europe/Ljubljana
BEGIN:VTIMEZONE
TZID:Europe/Ljubljana
BEGIN:DAYLIGHT
DTSTART:20260329T020000
RDATE:20260329T020000
RDATE:20270328T020000
TZNAME:CEST
TZOFFSETFROM:+0100
TZOFFSETTO:+0200
END:DAYLIGHT
BEGIN:STANDARD
DTSTART:20261025T030000
RDATE:20261025T030000
RDATE:20271031T030000
TZNAME:CET
TZOFFSETFROM:+0200
TZOFFSETTO:+0100
END:STANDARD
END:VTIMEZONE
BEGIN:VEVENT
SUMMARY:Material handling equipment and systems (TSSP)\, Lectures (P)
DTSTART;TZID=Europe/Ljubljana:20240222T073000
DTEND;TZID=Europe/Ljubljana:20240222T093000
DTSTAMP:20260422T212700Z
UID:fs-AFLABS-URNIK:srecanje:3861-2024-02-22 07:30:00+01:00
DESCRIPTION:Predmet: Material handling equipment and systems (TSSP)\, Lect
 ures (P)\nLetniki: Design of machines and devices (PAP-2)\nIzvajalci: Bori
 s Jerman\nProstor: Lecture hall III/3A
END:VEVENT
BEGIN:VEVENT
SUMMARY:Material handling equipment and systems (TSSP)\, Lectures (P)
DTSTART;TZID=Europe/Ljubljana:20240229T073000
DTEND;TZID=Europe/Ljubljana:20240229T093000
DTSTAMP:20260422T212700Z
UID:fs-AFLABS-URNIK:srecanje:3861-2024-02-29 07:30:00+01:00
DESCRIPTION:Predmet: Material handling equipment and systems (TSSP)\, Lect
 ures (P)\nLetniki: Design of machines and devices (PAP-2)\nIzvajalci: Bori
 s Jerman\nProstor: Lecture hall III/3A
END:VEVENT
BEGIN:VEVENT
SUMMARY:Material handling equipment and systems (TSSP)\, Lectures (P)
DTSTART;TZID=Europe/Ljubljana:20240307T073000
DTEND;TZID=Europe/Ljubljana:20240307T093000
DTSTAMP:20260422T212700Z
UID:fs-AFLABS-URNIK:srecanje:3861-2024-03-07 07:30:00+01:00
DESCRIPTION:Predmet: Material handling equipment and systems (TSSP)\, Lect
 ures (P)\nLetniki: Design of machines and devices (PAP-2)\nIzvajalci: Bori
 s Jerman\nProstor: Lecture hall III/3A
END:VEVENT
BEGIN:VEVENT
SUMMARY:Izpit: Nosilne konstrukcije (3063)
DTSTART;TZID=Europe/Ljubljana:20240122T080000
DTEND;TZID=Europe/Ljubljana:20240122T100000
DTSTAMP:20260422T212700Z
UID:fs-AFLABS-URNIK:rezervacija:3555
CATEGORIES:Reservation
COLOR:royalblue
DESCRIPTION:Predmeti: \nLetniki: \nIzvajalci: Boris Jerman\nProstori: Lect
 ure hall II/2
LOCATION:Lecture hall II/2
ORGANIZER:Boris Jerman
X-WR-TIMEZONE:Europe/Ljubljana
END:VEVENT
BEGIN:VEVENT
SUMMARY:Izpit: Lahke konstrukcije
DTSTART;TZID=Europe/Ljubljana:20240130T100000
DTEND;TZID=Europe/Ljubljana:20240130T120000
DTSTAMP:20260422T212700Z
UID:fs-AFLABS-URNIK:rezervacija:3710
ATTENDEE:Engineering design (MAG-2)
CATEGORIES:Reservation
COLOR:royalblue
DESCRIPTION:Predmeti: Lightweight structures (LKNM)\nLetniki: Engineering 
 design (MAG-2)\nIzvajalci: Boris Jerman\nProstori: Lecture hall IV/2
LOCATION:Lecture hall IV/2
ORGANIZER:Boris Jerman
X-WR-TIMEZONE:Europe/Ljubljana
END:VEVENT
BEGIN:VEVENT
SUMMARY:Izpit: Varnost strojev in naprav
DTSTART;TZID=Europe/Ljubljana:20240131T080000
DTEND;TZID=Europe/Ljubljana:20240131T100000
DTSTAMP:20260422T212700Z
UID:fs-AFLABS-URNIK:rezervacija:3730
ATTENDEE:Design of industrial systems (PAP-3)
CATEGORIES:Reservation
COLOR:royalblue
DESCRIPTION:Predmeti: Safety of Machinery and Equipment (VSNP)\nLetniki: D
 esign of industrial systems (PAP-3)\nIzvajalci: Boris Jerman\nProstori: Le
 cture hall IV/2
LOCATION:Lecture hall IV/2
ORGANIZER:Boris Jerman
X-WR-TIMEZONE:Europe/Ljubljana
END:VEVENT
BEGIN:VEVENT
SUMMARY:Izpit: Tehnična logistika II (6258)
DTSTART;TZID=Europe/Ljubljana:20240202T080000
DTEND;TZID=Europe/Ljubljana:20240202T100000
DTSTAMP:20260422T212700Z
UID:fs-AFLABS-URNIK:rezervacija:3784
CATEGORIES:Reservation
COLOR:royalblue
DESCRIPTION:Predmeti: \nLetniki: \nIzvajalci: Boris Jerman\nProstori: Lect
 ure hall II/5
LOCATION:Lecture hall II/5
ORGANIZER:Boris Jerman
X-WR-TIMEZONE:Europe/Ljubljana
END:VEVENT
BEGIN:VEVENT
SUMMARY:Izpit: Intralogistika II (6227)
DTSTART;TZID=Europe/Ljubljana:20240212T080000
DTEND;TZID=Europe/Ljubljana:20240212T100000
DTSTAMP:20260422T212700Z
UID:fs-AFLABS-URNIK:rezervacija:3898
CATEGORIES:Reservation
COLOR:royalblue
DESCRIPTION:Predmeti: \nLetniki: \nIzvajalci: Boris Jerman\nProstori: Lect
 ure hall III/3A
LOCATION:Lecture hall III/3A
ORGANIZER:Boris Jerman
X-WR-TIMEZONE:Europe/Ljubljana
END:VEVENT
BEGIN:VEVENT
SUMMARY:Izpit: Optimiranje nosilnih konstrukcij (6100)
DTSTART;TZID=Europe/Ljubljana:20240213T120000
DTEND;TZID=Europe/Ljubljana:20240213T140000
DTSTAMP:20260422T212700Z
UID:fs-AFLABS-URNIK:rezervacija:3940
CATEGORIES:Reservation
COLOR:royalblue
DESCRIPTION:Predmeti: \nLetniki: \nIzvajalci: Boris Jerman\nProstori: Lect
 ure hall IV/2
LOCATION:Lecture hall IV/2
ORGANIZER:Boris Jerman
X-WR-TIMEZONE:Europe/Ljubljana
END:VEVENT
BEGIN:VEVENT
SUMMARY:Izpit: Intralogistika I (3126)
DTSTART;TZID=Europe/Ljubljana:20240214T080000
DTEND;TZID=Europe/Ljubljana:20240214T100000
DTSTAMP:20260422T212700Z
UID:fs-AFLABS-URNIK:rezervacija:3954
CATEGORIES:Reservation
COLOR:royalblue
DESCRIPTION:Predmeti: \nLetniki: \nIzvajalci: Boris Jerman\nProstori: Lect
 ure hall IV/2
LOCATION:Lecture hall IV/2
ORGANIZER:Boris Jerman
X-WR-TIMEZONE:Europe/Ljubljana
END:VEVENT
BEGIN:VEVENT
SUMMARY:Izpit: Tehnična logistika I (3120)
DTSTART;TZID=Europe/Ljubljana:20240214T080000
DTEND;TZID=Europe/Ljubljana:20240214T100000
DTSTAMP:20260422T212700Z
UID:fs-AFLABS-URNIK:rezervacija:3955
CATEGORIES:Reservation
COLOR:royalblue
DESCRIPTION:Predmeti: \nLetniki: \nIzvajalci: Boris Jerman\nProstori: Lect
 ure hall IV/2
LOCATION:Lecture hall IV/2
ORGANIZER:Boris Jerman
X-WR-TIMEZONE:Europe/Ljubljana
END:VEVENT
BEGIN:VEVENT
SUMMARY:Izpit: Tehniška varnost (3130)
DTSTART;TZID=Europe/Ljubljana:20240214T080000
DTEND;TZID=Europe/Ljubljana:20240214T100000
DTSTAMP:20260422T212700Z
UID:fs-AFLABS-URNIK:rezervacija:3956
CATEGORIES:Reservation
COLOR:royalblue
DESCRIPTION:Predmeti: \nLetniki: \nIzvajalci: Boris Jerman\nProstori: Lect
 ure hall IV/2
LOCATION:Lecture hall IV/2
ORGANIZER:Boris Jerman
X-WR-TIMEZONE:Europe/Ljubljana
END:VEVENT
BEGIN:VEVENT
SUMMARY:Izpit: Varnost strojev in naprav
DTSTART;TZID=Europe/Ljubljana:20240214T080000
DTEND;TZID=Europe/Ljubljana:20240214T100000
DTSTAMP:20260422T212700Z
UID:fs-AFLABS-URNIK:rezervacija:3957
ATTENDEE:Design of industrial systems (PAP-3)
CATEGORIES:Reservation
COLOR:royalblue
DESCRIPTION:Predmeti: Safety of Machinery and Equipment (VSNP)\nLetniki: D
 esign of industrial systems (PAP-3)\nIzvajalci: Boris Jerman\nProstori: Le
 cture hall IV/2
LOCATION:Lecture hall IV/2
ORGANIZER:Boris Jerman
X-WR-TIMEZONE:Europe/Ljubljana
END:VEVENT
BEGIN:VEVENT
SUMMARY:Izpit: Varjene konstrukcije (3116)
DTSTART;TZID=Europe/Ljubljana:20240214T080000
DTEND;TZID=Europe/Ljubljana:20240214T100000
DTSTAMP:20260422T212700Z
UID:fs-AFLABS-URNIK:rezervacija:3958
CATEGORIES:Reservation
COLOR:royalblue
DESCRIPTION:Predmeti: \nLetniki: \nIzvajalci: Boris Jerman\nProstori: Lect
 ure hall IV/2
LOCATION:Lecture hall IV/2
ORGANIZER:Boris Jerman
X-WR-TIMEZONE:Europe/Ljubljana
END:VEVENT
BEGIN:VEVENT
SUMMARY:Izpit: Lahke konstrukcije
DTSTART;TZID=Europe/Ljubljana:20240213T120000
DTEND;TZID=Europe/Ljubljana:20240213T140000
DTSTAMP:20260422T212700Z
UID:fs-AFLABS-URNIK:rezervacija:3990
ATTENDEE:Engineering design (MAG-2)
CATEGORIES:Reservation
COLOR:royalblue
DESCRIPTION:Predmeti: Lightweight structures (LKNM)\nLetniki: Engineering 
 design (MAG-2)\nIzvajalci: Boris Jerman\nProstori: Lecture hall IV/2
LOCATION:Lecture hall IV/2
ORGANIZER:Boris Jerman
X-WR-TIMEZONE:Europe/Ljubljana
END:VEVENT
END:VCALENDAR
