BEGIN:VCALENDAR
VERSION:2.0
PRODID:-//AFLabs urnik izvoz - fs//aflabs.si//SI
NAME:UL FS Urnik
X-WR-CALNAME:UL FS Urnik
DTSTAMP:20260419T202432Z
REFRESH-INTERVAL:PT1H
SOURCE:https://urnik.fs.uni-lj.si/en/teacher/706/?day=2024-04-29&export=1
URL:https://urnik.fs.uni-lj.si/en/teacher/706/?day=2024-04-29&export=1
X-PUBLISHED-TTL:PT1H
X-WR-TIMEZONE:Europe/Ljubljana
BEGIN:VTIMEZONE
TZID:Europe/Ljubljana
BEGIN:DAYLIGHT
DTSTART:20260329T020000
RDATE:20260329T020000
RDATE:20270328T020000
TZNAME:CEST
TZOFFSETFROM:+0100
TZOFFSETTO:+0200
END:DAYLIGHT
BEGIN:STANDARD
DTSTART:20261025T030000
RDATE:20261025T030000
RDATE:20271031T030000
TZNAME:CET
TZOFFSETFROM:+0200
TZOFFSETTO:+0100
END:STANDARD
END:VTIMEZONE
BEGIN:VEVENT
SUMMARY:Material handling equipment and systems (TSSP)\, Lectures (P)
DTSTART;TZID=Europe/Ljubljana:20240222T073000
DTEND;TZID=Europe/Ljubljana:20240222T093000
DTSTAMP:20260419T202432Z
UID:fs-AFLABS-URNIK:srecanje:3861-2024-02-22 07:30:00+01:00
DESCRIPTION:Predmet: Material handling equipment and systems (TSSP)\, Lect
 ures (P)\nLetniki: Design of machines and devices (PAP-2)\nIzvajalci: Bori
 s Jerman\nProstor: Lecture hall III/3A
END:VEVENT
BEGIN:VEVENT
SUMMARY:Material handling equipment and systems (TSSP)\, Lectures (P)
DTSTART;TZID=Europe/Ljubljana:20240229T073000
DTEND;TZID=Europe/Ljubljana:20240229T093000
DTSTAMP:20260419T202432Z
UID:fs-AFLABS-URNIK:srecanje:3861-2024-02-29 07:30:00+01:00
DESCRIPTION:Predmet: Material handling equipment and systems (TSSP)\, Lect
 ures (P)\nLetniki: Design of machines and devices (PAP-2)\nIzvajalci: Bori
 s Jerman\nProstor: Lecture hall III/3A
END:VEVENT
BEGIN:VEVENT
SUMMARY:Material handling equipment and systems (TSSP)\, Lectures (P)
DTSTART;TZID=Europe/Ljubljana:20240307T073000
DTEND;TZID=Europe/Ljubljana:20240307T093000
DTSTAMP:20260419T202432Z
UID:fs-AFLABS-URNIK:srecanje:3861-2024-03-07 07:30:00+01:00
DESCRIPTION:Predmet: Material handling equipment and systems (TSSP)\, Lect
 ures (P)\nLetniki: Design of machines and devices (PAP-2)\nIzvajalci: Bori
 s Jerman\nProstor: Lecture hall III/3A
END:VEVENT
BEGIN:VEVENT
SUMMARY:Material handling equipment and systems (TSSP)\, Lectures (P)
DTSTART;TZID=Europe/Ljubljana:20240314T073000
DTEND;TZID=Europe/Ljubljana:20240314T093000
DTSTAMP:20260419T202432Z
UID:fs-AFLABS-URNIK:srecanje:3861-2024-03-14 07:30:00+01:00
DESCRIPTION:Predmet: Material handling equipment and systems (TSSP)\, Lect
 ures (P)\nLetniki: Design of machines and devices (PAP-2)\nIzvajalci: Bori
 s Jerman\nProstor: Lecture hall III/3A
END:VEVENT
BEGIN:VEVENT
SUMMARY:Material handling equipment and systems (TSSP)\, Lectures (P)
DTSTART;TZID=Europe/Ljubljana:20240321T073000
DTEND;TZID=Europe/Ljubljana:20240321T093000
DTSTAMP:20260419T202432Z
UID:fs-AFLABS-URNIK:srecanje:3861-2024-03-21 07:30:00+01:00
DESCRIPTION:Predmet: Material handling equipment and systems (TSSP)\, Lect
 ures (P)\nLetniki: Design of machines and devices (PAP-2)\nIzvajalci: Bori
 s Jerman\nProstor: Lecture hall III/3A
END:VEVENT
BEGIN:VEVENT
SUMMARY:Material handling equipment and systems (TSSP)\, Lectures (P)
DTSTART;TZID=Europe/Ljubljana:20240328T073000
DTEND;TZID=Europe/Ljubljana:20240328T093000
DTSTAMP:20260419T202432Z
UID:fs-AFLABS-URNIK:srecanje:3861-2024-03-28 07:30:00+01:00
DESCRIPTION:Predmet: Material handling equipment and systems (TSSP)\, Lect
 ures (P)\nLetniki: Design of machines and devices (PAP-2)\nIzvajalci: Bori
 s Jerman\nProstor: Lecture hall III/3A
END:VEVENT
BEGIN:VEVENT
SUMMARY:Material handling equipment and systems (TSSP)\, Lectures (P)
DTSTART;TZID=Europe/Ljubljana:20240404T073000
DTEND;TZID=Europe/Ljubljana:20240404T093000
DTSTAMP:20260419T202432Z
UID:fs-AFLABS-URNIK:srecanje:3861-2024-04-04 07:30:00+02:00
DESCRIPTION:Predmet: Material handling equipment and systems (TSSP)\, Lect
 ures (P)\nLetniki: Design of machines and devices (PAP-2)\nIzvajalci: Bori
 s Jerman\nProstor: Lecture hall III/3A
END:VEVENT
BEGIN:VEVENT
SUMMARY:Material handling equipment and systems (TSSP)\, Lectures (P)
DTSTART;TZID=Europe/Ljubljana:20240411T073000
DTEND;TZID=Europe/Ljubljana:20240411T093000
DTSTAMP:20260419T202432Z
UID:fs-AFLABS-URNIK:srecanje:3861-2024-04-11 07:30:00+02:00
DESCRIPTION:Predmet: Material handling equipment and systems (TSSP)\, Lect
 ures (P)\nLetniki: Design of machines and devices (PAP-2)\nIzvajalci: Bori
 s Jerman\nProstor: Lecture hall III/3A
END:VEVENT
BEGIN:VEVENT
SUMMARY:Material handling equipment and systems (TSSP)\, Lectures (P)
DTSTART;TZID=Europe/Ljubljana:20240418T073000
DTEND;TZID=Europe/Ljubljana:20240418T093000
DTSTAMP:20260419T202432Z
UID:fs-AFLABS-URNIK:srecanje:3861-2024-04-18 07:30:00+02:00
DESCRIPTION:Predmet: Material handling equipment and systems (TSSP)\, Lect
 ures (P)\nLetniki: Design of machines and devices (PAP-2)\nIzvajalci: Bori
 s Jerman\nProstor: Lecture hall III/3A
END:VEVENT
BEGIN:VEVENT
SUMMARY:Material handling equipment and systems (TSSP)\, Lectures (P)
DTSTART;TZID=Europe/Ljubljana:20240425T073000
DTEND;TZID=Europe/Ljubljana:20240425T093000
DTSTAMP:20260419T202432Z
UID:fs-AFLABS-URNIK:srecanje:3861-2024-04-25 07:30:00+02:00
DESCRIPTION:Predmet: Material handling equipment and systems (TSSP)\, Lect
 ures (P)\nLetniki: Design of machines and devices (PAP-2)\nIzvajalci: Bori
 s Jerman\nProstor: Lecture hall III/3A
END:VEVENT
BEGIN:VEVENT
SUMMARY:Material handling equipment and systems (TSSP)\, Lectures (P)
DTSTART;TZID=Europe/Ljubljana:20240502T073000
DTEND;TZID=Europe/Ljubljana:20240502T093000
DTSTAMP:20260419T202432Z
UID:fs-AFLABS-URNIK:srecanje:3861-2024-05-02 07:30:00+02:00
DESCRIPTION:Predmet: Material handling equipment and systems (TSSP)\, Lect
 ures (P)\nLetniki: Design of machines and devices (PAP-2)\nIzvajalci: Bori
 s Jerman\nProstor: Lecture hall III/3A
END:VEVENT
BEGIN:VEVENT
SUMMARY:Material handling equipment and systems (TSSP)\, Lectures (P)
DTSTART;TZID=Europe/Ljubljana:20240509T073000
DTEND;TZID=Europe/Ljubljana:20240509T093000
DTSTAMP:20260419T202432Z
UID:fs-AFLABS-URNIK:srecanje:3861-2024-05-09 07:30:00+02:00
DESCRIPTION:Predmet: Material handling equipment and systems (TSSP)\, Lect
 ures (P)\nLetniki: Design of machines and devices (PAP-2)\nIzvajalci: Bori
 s Jerman\nProstor: Lecture hall III/3A
END:VEVENT
BEGIN:VEVENT
SUMMARY:Material handling equipment and systems (TSSP)\, Lectures (P)
DTSTART;TZID=Europe/Ljubljana:20240516T073000
DTEND;TZID=Europe/Ljubljana:20240516T093000
DTSTAMP:20260419T202432Z
UID:fs-AFLABS-URNIK:srecanje:3861-2024-05-16 07:30:00+02:00
DESCRIPTION:Predmet: Material handling equipment and systems (TSSP)\, Lect
 ures (P)\nLetniki: Design of machines and devices (PAP-2)\nIzvajalci: Bori
 s Jerman\nProstor: Lecture hall III/3A
END:VEVENT
BEGIN:VEVENT
SUMMARY:Material handling equipment and systems (TSSP)\, Lectures (P)
DTSTART;TZID=Europe/Ljubljana:20240523T073000
DTEND;TZID=Europe/Ljubljana:20240523T093000
DTSTAMP:20260419T202432Z
UID:fs-AFLABS-URNIK:srecanje:3861-2024-05-23 07:30:00+02:00
DESCRIPTION:Predmet: Material handling equipment and systems (TSSP)\, Lect
 ures (P)\nLetniki: Design of machines and devices (PAP-2)\nIzvajalci: Bori
 s Jerman\nProstor: Lecture hall III/3A
END:VEVENT
BEGIN:VEVENT
SUMMARY:Material handling equipment and systems (TSSP)\, Lectures (P)
DTSTART;TZID=Europe/Ljubljana:20240530T073000
DTEND;TZID=Europe/Ljubljana:20240530T093000
DTSTAMP:20260419T202432Z
UID:fs-AFLABS-URNIK:srecanje:3861-2024-05-30 07:30:00+02:00
DESCRIPTION:Predmet: Material handling equipment and systems (TSSP)\, Lect
 ures (P)\nLetniki: Design of machines and devices (PAP-2)\nIzvajalci: Bori
 s Jerman\nProstor: Lecture hall III/3A
END:VEVENT
END:VCALENDAR
