BEGIN:VCALENDAR
VERSION:2.0
PRODID:-//AFLabs urnik izvoz - fs//aflabs.si//SI
NAME:UL FS Urnik
X-WR-CALNAME:UL FS Urnik
DTSTAMP:20260420T043416Z
REFRESH-INTERVAL:PT1H
SOURCE:https://urnik.fs.uni-lj.si/en/teacher/706/?day=2025-06-30&export=1
URL:https://urnik.fs.uni-lj.si/en/teacher/706/?day=2025-06-30&export=1
X-PUBLISHED-TTL:PT1H
X-WR-TIMEZONE:Europe/Ljubljana
BEGIN:VTIMEZONE
TZID:Europe/Ljubljana
BEGIN:DAYLIGHT
DTSTART:20260329T020000
RDATE:20260329T020000
RDATE:20270328T020000
TZNAME:CEST
TZOFFSETFROM:+0100
TZOFFSETTO:+0200
END:DAYLIGHT
BEGIN:STANDARD
DTSTART:20261025T030000
RDATE:20261025T030000
RDATE:20271031T030000
TZNAME:CET
TZOFFSETFROM:+0200
TZOFFSETTO:+0100
END:STANDARD
END:VTIMEZONE
BEGIN:VEVENT
SUMMARY:Material handling equipment and systems (TSSP)\, Lectures (P)
DTSTART;TZID=Europe/Ljubljana:20250529T073000
DTEND;TZID=Europe/Ljubljana:20250529T093000
DTSTAMP:20260420T043416Z
UID:fs-AFLABS-URNIK:srecanje:10160-2025-05-29 07:30:00+02:00
DESCRIPTION:Predmet: Material handling equipment and systems (TSSP)\, Lect
 ures (P)\nLetniki: Design of machines and devices (PAP-2)\nIzvajalci: Bori
 s Jerman\nProstor: Lecture hall III/3A
END:VEVENT
BEGIN:VEVENT
SUMMARY:Izpit: Intralogistika I (3126)
DTSTART;TZID=Europe/Ljubljana:20250605T080000
DTEND;TZID=Europe/Ljubljana:20250605T100000
DTSTAMP:20260420T043416Z
UID:fs-AFLABS-URNIK:rezervacija:6695
CATEGORIES:Reservation
COLOR:royalblue
DESCRIPTION:Predmeti: \nLetniki: \nIzvajalci: Boris Jerman\nProstori: Lect
 ure hall V/8
LOCATION:Lecture hall V/8
ORGANIZER:Boris Jerman
X-WR-TIMEZONE:Europe/Ljubljana
END:VEVENT
BEGIN:VEVENT
SUMMARY:Izpit: Intralogistika II (6227)
DTSTART;TZID=Europe/Ljubljana:20250611T080000
DTEND;TZID=Europe/Ljubljana:20250611T100000
DTSTAMP:20260420T043416Z
UID:fs-AFLABS-URNIK:rezervacija:6698
CATEGORIES:Reservation
COLOR:royalblue
DESCRIPTION:Predmeti: \nLetniki: \nIzvajalci: Boris Jerman\nProstori: Lect
 ure hall III/3B
LOCATION:Lecture hall III/3B
ORGANIZER:Boris Jerman
X-WR-TIMEZONE:Europe/Ljubljana
END:VEVENT
BEGIN:VEVENT
SUMMARY:Izpit: Lahke konstrukcije (6032-M) [dve oceni]
DTSTART;TZID=Europe/Ljubljana:20250627T100000
DTEND;TZID=Europe/Ljubljana:20250627T120000
DTSTAMP:20260420T043416Z
UID:fs-AFLABS-URNIK:rezervacija:6825
CATEGORIES:Reservation
COLOR:royalblue
DESCRIPTION:Predmeti: \nLetniki: \nIzvajalci: Boris Jerman\nProstori: Lect
 ure hall III/4
LOCATION:Lecture hall III/4
ORGANIZER:Boris Jerman
X-WR-TIMEZONE:Europe/Ljubljana
END:VEVENT
BEGIN:VEVENT
SUMMARY:Izpit: Nosilne konstrukcije (3063)
DTSTART;TZID=Europe/Ljubljana:20250603T100000
DTEND;TZID=Europe/Ljubljana:20250603T120000
DTSTAMP:20260420T043416Z
UID:fs-AFLABS-URNIK:rezervacija:7183
CATEGORIES:Reservation
COLOR:royalblue
DESCRIPTION:Predmeti: \nLetniki: \nIzvajalci: Boris Jerman\nProstori: Lect
 ure hall IV/3B
LOCATION:Lecture hall IV/3B
ORGANIZER:Boris Jerman
X-WR-TIMEZONE:Europe/Ljubljana
END:VEVENT
BEGIN:VEVENT
SUMMARY:Izpit: Optimiranje nosilnih konstrukcij (6100)
DTSTART;TZID=Europe/Ljubljana:20250626T080000
DTEND;TZID=Europe/Ljubljana:20250626T100000
DTSTAMP:20260420T043416Z
UID:fs-AFLABS-URNIK:rezervacija:7257
CATEGORIES:Reservation
COLOR:royalblue
DESCRIPTION:Predmeti: \nLetniki: \nIzvajalci: Boris Jerman\nProstori: Lect
 ure hall IV/3B
LOCATION:Lecture hall IV/3B
ORGANIZER:Boris Jerman
X-WR-TIMEZONE:Europe/Ljubljana
END:VEVENT
BEGIN:VEVENT
SUMMARY:Izpit: Tehnična logistika I (3120)
DTSTART;TZID=Europe/Ljubljana:20250605T080000
DTEND;TZID=Europe/Ljubljana:20250605T100000
DTSTAMP:20260420T043416Z
UID:fs-AFLABS-URNIK:rezervacija:7614
CATEGORIES:Reservation
COLOR:royalblue
DESCRIPTION:Predmeti: \nLetniki: \nIzvajalci: Boris Jerman\nProstori: Lect
 ure hall V/8
LOCATION:Lecture hall V/8
ORGANIZER:Boris Jerman
X-WR-TIMEZONE:Europe/Ljubljana
END:VEVENT
BEGIN:VEVENT
SUMMARY:Izpit: Tehniška varnost (3130)
DTSTART;TZID=Europe/Ljubljana:20250605T080000
DTEND;TZID=Europe/Ljubljana:20250605T100000
DTSTAMP:20260420T043416Z
UID:fs-AFLABS-URNIK:rezervacija:7651
CATEGORIES:Reservation
COLOR:royalblue
DESCRIPTION:Predmeti: \nLetniki: \nIzvajalci: Boris Jerman\nProstori: Lect
 ure hall V/8
LOCATION:Lecture hall V/8
ORGANIZER:Boris Jerman
X-WR-TIMEZONE:Europe/Ljubljana
END:VEVENT
BEGIN:VEVENT
SUMMARY:Izpit: Transportna sredstva in sistemi (3050-V) [dve oceni]
DTSTART;TZID=Europe/Ljubljana:20250609T100000
DTEND;TZID=Europe/Ljubljana:20250609T120000
DTSTAMP:20260420T043416Z
UID:fs-AFLABS-URNIK:rezervacija:7731
CATEGORIES:Reservation
COLOR:royalblue
DESCRIPTION:Predmeti: \nLetniki: \nIzvajalci: Boris Jerman\nProstori: Lect
 ure hall III/4
LOCATION:Lecture hall III/4
ORGANIZER:Boris Jerman
X-WR-TIMEZONE:Europe/Ljubljana
END:VEVENT
BEGIN:VEVENT
SUMMARY:Izpit: Transportna sredstva in sistemi (3050-V) [dve oceni]
DTSTART;TZID=Europe/Ljubljana:20250623T120000
DTEND;TZID=Europe/Ljubljana:20250623T140000
DTSTAMP:20260420T043416Z
UID:fs-AFLABS-URNIK:rezervacija:7732
CATEGORIES:Reservation
COLOR:royalblue
DESCRIPTION:Predmeti: \nLetniki: \nIzvajalci: Boris Jerman\nProstori: Lect
 ure hall III/4
LOCATION:Lecture hall III/4
ORGANIZER:Boris Jerman
X-WR-TIMEZONE:Europe/Ljubljana
END:VEVENT
BEGIN:VEVENT
SUMMARY:Izpit: Varjene konstrukcije (3116)
DTSTART;TZID=Europe/Ljubljana:20250605T080000
DTEND;TZID=Europe/Ljubljana:20250605T100000
DTSTAMP:20260420T043416Z
UID:fs-AFLABS-URNIK:rezervacija:7775
CATEGORIES:Reservation
COLOR:royalblue
DESCRIPTION:Predmeti: \nLetniki: \nIzvajalci: Boris Jerman\nProstori: Lect
 ure hall V/8
LOCATION:Lecture hall V/8
ORGANIZER:Boris Jerman
X-WR-TIMEZONE:Europe/Ljubljana
END:VEVENT
BEGIN:VEVENT
SUMMARY:Izpit: Varnost strojev in naprav (3055-V) [dve oceni]
DTSTART;TZID=Europe/Ljubljana:20250605T080000
DTEND;TZID=Europe/Ljubljana:20250605T100000
DTSTAMP:20260420T043416Z
UID:fs-AFLABS-URNIK:rezervacija:7779
CATEGORIES:Reservation
COLOR:royalblue
DESCRIPTION:Predmeti: \nLetniki: \nIzvajalci: Boris Jerman\nProstori: Lect
 ure hall V/8
LOCATION:Lecture hall V/8
ORGANIZER:Boris Jerman
X-WR-TIMEZONE:Europe/Ljubljana
END:VEVENT
END:VCALENDAR
