BEGIN:VCALENDAR
VERSION:2.0
PRODID:-//AFLabs urnik izvoz - fs//aflabs.si//SI
NAME:UL FS Urnik
X-WR-CALNAME:UL FS Urnik
DTSTAMP:20260426T022024Z
REFRESH-INTERVAL:PT1H
SOURCE:https://urnik.fs.uni-lj.si/en/teacher/708/?day=2026-02-02&export=1
URL:https://urnik.fs.uni-lj.si/en/teacher/708/?day=2026-02-02&export=1
X-PUBLISHED-TTL:PT1H
X-WR-TIMEZONE:Europe/Ljubljana
BEGIN:VTIMEZONE
TZID:Europe/Ljubljana
BEGIN:DAYLIGHT
DTSTART:20260329T020000
RDATE:20260329T020000
RDATE:20270328T020000
TZNAME:CEST
TZOFFSETFROM:+0100
TZOFFSETTO:+0200
END:DAYLIGHT
BEGIN:STANDARD
DTSTART:20261025T030000
RDATE:20261025T030000
RDATE:20271031T030000
TZNAME:CET
TZOFFSETFROM:+0200
TZOFFSETTO:+0100
END:STANDARD
END:VTIMEZONE
BEGIN:VEVENT
SUMMARY:Control and statistical supervision in manufacturing (KSNP)\, Labo
 ratory excercises (VL)\, [S1]
DTSTART;TZID=Europe/Ljubljana:20260216T113000
DTEND;TZID=Europe/Ljubljana:20260216T133000
DTSTAMP:20260426T022024Z
UID:fs-AFLABS-URNIK:srecanje:17086-2026-02-16 11:30:00+01:00
DESCRIPTION:Predmet: Control and statistical supervision in manufacturing 
 (KSNP)\, Laboratory excercises (VL)\, [S1]\nLetniki: Production engineerin
 g (PAP-2)\nIzvajalci: Andrej Jeromen\, Luka Selak\nProstor: Laboratory LAM
 PA SP-45
END:VEVENT
BEGIN:VEVENT
SUMMARY:Control and statistical supervision in manufacturing (KSNP)\, Labo
 ratory excercises (VL)\, [S1]
DTSTART;TZID=Europe/Ljubljana:20260302T113000
DTEND;TZID=Europe/Ljubljana:20260302T133000
DTSTAMP:20260426T022024Z
UID:fs-AFLABS-URNIK:srecanje:17086-2026-03-02 11:30:00+01:00
DESCRIPTION:Predmet: Control and statistical supervision in manufacturing 
 (KSNP)\, Laboratory excercises (VL)\, [S1]\nLetniki: Production engineerin
 g (PAP-2)\nIzvajalci: Andrej Jeromen\, Luka Selak\nProstor: Laboratory LAM
 PA SP-45
END:VEVENT
BEGIN:VEVENT
SUMMARY:Control and statistical supervision in manufacturing (KSNP)\, Labo
 ratory excercises (VL)\, [S2]
DTSTART;TZID=Europe/Ljubljana:20260216T133000
DTEND;TZID=Europe/Ljubljana:20260216T153000
DTSTAMP:20260426T022024Z
UID:fs-AFLABS-URNIK:srecanje:17088-2026-02-16 13:30:00+01:00
DESCRIPTION:Predmet: Control and statistical supervision in manufacturing 
 (KSNP)\, Laboratory excercises (VL)\, [S2]\nLetniki: Production engineerin
 g (PAP-2)\nIzvajalci: Andrej Jeromen\, Luka Selak\nProstor: Laboratory LAM
 PA SP-45
END:VEVENT
BEGIN:VEVENT
SUMMARY:Control and statistical supervision in manufacturing (KSNP)\, Labo
 ratory excercises (VL)\, [S2]
DTSTART;TZID=Europe/Ljubljana:20260302T133000
DTEND;TZID=Europe/Ljubljana:20260302T153000
DTSTAMP:20260426T022024Z
UID:fs-AFLABS-URNIK:srecanje:17088-2026-03-02 13:30:00+01:00
DESCRIPTION:Predmet: Control and statistical supervision in manufacturing 
 (KSNP)\, Laboratory excercises (VL)\, [S2]\nLetniki: Production engineerin
 g (PAP-2)\nIzvajalci: Andrej Jeromen\, Luka Selak\nProstor: Laboratory LAM
 PA SP-45
END:VEVENT
BEGIN:VEVENT
SUMMARY:Data processing and validation (OVPR)\, Lecture exercises (VP)\, [
 S1\, S2\, S3\, S4]
DTSTART;TZID=Europe/Ljubljana:20260217T100000
DTEND;TZID=Europe/Ljubljana:20260217T120000
DTSTAMP:20260426T022024Z
UID:fs-AFLABS-URNIK:srecanje:16325-2026-02-17 10:00:00+01:00
DESCRIPTION:Predmet: Data processing and validation (OVPR)\, Lecture exerc
 ises (VP)\, [S1\, S2\, S3\, S4]\nLetniki: RRP-3 (RRP-3)\nIzvajalci: Andrej
  Jeromen\nProstor: Lecture hall V/2
END:VEVENT
BEGIN:VEVENT
SUMMARY:Data processing and validation (OVPR)\, Lecture exercises (VP)\, [
 S1\, S2\, S3\, S4]
DTSTART;TZID=Europe/Ljubljana:20260224T100000
DTEND;TZID=Europe/Ljubljana:20260224T120000
DTSTAMP:20260426T022024Z
UID:fs-AFLABS-URNIK:srecanje:16325-2026-02-24 10:00:00+01:00
DESCRIPTION:Predmet: Data processing and validation (OVPR)\, Lecture exerc
 ises (VP)\, [S1\, S2\, S3\, S4]\nLetniki: RRP-3 (RRP-3)\nIzvajalci: Andrej
  Jeromen\nProstor: Lecture hall V/2
END:VEVENT
BEGIN:VEVENT
SUMMARY:Data processing and validation (OVPR)\, Lecture exercises (VP)\, [
 S1\, S2\, S3\, S4]
DTSTART;TZID=Europe/Ljubljana:20260303T100000
DTEND;TZID=Europe/Ljubljana:20260303T120000
DTSTAMP:20260426T022024Z
UID:fs-AFLABS-URNIK:srecanje:16325-2026-03-03 10:00:00+01:00
DESCRIPTION:Predmet: Data processing and validation (OVPR)\, Lecture exerc
 ises (VP)\, [S1\, S2\, S3\, S4]\nLetniki: RRP-3 (RRP-3)\nIzvajalci: Andrej
  Jeromen\nProstor: Lecture hall V/2
END:VEVENT
BEGIN:VEVENT
SUMMARY:Control and statistical supervision in manufacturing (KSNP)\, Labo
 ratory excercises (VL)\, [S3]
DTSTART;TZID=Europe/Ljubljana:20260218T113000
DTEND;TZID=Europe/Ljubljana:20260218T133000
DTSTAMP:20260426T022024Z
UID:fs-AFLABS-URNIK:srecanje:17089-2026-02-18 11:30:00+01:00
DESCRIPTION:Predmet: Control and statistical supervision in manufacturing 
 (KSNP)\, Laboratory excercises (VL)\, [S3]\nLetniki: Production engineerin
 g (PAP-2)\nIzvajalci: Andrej Jeromen\, Luka Selak\nProstor: Laboratory LAM
 PA SP-45
END:VEVENT
BEGIN:VEVENT
SUMMARY:Control and statistical supervision in manufacturing (KSNP)\, Labo
 ratory excercises (VL)\, [S3]
DTSTART;TZID=Europe/Ljubljana:20260304T113000
DTEND;TZID=Europe/Ljubljana:20260304T133000
DTSTAMP:20260426T022024Z
UID:fs-AFLABS-URNIK:srecanje:17089-2026-03-04 11:30:00+01:00
DESCRIPTION:Predmet: Control and statistical supervision in manufacturing 
 (KSNP)\, Laboratory excercises (VL)\, [S3]\nLetniki: Production engineerin
 g (PAP-2)\nIzvajalci: Andrej Jeromen\, Luka Selak\nProstor: Laboratory LAM
 PA SP-45
END:VEVENT
BEGIN:VEVENT
SUMMARY:Control and statistical supervision in manufacturing (KSNP)\, Lect
 ure exercises (VP)\, [S1]
DTSTART;TZID=Europe/Ljubljana:20260220T073000
DTEND;TZID=Europe/Ljubljana:20260220T093000
DTSTAMP:20260426T022024Z
UID:fs-AFLABS-URNIK:srecanje:16445-2026-02-20 07:30:00+01:00
DESCRIPTION:Predmet: Control and statistical supervision in manufacturing 
 (KSNP)\, Lecture exercises (VP)\, [S1]\nLetniki: Production engineering (P
 AP-2)\nIzvajalci: Andrej Jeromen\, Luka Selak\nProstor: Lecture hall III/3
 B
END:VEVENT
BEGIN:VEVENT
SUMMARY:Control and statistical supervision in manufacturing (KSNP)\, Lect
 ure exercises (VP)\, [S1]
DTSTART;TZID=Europe/Ljubljana:20260227T073000
DTEND;TZID=Europe/Ljubljana:20260227T093000
DTSTAMP:20260426T022024Z
UID:fs-AFLABS-URNIK:srecanje:16445-2026-02-27 07:30:00+01:00
DESCRIPTION:Predmet: Control and statistical supervision in manufacturing 
 (KSNP)\, Lecture exercises (VP)\, [S1]\nLetniki: Production engineering (P
 AP-2)\nIzvajalci: Andrej Jeromen\, Luka Selak\nProstor: Lecture hall III/3
 B
END:VEVENT
BEGIN:VEVENT
SUMMARY:Control and statistical supervision in manufacturing (KSNP)\, Labo
 ratory excercises (VL)\, [S4]
DTSTART;TZID=Europe/Ljubljana:20260220T073000
DTEND;TZID=Europe/Ljubljana:20260220T093000
DTSTAMP:20260426T022024Z
UID:fs-AFLABS-URNIK:srecanje:17091-2026-02-20 07:30:00+01:00
DESCRIPTION:Predmet: Control and statistical supervision in manufacturing 
 (KSNP)\, Laboratory excercises (VL)\, [S4]\nLetniki: Production engineerin
 g (PAP-2)\nIzvajalci: Andrej Jeromen\, Luka Selak\nProstor: Laboratory LAM
 PA SP-45
END:VEVENT
BEGIN:VEVENT
SUMMARY:Control and statistical supervision in manufacturing (KSNP)\, Labo
 ratory excercises (VL)\, [S4]
DTSTART;TZID=Europe/Ljubljana:20260306T073000
DTEND;TZID=Europe/Ljubljana:20260306T093000
DTSTAMP:20260426T022024Z
UID:fs-AFLABS-URNIK:srecanje:17091-2026-03-06 07:30:00+01:00
DESCRIPTION:Predmet: Control and statistical supervision in manufacturing 
 (KSNP)\, Laboratory excercises (VL)\, [S4]\nLetniki: Production engineerin
 g (PAP-2)\nIzvajalci: Andrej Jeromen\, Luka Selak\nProstor: Laboratory LAM
 PA SP-45
END:VEVENT
BEGIN:VEVENT
SUMMARY:Sestanek projekta BIOAD
DTSTART;TZID=Europe/Ljubljana:20260121T093000
DTEND;TZID=Europe/Ljubljana:20260121T113000
DTSTAMP:20260426T022024Z
UID:fs-AFLABS-URNIK:rezervacija:13535
CATEGORIES:Reservation
COLOR:royalblue
DESCRIPTION:Predmeti: \nLetniki: \nIzvajalci: Andrej Jeromen\nProstori: Co
 nference room
LOCATION:Conference room
ORGANIZER:Andrej Jeromen
X-WR-TIMEZONE:Europe/Ljubljana
END:VEVENT
BEGIN:VEVENT
SUMMARY:Naključni pojavi - izredni izpitni rok
DTSTART;TZID=Europe/Ljubljana:20260304T100000
DTEND;TZID=Europe/Ljubljana:20260304T130000
DTSTAMP:20260426T022024Z
UID:fs-AFLABS-URNIK:rezervacija:13663
CATEGORIES:Reservation
COLOR:royalblue
DESCRIPTION:Predmeti: \nLetniki: \nIzvajalci: Andrej Jeromen\nProstori: Le
 cture hall IV/3B
LOCATION:Lecture hall IV/3B
ORGANIZER:Andrej Jeromen
X-WR-TIMEZONE:Europe/Ljubljana
END:VEVENT
END:VCALENDAR
