BEGIN:VCALENDAR
VERSION:2.0
PRODID:-//AFLabs urnik izvoz - fs//aflabs.si//SI
NAME:UL FS Urnik
X-WR-CALNAME:UL FS Urnik
DTSTAMP:20260421T051112Z
REFRESH-INTERVAL:PT1H
SOURCE:https://urnik.fs.uni-lj.si/en/teacher/709/?day=2024-04-29&export=1
URL:https://urnik.fs.uni-lj.si/en/teacher/709/?day=2024-04-29&export=1
X-PUBLISHED-TTL:PT1H
X-WR-TIMEZONE:Europe/Ljubljana
BEGIN:VTIMEZONE
TZID:Europe/Ljubljana
BEGIN:DAYLIGHT
DTSTART:20260329T020000
RDATE:20260329T020000
RDATE:20270328T020000
TZNAME:CEST
TZOFFSETFROM:+0100
TZOFFSETTO:+0200
END:DAYLIGHT
BEGIN:STANDARD
DTSTART:20261025T030000
RDATE:20261025T030000
RDATE:20271031T030000
TZNAME:CET
TZOFFSETFROM:+0200
TZOFFSETTO:+0100
END:STANDARD
END:VTIMEZONE
BEGIN:VEVENT
SUMMARY:Laser systems (LSSM)\, Lectures (P)
DTSTART;TZID=Europe/Ljubljana:20240219T080000
DTEND;TZID=Europe/Ljubljana:20240219T100000
DTSTAMP:20260421T051112Z
UID:fs-AFLABS-URNIK:srecanje:3697-2024-02-19 08:00:00+01:00
DESCRIPTION:Predmet: Laser systems (LSSM)\, Lectures (P)\nLetniki: Mechatr
 onics and laser technology (MAG-1)\nIzvajalci: Matija Jezeršek\nProstor: 
 Lecture hall III/4
END:VEVENT
BEGIN:VEVENT
SUMMARY:Laser systems (LSSM)\, Lectures (P)
DTSTART;TZID=Europe/Ljubljana:20240226T080000
DTEND;TZID=Europe/Ljubljana:20240226T100000
DTSTAMP:20260421T051112Z
UID:fs-AFLABS-URNIK:srecanje:3697-2024-02-26 08:00:00+01:00
DESCRIPTION:Predmet: Laser systems (LSSM)\, Lectures (P)\nLetniki: Mechatr
 onics and laser technology (MAG-1)\nIzvajalci: Matija Jezeršek\nProstor: 
 Lecture hall III/4
END:VEVENT
BEGIN:VEVENT
SUMMARY:Laser systems (LSSM)\, Lectures (P)
DTSTART;TZID=Europe/Ljubljana:20240304T080000
DTEND;TZID=Europe/Ljubljana:20240304T100000
DTSTAMP:20260421T051112Z
UID:fs-AFLABS-URNIK:srecanje:3697-2024-03-04 08:00:00+01:00
DESCRIPTION:Predmet: Laser systems (LSSM)\, Lectures (P)\nLetniki: Mechatr
 onics and laser technology (MAG-1)\nIzvajalci: Matija Jezeršek\nProstor: 
 Lecture hall III/4
END:VEVENT
BEGIN:VEVENT
SUMMARY:Laser systems (LSSM)\, Lectures (P)
DTSTART;TZID=Europe/Ljubljana:20240311T080000
DTEND;TZID=Europe/Ljubljana:20240311T100000
DTSTAMP:20260421T051112Z
UID:fs-AFLABS-URNIK:srecanje:3697-2024-03-11 08:00:00+01:00
DESCRIPTION:Predmet: Laser systems (LSSM)\, Lectures (P)\nLetniki: Mechatr
 onics and laser technology (MAG-1)\nIzvajalci: Matija Jezeršek\nProstor: 
 Lecture hall III/4
END:VEVENT
BEGIN:VEVENT
SUMMARY:Laser systems (LSSM)\, Lectures (P)
DTSTART;TZID=Europe/Ljubljana:20240318T080000
DTEND;TZID=Europe/Ljubljana:20240318T100000
DTSTAMP:20260421T051112Z
UID:fs-AFLABS-URNIK:srecanje:3697-2024-03-18 08:00:00+01:00
DESCRIPTION:Predmet: Laser systems (LSSM)\, Lectures (P)\nLetniki: Mechatr
 onics and laser technology (MAG-1)\nIzvajalci: Matija Jezeršek\nProstor: 
 Lecture hall III/4
END:VEVENT
BEGIN:VEVENT
SUMMARY:Laser systems (LSSM)\, Lectures (P)
DTSTART;TZID=Europe/Ljubljana:20240325T080000
DTEND;TZID=Europe/Ljubljana:20240325T100000
DTSTAMP:20260421T051112Z
UID:fs-AFLABS-URNIK:srecanje:3697-2024-03-25 08:00:00+01:00
DESCRIPTION:Predmet: Laser systems (LSSM)\, Lectures (P)\nLetniki: Mechatr
 onics and laser technology (MAG-1)\nIzvajalci: Matija Jezeršek\nProstor: 
 Lecture hall III/4
END:VEVENT
BEGIN:VEVENT
SUMMARY:Laser systems (LSSM)\, Lectures (P)
DTSTART;TZID=Europe/Ljubljana:20240401T080000
DTEND;TZID=Europe/Ljubljana:20240401T100000
DTSTAMP:20260421T051112Z
UID:fs-AFLABS-URNIK:srecanje:3697-2024-04-01 08:00:00+02:00
DESCRIPTION:Predmet: Laser systems (LSSM)\, Lectures (P)\nLetniki: Mechatr
 onics and laser technology (MAG-1)\nIzvajalci: Matija Jezeršek\nProstor: 
 Lecture hall III/4
END:VEVENT
BEGIN:VEVENT
SUMMARY:Laser systems (LSSM)\, Lectures (P)
DTSTART;TZID=Europe/Ljubljana:20240408T080000
DTEND;TZID=Europe/Ljubljana:20240408T100000
DTSTAMP:20260421T051112Z
UID:fs-AFLABS-URNIK:srecanje:3697-2024-04-08 08:00:00+02:00
DESCRIPTION:Predmet: Laser systems (LSSM)\, Lectures (P)\nLetniki: Mechatr
 onics and laser technology (MAG-1)\nIzvajalci: Matija Jezeršek\nProstor: 
 Lecture hall III/4
END:VEVENT
BEGIN:VEVENT
SUMMARY:Laser systems (LSSM)\, Lectures (P)
DTSTART;TZID=Europe/Ljubljana:20240415T080000
DTEND;TZID=Europe/Ljubljana:20240415T100000
DTSTAMP:20260421T051112Z
UID:fs-AFLABS-URNIK:srecanje:3697-2024-04-15 08:00:00+02:00
DESCRIPTION:Predmet: Laser systems (LSSM)\, Lectures (P)\nLetniki: Mechatr
 onics and laser technology (MAG-1)\nIzvajalci: Matija Jezeršek\nProstor: 
 Lecture hall III/4
END:VEVENT
BEGIN:VEVENT
SUMMARY:Laser systems (LSSM)\, Lectures (P)
DTSTART;TZID=Europe/Ljubljana:20240422T080000
DTEND;TZID=Europe/Ljubljana:20240422T100000
DTSTAMP:20260421T051112Z
UID:fs-AFLABS-URNIK:srecanje:3697-2024-04-22 08:00:00+02:00
DESCRIPTION:Predmet: Laser systems (LSSM)\, Lectures (P)\nLetniki: Mechatr
 onics and laser technology (MAG-1)\nIzvajalci: Matija Jezeršek\nProstor: 
 Lecture hall III/4
END:VEVENT
BEGIN:VEVENT
SUMMARY:Laser systems (LSSM)\, Lectures (P)
DTSTART;TZID=Europe/Ljubljana:20240429T080000
DTEND;TZID=Europe/Ljubljana:20240429T100000
DTSTAMP:20260421T051112Z
UID:fs-AFLABS-URNIK:srecanje:3697-2024-04-29 08:00:00+02:00
DESCRIPTION:Predmet: Laser systems (LSSM)\, Lectures (P)\nLetniki: Mechatr
 onics and laser technology (MAG-1)\nIzvajalci: Matija Jezeršek\nProstor: 
 Lecture hall III/4
END:VEVENT
BEGIN:VEVENT
SUMMARY:Laser systems (LSSM)\, Lectures (P)
DTSTART;TZID=Europe/Ljubljana:20240506T080000
DTEND;TZID=Europe/Ljubljana:20240506T100000
DTSTAMP:20260421T051112Z
UID:fs-AFLABS-URNIK:srecanje:3697-2024-05-06 08:00:00+02:00
DESCRIPTION:Predmet: Laser systems (LSSM)\, Lectures (P)\nLetniki: Mechatr
 onics and laser technology (MAG-1)\nIzvajalci: Matija Jezeršek\nProstor: 
 Lecture hall III/4
END:VEVENT
BEGIN:VEVENT
SUMMARY:Laser systems (LSSM)\, Lectures (P)
DTSTART;TZID=Europe/Ljubljana:20240513T080000
DTEND;TZID=Europe/Ljubljana:20240513T100000
DTSTAMP:20260421T051112Z
UID:fs-AFLABS-URNIK:srecanje:3697-2024-05-13 08:00:00+02:00
DESCRIPTION:Predmet: Laser systems (LSSM)\, Lectures (P)\nLetniki: Mechatr
 onics and laser technology (MAG-1)\nIzvajalci: Matija Jezeršek\nProstor: 
 Lecture hall III/4
END:VEVENT
BEGIN:VEVENT
SUMMARY:Laser systems (LSSM)\, Lectures (P)
DTSTART;TZID=Europe/Ljubljana:20240520T080000
DTEND;TZID=Europe/Ljubljana:20240520T100000
DTSTAMP:20260421T051112Z
UID:fs-AFLABS-URNIK:srecanje:3697-2024-05-20 08:00:00+02:00
DESCRIPTION:Predmet: Laser systems (LSSM)\, Lectures (P)\nLetniki: Mechatr
 onics and laser technology (MAG-1)\nIzvajalci: Matija Jezeršek\nProstor: 
 Lecture hall III/4
END:VEVENT
BEGIN:VEVENT
SUMMARY:Laser systems (LSSM)\, Lectures (P)
DTSTART;TZID=Europe/Ljubljana:20240527T080000
DTEND;TZID=Europe/Ljubljana:20240527T100000
DTSTAMP:20260421T051112Z
UID:fs-AFLABS-URNIK:srecanje:3697-2024-05-27 08:00:00+02:00
DESCRIPTION:Predmet: Laser systems (LSSM)\, Lectures (P)\nLetniki: Mechatr
 onics and laser technology (MAG-1)\nIzvajalci: Matija Jezeršek\nProstor: 
 Lecture hall III/4
END:VEVENT
BEGIN:VEVENT
SUMMARY:Mechatronics and laser technologies (MLTR)\, Lectures (P)
DTSTART;TZID=Europe/Ljubljana:20240221T073000
DTEND;TZID=Europe/Ljubljana:20240221T100000
DTSTAMP:20260421T051112Z
UID:fs-AFLABS-URNIK:srecanje:8046-2024-02-21 07:30:00+01:00
DESCRIPTION:Predmet: Mechatronics and laser technologies (MLTR)\, Lectures
  (P)\nLetniki: RRP-3 (RRP-3)\nIzvajalci: Matija Jezeršek\, Rok Vrabič\nP
 rostor: Lecture hall IV/4
END:VEVENT
BEGIN:VEVENT
SUMMARY:Mechatronics and laser technologies (MLTR)\, Lectures (P)
DTSTART;TZID=Europe/Ljubljana:20240228T073000
DTEND;TZID=Europe/Ljubljana:20240228T100000
DTSTAMP:20260421T051112Z
UID:fs-AFLABS-URNIK:srecanje:8046-2024-02-28 07:30:00+01:00
DESCRIPTION:Predmet: Mechatronics and laser technologies (MLTR)\, Lectures
  (P)\nLetniki: RRP-3 (RRP-3)\nIzvajalci: Matija Jezeršek\, Rok Vrabič\nP
 rostor: Lecture hall IV/4
END:VEVENT
BEGIN:VEVENT
SUMMARY:Mechatronics and laser technologies (MLTR)\, Lectures (P)
DTSTART;TZID=Europe/Ljubljana:20240306T073000
DTEND;TZID=Europe/Ljubljana:20240306T100000
DTSTAMP:20260421T051112Z
UID:fs-AFLABS-URNIK:srecanje:8046-2024-03-06 07:30:00+01:00
DESCRIPTION:Predmet: Mechatronics and laser technologies (MLTR)\, Lectures
  (P)\nLetniki: RRP-3 (RRP-3)\nIzvajalci: Matija Jezeršek\, Rok Vrabič\nP
 rostor: Lecture hall IV/4
END:VEVENT
BEGIN:VEVENT
SUMMARY:Mechatronics and laser technologies (MLTR)\, Lectures (P)
DTSTART;TZID=Europe/Ljubljana:20240313T073000
DTEND;TZID=Europe/Ljubljana:20240313T100000
DTSTAMP:20260421T051112Z
UID:fs-AFLABS-URNIK:srecanje:8046-2024-03-13 07:30:00+01:00
DESCRIPTION:Predmet: Mechatronics and laser technologies (MLTR)\, Lectures
  (P)\nLetniki: RRP-3 (RRP-3)\nIzvajalci: Matija Jezeršek\, Rok Vrabič\nP
 rostor: Lecture hall IV/4
END:VEVENT
BEGIN:VEVENT
SUMMARY:Mechatronics and laser technologies (MLTR)\, Lectures (P)
DTSTART;TZID=Europe/Ljubljana:20240320T073000
DTEND;TZID=Europe/Ljubljana:20240320T100000
DTSTAMP:20260421T051112Z
UID:fs-AFLABS-URNIK:srecanje:8046-2024-03-20 07:30:00+01:00
DESCRIPTION:Predmet: Mechatronics and laser technologies (MLTR)\, Lectures
  (P)\nLetniki: RRP-3 (RRP-3)\nIzvajalci: Matija Jezeršek\, Rok Vrabič\nP
 rostor: Lecture hall IV/4
END:VEVENT
BEGIN:VEVENT
SUMMARY:Mechatronics and laser technologies (MLTR)\, Lectures (P)
DTSTART;TZID=Europe/Ljubljana:20240327T073000
DTEND;TZID=Europe/Ljubljana:20240327T100000
DTSTAMP:20260421T051112Z
UID:fs-AFLABS-URNIK:srecanje:8046-2024-03-27 07:30:00+01:00
DESCRIPTION:Predmet: Mechatronics and laser technologies (MLTR)\, Lectures
  (P)\nLetniki: RRP-3 (RRP-3)\nIzvajalci: Matija Jezeršek\, Rok Vrabič\nP
 rostor: Lecture hall IV/4
END:VEVENT
BEGIN:VEVENT
SUMMARY:Mechatronics and laser technologies (MLTR)\, Lectures (P)
DTSTART;TZID=Europe/Ljubljana:20240403T073000
DTEND;TZID=Europe/Ljubljana:20240403T100000
DTSTAMP:20260421T051112Z
UID:fs-AFLABS-URNIK:srecanje:8046-2024-04-03 07:30:00+02:00
DESCRIPTION:Predmet: Mechatronics and laser technologies (MLTR)\, Lectures
  (P)\nLetniki: RRP-3 (RRP-3)\nIzvajalci: Matija Jezeršek\, Rok Vrabič\nP
 rostor: Lecture hall IV/4
END:VEVENT
BEGIN:VEVENT
SUMMARY:Mechatronics and laser technologies (MLTR)\, Lectures (P)
DTSTART;TZID=Europe/Ljubljana:20240410T073000
DTEND;TZID=Europe/Ljubljana:20240410T100000
DTSTAMP:20260421T051112Z
UID:fs-AFLABS-URNIK:srecanje:8046-2024-04-10 07:30:00+02:00
DESCRIPTION:Predmet: Mechatronics and laser technologies (MLTR)\, Lectures
  (P)\nLetniki: RRP-3 (RRP-3)\nIzvajalci: Matija Jezeršek\, Rok Vrabič\nP
 rostor: Lecture hall IV/4
END:VEVENT
BEGIN:VEVENT
SUMMARY:Mechatronics and laser technologies (MLTR)\, Lectures (P)
DTSTART;TZID=Europe/Ljubljana:20240417T073000
DTEND;TZID=Europe/Ljubljana:20240417T100000
DTSTAMP:20260421T051112Z
UID:fs-AFLABS-URNIK:srecanje:8046-2024-04-17 07:30:00+02:00
DESCRIPTION:Predmet: Mechatronics and laser technologies (MLTR)\, Lectures
  (P)\nLetniki: RRP-3 (RRP-3)\nIzvajalci: Matija Jezeršek\, Rok Vrabič\nP
 rostor: Lecture hall IV/4
END:VEVENT
BEGIN:VEVENT
SUMMARY:Mechatronics and laser technologies (MLTR)\, Lectures (P)
DTSTART;TZID=Europe/Ljubljana:20240424T073000
DTEND;TZID=Europe/Ljubljana:20240424T100000
DTSTAMP:20260421T051112Z
UID:fs-AFLABS-URNIK:srecanje:8046-2024-04-24 07:30:00+02:00
DESCRIPTION:Predmet: Mechatronics and laser technologies (MLTR)\, Lectures
  (P)\nLetniki: RRP-3 (RRP-3)\nIzvajalci: Matija Jezeršek\, Rok Vrabič\nP
 rostor: Lecture hall IV/4
END:VEVENT
BEGIN:VEVENT
SUMMARY:Mechatronics and laser technologies (MLTR)\, Lectures (P)
DTSTART;TZID=Europe/Ljubljana:20240501T073000
DTEND;TZID=Europe/Ljubljana:20240501T100000
DTSTAMP:20260421T051112Z
UID:fs-AFLABS-URNIK:srecanje:8046-2024-05-01 07:30:00+02:00
DESCRIPTION:Predmet: Mechatronics and laser technologies (MLTR)\, Lectures
  (P)\nLetniki: RRP-3 (RRP-3)\nIzvajalci: Matija Jezeršek\, Rok Vrabič\nP
 rostor: Lecture hall IV/4
END:VEVENT
BEGIN:VEVENT
SUMMARY:Mechatronics and laser technologies (MLTR)\, Lectures (P)
DTSTART;TZID=Europe/Ljubljana:20240508T073000
DTEND;TZID=Europe/Ljubljana:20240508T100000
DTSTAMP:20260421T051112Z
UID:fs-AFLABS-URNIK:srecanje:9324-2024-05-08 07:30:00+02:00
DESCRIPTION:Predmet: Mechatronics and laser technologies (MLTR)\, Lectures
  (P)\nLetniki: RRP-3 (RRP-3)\nIzvajalci: Matija Jezeršek\, Rok Vrabič\nP
 rostor: Lecture hall IV/4
END:VEVENT
BEGIN:VEVENT
SUMMARY:Mechatronics and laser technologies (MLTR)\, Lectures (P)
DTSTART;TZID=Europe/Ljubljana:20240515T073000
DTEND;TZID=Europe/Ljubljana:20240515T100000
DTSTAMP:20260421T051112Z
UID:fs-AFLABS-URNIK:srecanje:9324-2024-05-15 07:30:00+02:00
DESCRIPTION:Predmet: Mechatronics and laser technologies (MLTR)\, Lectures
  (P)\nLetniki: RRP-3 (RRP-3)\nIzvajalci: Matija Jezeršek\, Rok Vrabič\nP
 rostor: Lecture hall IV/4
END:VEVENT
BEGIN:VEVENT
SUMMARY:Mechatronics and laser technologies (MLTR)\, Lectures (P)
DTSTART;TZID=Europe/Ljubljana:20240522T073000
DTEND;TZID=Europe/Ljubljana:20240522T100000
DTSTAMP:20260421T051112Z
UID:fs-AFLABS-URNIK:srecanje:9324-2024-05-22 07:30:00+02:00
DESCRIPTION:Predmet: Mechatronics and laser technologies (MLTR)\, Lectures
  (P)\nLetniki: RRP-3 (RRP-3)\nIzvajalci: Matija Jezeršek\, Rok Vrabič\nP
 rostor: Lecture hall IV/4
END:VEVENT
BEGIN:VEVENT
SUMMARY:Mechatronics and laser technologies (MLTR)\, Lectures (P)
DTSTART;TZID=Europe/Ljubljana:20240529T073000
DTEND;TZID=Europe/Ljubljana:20240529T100000
DTSTAMP:20260421T051112Z
UID:fs-AFLABS-URNIK:srecanje:9324-2024-05-29 07:30:00+02:00
DESCRIPTION:Predmet: Mechatronics and laser technologies (MLTR)\, Lectures
  (P)\nLetniki: RRP-3 (RRP-3)\nIzvajalci: Matija Jezeršek\, Rok Vrabič\nP
 rostor: Lecture hall IV/4
END:VEVENT
BEGIN:VEVENT
SUMMARY:Mehatronika in laserske tehnologije - kolokvij
DTSTART;TZID=Europe/Ljubljana:20240424T160000
DTEND;TZID=Europe/Ljubljana:20240424T180000
DTSTAMP:20260421T051112Z
UID:fs-AFLABS-URNIK:rezervacija:4458
ATTENDEE:RRP-3 (RRP-3)
CATEGORIES:Reservation
COLOR:royalblue
DESCRIPTION:Predmeti: Mechatronics and laser technologies (MLTR)\nLetniki:
  RRP-3 (RRP-3)\nIzvajalci: Matija Jezeršek\, Rok Vrabič\nProstori: Lectu
 re hall III/2\, Lecture hall III/4
LOCATION:Lecture hall III/2\, Lecture hall III/4
ORGANIZER:Matija Jezeršek, Rok Vrabič
X-WR-TIMEZONE:Europe/Ljubljana
END:VEVENT
BEGIN:VEVENT
SUMMARY:Mehatronika in laserske tehnologije - kolokvij
DTSTART;TZID=Europe/Ljubljana:20240531T170000
DTEND;TZID=Europe/Ljubljana:20240531T190000
DTSTAMP:20260421T051112Z
UID:fs-AFLABS-URNIK:rezervacija:4459
ATTENDEE:RRP-3 (RRP-3)
CATEGORIES:Reservation
COLOR:royalblue
DESCRIPTION:Predmeti: Mechatronics and laser technologies (MLTR)\nLetniki:
  RRP-3 (RRP-3)\nIzvajalci: Matija Jezeršek\, Rok Vrabič\nProstori: Lectu
 re hall III/2\, Lecture hall III/4
LOCATION:Lecture hall III/2\, Lecture hall III/4
ORGANIZER:Matija Jezeršek, Rok Vrabič
X-WR-TIMEZONE:Europe/Ljubljana
END:VEVENT
BEGIN:VEVENT
SUMMARY:sestanek Yaskawa LASTEH
DTSTART;TZID=Europe/Ljubljana:20240314T140000
DTEND;TZID=Europe/Ljubljana:20240314T153000
DTSTAMP:20260421T051112Z
UID:fs-AFLABS-URNIK:rezervacija:4615
CATEGORIES:Reservation
COLOR:royalblue
DESCRIPTION:Predmeti: \nLetniki: \nIzvajalci: Matija Jezeršek\nProstori: 
 Conference room
LOCATION:Conference room
ORGANIZER:Matija Jezeršek
X-WR-TIMEZONE:Europe/Ljubljana
END:VEVENT
BEGIN:VEVENT
SUMMARY:LSSM - avditorna vaja
DTSTART;TZID=Europe/Ljubljana:20240322T140000
DTEND;TZID=Europe/Ljubljana:20240322T160000
DTSTAMP:20260421T051112Z
UID:fs-AFLABS-URNIK:rezervacija:4632
ATTENDEE:Mechatronics and laser technology (MAG-1)
CATEGORIES:Reservation
COLOR:royalblue
DESCRIPTION:Predmeti: Laser systems (LSSM)\nLetniki: Mechatronics and lase
 r technology (MAG-1)\nIzvajalci: Matija Jezeršek\nProstori: Lecture hall 
 III/4
LOCATION:Lecture hall III/4
ORGANIZER:Matija Jezeršek
X-WR-TIMEZONE:Europe/Ljubljana
END:VEVENT
BEGIN:VEVENT
SUMMARY:Sestanek LASTEH - IskraISD
DTSTART;TZID=Europe/Ljubljana:20240327T110000
DTEND;TZID=Europe/Ljubljana:20240327T120000
DTSTAMP:20260421T051112Z
UID:fs-AFLABS-URNIK:rezervacija:4689
CATEGORIES:Reservation
COLOR:royalblue
DESCRIPTION:Predmeti: \nLetniki: \nIzvajalci: Matija Jezeršek\nProstori: 
 Conference room
LOCATION:Conference room
ORGANIZER:Matija Jezeršek
X-WR-TIMEZONE:Europe/Ljubljana
END:VEVENT
END:VCALENDAR
